BEGIN:VCALENDAR
VERSION:2.0
PRODID:IEEE vTools.Events//EN
CALSCALE:GREGORIAN
BEGIN:VTIMEZONE
TZID:Asia/Calcutta
BEGIN:STANDARD
DTSTART:19451014T230000
TZOFFSETFROM:+0630
TZOFFSETTO:+0530
TZNAME:IST
END:STANDARD
END:VTIMEZONE
BEGIN:VEVENT
DTSTAMP:20220221T051732Z
UID:D6AE0AF6-4028-4BEF-BCA4-45636AB5417B
DTSTART;TZID=Asia/Calcutta:20220219T093000
DTEND;TZID=Asia/Calcutta:20220220T152500
DESCRIPTION:Title: Fundamentals of Deep Learning\nDates: 19-20 February\, 2
 021\nTime: 10:00 AM - 2:00 PM\nBefore applying the students are required t
 o go through a quick checklist below:\nhttps://developer.nvidia.com/dli/ge
 tready\n\nContents: https://www.nvidia.com/en-us/training/instructor-led-w
 orkshops/fundamentals-of-deep-learning/\nRegistration Link: https://forms.
 gle/TPbmWSYr52T25CUEA\n\nRegistration Fees: NIL\n\nCo-sponsored by: NVIDIA
  Deep Learning Institute\n\nSpeaker(s): Dr. Pratik Shah\, \n\nGandhinagar\
 , Gujarat\, India\, Virtual: https://events.vtools.ieee.org/m/305351
LOCATION:Gandhinagar\, Gujarat\, India\, Virtual: https://events.vtools.iee
 e.org/m/305351
ORGANIZER:pratik@iiitvadodara.ac.in
SEQUENCE:1
SUMMARY:A Two Day Workshop on Fundamentals of Deep Learning
URL;VALUE=URI:https://events.vtools.ieee.org/m/305351
X-ALT-DESC:Description: &lt;br /&gt;&lt;div&gt;&lt;strong&gt;Title:&lt;/strong&gt;&amp;nbsp\;Fundamenta
 ls of Deep Learning&lt;/div&gt;\n&lt;div&gt;&lt;strong&gt;Dates:&lt;/strong&gt;&amp;nbsp\;19-20 Februa
 ry\, 2021&lt;/div&gt;\n&lt;div&gt;&lt;strong&gt;Time:&lt;/strong&gt;&amp;nbsp\;10:00 AM - 2:00 PM&lt;/div
 &gt;\n&lt;div&gt;&lt;u&gt;Before applying the students are required to go through a quick
  checklist below:&lt;/u&gt;&lt;/div&gt;\n&lt;div&gt;&lt;a href=&quot;https://developer.nvidia.com/dl
 i/getready&quot; target=&quot;_blank&quot; rel=&quot;noopener&quot; data-saferedirecturl=&quot;https://w
 ww.google.com/url?q=https://developer.nvidia.com/dli/getready&amp;amp\;source=
 gmail&amp;amp\;ust=1645250207525000&amp;amp\;usg=AOvVaw30TcarduJBw40jY75nhFpI&quot;&gt;htt
 ps://developer.nvidia.com/&lt;wbr /&gt;dli/getready&lt;/a&gt;&lt;strong&gt;&lt;br /&gt;&lt;/strong&gt;&lt;/
 div&gt;\n&lt;div&gt;&lt;strong&gt;Contents:&lt;/strong&gt;&amp;nbsp\;&lt;a href=&quot;https://www.nvidia.co
 m/en-us/training/instructor-led-workshops/fundamentals-of-deep-learning/&quot; 
 target=&quot;_blank&quot; rel=&quot;noopener&quot; data-saferedirecturl=&quot;https://www.google.co
 m/url?q=https://www.nvidia.com/en-us/training/instructor-led-workshops/fun
 damentals-of-deep-learning/&amp;amp\;source=gmail&amp;amp\;ust=1645250207525000&amp;am
 p\;usg=AOvVaw0iqMgruPzY3Xvr8mdlBn1v&quot;&gt;https://www.nvidia.&lt;wbr /&gt;com/en-us/t
 raining/instructor-&lt;wbr /&gt;led-workshops/fundamentals-of-&lt;wbr /&gt;deep-learni
 ng/&lt;/a&gt;&lt;/div&gt;\n&lt;div&gt;&lt;strong&gt;Registration Link:&lt;/strong&gt;&amp;nbsp\;&lt;a href=&quot;htt
 ps://forms.gle/TPbmWSYr52T25CUEA&quot; target=&quot;_blank&quot; rel=&quot;noopener&quot; data-safe
 redirecturl=&quot;https://www.google.com/url?q=https://forms.gle/TPbmWSYr52T25C
 UEA&amp;amp\;source=gmail&amp;amp\;ust=1645250207525000&amp;amp\;usg=AOvVaw3-vZyzlqKPF
 SEsi2jw2FOV&quot;&gt;https://forms.gle/&lt;wbr /&gt;TPbmWSYr52T25CUEA&lt;/a&gt;&lt;/div&gt;\n&lt;div&gt;\n
 &lt;div&gt;&lt;strong&gt;Registration Fees:&lt;/strong&gt;&amp;nbsp\;NIL&amp;nbsp\;&lt;/div&gt;\n&lt;/div&gt;
END:VEVENT
END:VCALENDAR

