BEGIN:VCALENDAR
VERSION:2.0
PRODID:IEEE vTools.Events//EN
CALSCALE:GREGORIAN
BEGIN:VTIMEZONE
TZID:America/New_York
BEGIN:DAYLIGHT
DTSTART:20220313T030000
TZOFFSETFROM:-0500
TZOFFSETTO:-0400
RRULE:FREQ=YEARLY;BYDAY=2SU;BYMONTH=3
TZNAME:EDT
END:DAYLIGHT
BEGIN:STANDARD
DTSTART:20221106T010000
TZOFFSETFROM:-0400
TZOFFSETTO:-0500
RRULE:FREQ=YEARLY;BYDAY=1SU;BYMONTH=11
TZNAME:EST
END:STANDARD
END:VTIMEZONE
BEGIN:VEVENT
DTSTAMP:20220518T170706Z
UID:62EBADAD-D61F-4541-8021-BD0C90B6735A
DTSTART;TZID=America/New_York:20220501T143000
DTEND;TZID=America/New_York:20220501T180000
DESCRIPTION:Dear Members of the IEEE North Jersey Section\,\n\nThe IEEE Nor
 th Jersey Section is pleased to announce its annual &quot;Awards Banquet Event&quot;
  to be held on Sunday\, May 1st\, 2022 at the Birchwood Manor\, in Whippan
 y\, New Jersey\, from 3 pm until 6 pm.\n\nThe event is meant to appreciate
  and honor the newly elevated Fellows in our Section\, as well as the reci
 pients of technical and other major IEEE awards\, IEEE Region-1 Awards\, a
 nd IEEE Section Awards. It is also a great opportunity to relax\, unwind a
 nd enjoy the company of all members and non-members at the banquet.\n\nAs 
 we missed having this annual event during the years 2020 and 2021\, this y
 ear we will take the opportunity to honor all the award recipients and Fel
 lows of the years 2019\, 2020\, and 2021.\n\nLooking forward to seeing you
  all on Sunday\, May 1st\, 2022.\n\nPlease use the registration link to ma
 ke your reservation.\nRegistration is required for all attendees by comple
 ting the name\, address\, and e-mail entries on the form.\n\nSpouses and g
 uests are welcome. (Please register each guest separately)\n\nFor more inf
 ormation\, please contact:\nKen Oexle\, Email: k.oexle@verizon.net\nRussel
 l Pepe. Email: russell.pepe@atm1.com\nHar Dayal\, Emai\, Email: dayalhar@g
 mail.com\nAmit Patel\, Email: amitjpatel@netzero.net\nAjay Poddar\, Email:
  akpoddar@ieee.org\nAdriaan J. van Wijngaarden\, Email: avw@ieee.org\n\nDa
 te: 01 May 2022\nTime: 03:00 PM to 06:00 PM (All times are US/Eastern)\nAd
 dress: [Birchwood Manor](https://www.birchwoodmanor.com/)\, [111 North Jef
 ferson Road\, Whippany\, NJ 07981](https://www.google.com/maps/place/111+N
 +Jefferson+Rd\,+Whippany\,+NJ+07981/@40.843592\,-74.4252376\,17z/data=!3m1
 !4b1!4m5!3m4!1s0x89c3a7eba9f99a85:0x9b954cbde5eb018e!8m2!3d40.843588!4d-74
 .4230436?hl=en&amp;authuser=0)\n\nThe [Award Booklet](https://r1.ieee.org/nort
 hjersey/awards/booklet/) can be found here:\n\nSpeaker(s): Eduardo (Ed) Pa
 lacio\, 2022 IEEE USA President \, Dr. Ajay Kumar Poddar\n\nAgenda: \nThe 
 event is meant to appreciate and honor the newly elevated Fellows in our S
 ection\, as well as the recipients of technical and other major IEEE award
 s\, IEEE Region-1 Awards\, and IEEE Section Awards.\n\n2:30 PM-3:00 PM-Pho
 to Session for Award Recipients\n\n3:00 PM - 3:15 PM - Welcome to the arri
 ving guests\n\n3:15 PM - 4:15 PM - Dinner\n\n4:15 PM - 5:30 PM - Awards Ce
 remony\n\n5:30 PM - 6:00 PM - Coffee/Desserts\nTickets/Fees are applicable
  as follows:\nEXCOM members plus one guest attend free\nAward Recipients p
 lus one guest attend for free\nInvited IEEE dignitaries plus one guest att
 end for free\nChildren under age 18 attend for free (parent supervision is
  required for Children under age 18).\nAdvance registration is required fo
 r all attendees:\n$15 for IEEE student members (Discounted Rate)\n$35 for 
 non-EXCOM members and additional guests\n$50 for non-IEEE members\n\nThe c
 apacity of the location is limited\, so please make your reservations earl
 y.\nPayments can be made by paying at the gate on the day of the event.\n\
 nBldg:  Birchwood Manor\, 111 North Jefferson Road\, Whippany\, New Jerse
 y\, United States\, 07981
LOCATION:Bldg:  Birchwood Manor\, 111 North Jefferson Road\, Whippany\, Ne
 w Jersey\, United States\, 07981
ORGANIZER:akpoddar@ieee.org
SEQUENCE:34
SUMMARY:2022 IEEE North Jersey Section Awards Banquet
URL;VALUE=URI:https://events.vtools.ieee.org/m/305526
X-ALT-DESC:Description: &lt;br /&gt;&lt;div class=&quot;gmail_default&quot;&gt;Dear Members of th
 e IEEE North Jersey Section\,&lt;/div&gt;\n&lt;div class=&quot;gmail_default&quot;&gt;&amp;nbsp\;&lt;/d
 iv&gt;\n&lt;div class=&quot;gmail_default&quot;&gt;The IEEE North Jersey Section is pleased t
 o announce its annual &quot;Awards Banquet&amp;nbsp\;Event&quot; to be held on Sunday\, 
 May 1st\, 2022 at the Birchwood Manor\, in Whippany\, New Jersey\, from 3 
 pm until 6 pm.&lt;br /&gt;&lt;br /&gt;&lt;/div&gt;\n&lt;div class=&quot;gmail_default&quot;&gt;The event is 
 meant to appreciate and honor the newly elevated Fellows in our Section\, 
 as well as the recipients of technical and other major IEEE awards\, IEEE 
 Region-1 Awards\, and IEEE Section Awards. It is also a great opportunity 
 to relax\, unwind and enjoy the company of all members and non-members at 
 the banquet.&lt;br /&gt;&lt;br /&gt;&lt;/div&gt;\n&lt;div class=&quot;gmail_default&quot;&gt;As we missed ha
 ving this annual event during the years 2020 and 2021\, this year we will 
 take the opportunity to honor all the award recipients and Fellows of the 
 years 2019\, 2020\, and 2021.&lt;/div&gt;\n&lt;div class=&quot;gmail_default&quot;&gt;&amp;nbsp\;&lt;/d
 iv&gt;\n&lt;div class=&quot;gmail_default&quot;&gt;Looking forward to seeing you all on Sunda
 y\, May 1st\, 2022.&lt;/div&gt;\n&lt;div class=&quot;gmail_default&quot;&gt;&amp;nbsp\;&lt;/div&gt;\n&lt;div 
 class=&quot;gmail_default&quot;&gt;Please use the registration link to make your reserv
 ation.&amp;nbsp\;&lt;/div&gt;\n&lt;div class=&quot;gmail_default&quot;&gt;Registration is required f
 or all attendees by completing the name\, address\, and&amp;nbsp\;e-mail&amp;nbsp\
 ;entries on the form.&amp;nbsp\;&lt;/div&gt;\n&lt;div class=&quot;gmail_default&quot;&gt;&amp;nbsp\;&lt;/di
 v&gt;\n&lt;div class=&quot;gmail_default&quot;&gt;Spouses and guests are welcome. (Please reg
 ister each guest separately)&lt;/div&gt;\n&lt;div class=&quot;gmail_default&quot;&gt;&lt;br /&gt;&lt;stro
 ng&gt;For more information\, please contact:&lt;/strong&gt;&lt;/div&gt;\n&lt;div class=&quot;gmai
 l_default&quot;&gt;Ken Oexle\, Email: k.oexle@verizon.net&lt;/div&gt;\n&lt;div class=&quot;gmail
 _default&quot;&gt;Russell Pepe. Email: &lt;a class=&quot;o_h J_x mq_CZ G_e r_P C_Z2aVTcY S
 4_U ac_CI rtlI_dz_sSg&quot; title=&quot;russell.pepe@atm1.com&quot; data-test-id=&quot;contact
 -card-email&quot;&gt;russell.pepe@atm1.com&lt;/a&gt;&lt;/div&gt;\n&lt;div class=&quot;gmail_default&quot;&gt;H
 ar Dayal\, Emai\, Email: dayalhar@gmail.com&lt;/div&gt;\n&lt;div class=&quot;gmail_defau
 lt&quot;&gt;Amit Patel\, Email: amitjpatel@netzero.net&lt;br /&gt;Ajay Poddar\, Email: a
 kpoddar@ieee.org&lt;/div&gt;\n&lt;div class=&quot;gmail_default&quot;&gt;Adriaan J. van Wijngaar
 den\, Email: &lt;a href=&quot;mailto:avw@ieee.org&quot; target=&quot;_blank&quot; rel=&quot;noopener&quot;&gt;
 avw@ieee.org&lt;/a&gt;&lt;br /&gt;&lt;br /&gt;Date: 01 May 2022&lt;br /&gt;Time: 03:00 PM to 06:00
  PM (All times are US/Eastern)&lt;br /&gt;Address:&amp;nbsp\;&lt;a href=&quot;https://www.bi
 rchwoodmanor.com/&quot; target=&quot;_blank&quot; rel=&quot;noopener&quot; data-saferedirecturl=&quot;ht
 tps://www.google.com/url?q=https://www.birchwoodmanor.com/&amp;amp\;source=gma
 il&amp;amp\;ust=1645294736120000&amp;amp\;usg=AOvVaw2s5T0wtonx9Z2Vyu1y7Sai&quot;&gt;Birchw
 ood Manor&lt;/a&gt;\,&amp;nbsp\;&lt;a href=&quot;https://www.google.com/maps/place/111+N+Jef
 ferson+Rd\,+Whippany\,+NJ+07981/@40.843592\,-74.4252376\,17z/data=!3m1!4b1
 !4m5!3m4!1s0x89c3a7eba9f99a85:0x9b954cbde5eb018e!8m2!3d40.843588!4d-74.423
 0436?hl=en&amp;amp\;authuser=0&quot; target=&quot;_blank&quot; rel=&quot;noopener&quot; data-saferedire
 cturl=&quot;https://www.google.com/url?q=https://www.google.com/maps/place/111%
 2BN%2BJefferson%2BRd\,%2BWhippany\,%2BNJ%2B07981/@40.843592\,-74.4252376\,
 17z/data%3D!3m1!4b1!4m5!3m4!1s0x89c3a7eba9f99a85:0x9b954cbde5eb018e!8m2!3d
 40.843588!4d-74.4230436?hl%3Den%26authuser%3D0&amp;amp\;source=gmail&amp;amp\;ust=
 1645294736120000&amp;amp\;usg=AOvVaw1Q7_hA1AQEJYVHoxmvvUp3&quot;&gt;111 North Jefferso
 n Road\,&amp;nbsp\;Whippany\, NJ 07981&lt;/a&gt;&lt;/div&gt;\n&lt;div class=&quot;gmail_default&quot;&gt;&amp;
 nbsp\;&lt;/div&gt;\n&lt;div class=&quot;gmail_default&quot;&gt;The &lt;a href=&quot;https://r1.ieee.org/
 northjersey/awards/booklet/&quot;&gt;Award Booklet&lt;/a&gt; can be found here:&amp;nbsp\;&lt;/
 div&gt;&lt;br /&gt;&lt;br /&gt;Agenda: &lt;br /&gt;&lt;p&gt;The event is meant to appreciate and hono
 r the newly elevated Fellows in our Section\, as well as the recipients of
  technical and other major IEEE awards\, IEEE Region-1 Awards\, and IEEE S
 ection Awards.&lt;/p&gt;\n&lt;p&gt;2:30 PM-3:00 PM-Photo Session for Award Recipients&lt;
 /p&gt;\n&lt;p&gt;3:00 PM - 3:15 PM - Welcome to the arriving guests&lt;/p&gt;\n&lt;p&gt;3:15 PM
  - 4:15 PM - Dinner&lt;/p&gt;\n&lt;p&gt;4:15 PM - 5:30 PM - Awards Ceremony&lt;/p&gt;\n&lt;p&gt;5:
 30 PM - 6:00 PM - Coffee/Desserts&lt;/p&gt;\n&lt;div class=&quot;gmail_default&quot;&gt;Tickets/
 Fees are applicable as follows:&lt;/div&gt;\n&lt;div class=&quot;gmail_default&quot;&gt;EXCOM me
 mbers plus one guest attend free&lt;/div&gt;\n&lt;div class=&quot;gmail_default&quot;&gt;Award R
 ecipients plus one guest attend for free&lt;/div&gt;\n&lt;div class=&quot;gmail_default&quot;
 &gt;Invited IEEE dignitaries plus one guest attend for free&lt;/div&gt;\n&lt;div class
 =&quot;gmail_default&quot;&gt;Children under age 18 attend for free (parent supervision
  is required for Children under age 18).&lt;/div&gt;\n&lt;div class=&quot;gmail_default&quot;
 &gt;&lt;span style=&quot;color: #e03e2d\;&quot;&gt;&lt;strong&gt;Advance registration is required f
 or all attendees:&lt;/strong&gt;&lt;/span&gt;&lt;/div&gt;\n&lt;div class=&quot;gmail_default&quot;&gt;$15 fo
 r IEEE student members (Discounted Rate)&lt;/div&gt;\n&lt;div class=&quot;gmail_default&quot;
 &gt;$35 for non-EXCOM members and additional guests&lt;/div&gt;\n&lt;div class=&quot;gmail_
 default&quot;&gt;$50 for non-IEEE members&lt;/div&gt;\n&lt;div class=&quot;gmail_default&quot;&gt;&amp;nbsp\
 ;&lt;/div&gt;\n&lt;div class=&quot;gmail_default&quot;&gt;The capacity of the location is limite
 d\, so please make your reservations early.&amp;nbsp\;&lt;/div&gt;\n&lt;div class=&quot;gmai
 l_default&quot;&gt;Payments can be made by paying at the gate on the day of the ev
 ent.&lt;/div&gt;
END:VEVENT
END:VCALENDAR

