BEGIN:VCALENDAR
VERSION:2.0
PRODID:IEEE vTools.Events//EN
CALSCALE:GREGORIAN
BEGIN:VTIMEZONE
TZID:US/Eastern
BEGIN:DAYLIGHT
DTSTART:20220313T030000
TZOFFSETFROM:-0500
TZOFFSETTO:-0400
RRULE:FREQ=YEARLY;BYDAY=2SU;BYMONTH=3
TZNAME:EDT
END:DAYLIGHT
BEGIN:STANDARD
DTSTART:20211107T010000
TZOFFSETFROM:-0400
TZOFFSETTO:-0500
RRULE:FREQ=YEARLY;BYDAY=1SU;BYMONTH=11
TZNAME:EST
END:STANDARD
END:VTIMEZONE
BEGIN:VEVENT
DTSTAMP:20220308T133119Z
UID:8D1EE68A-F741-4F84-A315-3C53AF0E278E
DTSTART;TZID=US/Eastern:20220225T123000
DTEND;TZID=US/Eastern:20220225T133000
DESCRIPTION:Presentation is about different aspects and challenges of Radio
  Frequency\, going from being a student in university\, doing research in 
 a laboratory to working in industry for a small or a big company.\n\nConlo
 n#110 (Electrical Engineering Technology Laboratory) in person\nOnline Goo
 gle Link: http://meet.google.com/ksz-jjak-mrd\nOn phone: (US) +1 318-745-9
 048 (PIN: 257542026)\n\nSpeaker(s): Mehdi Si Moussa\, \n\nBldg: Conlon Hal
 l\, 160 Pearl St\, Fitchburg\, MA 01420\, Room 110\, Fitchburg\, Massachus
 etts\, United States\, 01420\, Virtual: https://events.vtools.ieee.org/m/3
 06165
LOCATION:Bldg: Conlon Hall\, 160 Pearl St\, Fitchburg\, MA 01420\, Room 110
 \, Fitchburg\, Massachusetts\, United States\, 01420\, Virtual: https://ev
 ents.vtools.ieee.org/m/306165
ORGANIZER:yhong2006@ieee.org
SEQUENCE:2
SUMMARY:Radio Frequency: From University to Industry
URL;VALUE=URI:https://events.vtools.ieee.org/m/306165
X-ALT-DESC:Description: &lt;br /&gt;&lt;p&gt;Presentation is about different aspects an
 d challenges&amp;nbsp\; of Radio Frequency\, going from being a student in uni
 versity\, doing research in a laboratory to working in industry for a smal
 l or a big company.&amp;nbsp\;&lt;/p&gt;\n&lt;p&gt;Conlon#110 (Electrical Engineering Tech
 nology Laboratory) in person&lt;br /&gt;Online Google Link: http://meet.google.c
 om/ksz-jjak-mrd&lt;br /&gt;On phone: (US) +1 318-745-9048 (PIN: 257542026)&lt;/p&gt;
END:VEVENT
END:VCALENDAR

