BEGIN:VCALENDAR
VERSION:2.0
PRODID:IEEE vTools.Events//EN
CALSCALE:GREGORIAN
BEGIN:VTIMEZONE
TZID:Asia/Calcutta
BEGIN:STANDARD
DTSTART:19451014T230000
TZOFFSETFROM:+0630
TZOFFSETTO:+0530
TZNAME:IST
END:STANDARD
END:VTIMEZONE
BEGIN:VEVENT
DTSTAMP:20220227T154619Z
UID:479F7996-0C26-4752-AC1D-69C1DD898DF1
DTSTART;TZID=Asia/Calcutta:20220213T100000
DTEND;TZID=Asia/Calcutta:20220213T120000
DESCRIPTION:SAMPARK is an IEEE Gujarat Section annual event. SAMPARK has be
 en a very important occasion in which all the student branches get a platf
 orm to connect\, explore and thrive. SAMPARK is an occasion where we all h
 ave the opportunity to meet and share each other’s experiences that serv
 e to give us new energy and direction for the year to come. The student br
 anches of IEEE Gujarat Section showcase their IEEE activities during the y
 ear and annual activity plan of the next year. The event also provides a p
 latform to share and discuss their ideas and views with Section Executive 
 Committee and fellow student members\, resolving issues of the student bra
 nches (if any).\n\nIEEE Gujarat Section has been organizing this event sin
 ce last 14 years. Due to COVID-19 pandemic situation\, this year IEEE Guja
 rat Section is going to organize the SAMPARK’ 22 in Online mode on Sunda
 y\, February 13\, 2022. It is matter of pleasure that SAMPARK’ 22 is bei
 ng coordinated by energized student volunteers from the various active Stu
 dent Branches of IEEE Gujarat Section.\n\nVirtual: https://events.vtools.i
 eee.org/m/306473
LOCATION:Virtual: https://events.vtools.ieee.org/m/306473
ORGANIZER:gunvantsinh@gmail.com
SEQUENCE:1
SUMMARY:SAMPARK - 2022
URL;VALUE=URI:https://events.vtools.ieee.org/m/306473
X-ALT-DESC:Description: &lt;br /&gt;&lt;p&gt;SAMPARK is an IEEE Gujarat Section annual 
 event. SAMPARK has been a very important occasion in which all the student
 &amp;nbsp\;branches get a platform to connect\,&amp;nbsp\;explore and thrive. SAMP
 ARK is an occasion where we all have the opportunity to meet and share eac
 h other&amp;rsquo\;s experiences that serve to give us new energy and directio
 n for the year to come. The student branches of IEEE Gujarat Section showc
 ase their IEEE activities during the year and annual activity plan of the 
 next year. The event also provides a platform to share and discuss their i
 deas and views with Section Executive Committee and fellow student members
 \, resolving issues of the student branches (if any).&lt;/p&gt;\n&lt;p&gt;IEEE Gujarat
  Section has been organizing this event since last 14 years. Due to COVID-
 19 pandemic situation\, this year IEEE Gujarat Section is going to organiz
 e the SAMPARK&amp;rsquo\; 22 in Online mode&amp;nbsp\;&lt;strong&gt;on Sunday\, February
  13\, 2022&lt;/strong&gt;. It is matter of pleasure that SAMPARK&amp;rsquo\; 22 is b
 eing coordinated&amp;nbsp\;by energized student volunteers&amp;nbsp\;from the vari
 ous active Student Branches of IEEE Gujarat Section.&lt;/p&gt;
END:VEVENT
END:VCALENDAR

