BEGIN:VCALENDAR
VERSION:2.0
PRODID:IEEE vTools.Events//EN
CALSCALE:GREGORIAN
BEGIN:VTIMEZONE
TZID:America/Denver
BEGIN:DAYLIGHT
DTSTART:20220313T030000
TZOFFSETFROM:-0700
TZOFFSETTO:-0600
RRULE:FREQ=YEARLY;BYDAY=2SU;BYMONTH=3
TZNAME:MDT
END:DAYLIGHT
BEGIN:STANDARD
DTSTART:20211107T010000
TZOFFSETFROM:-0600
TZOFFSETTO:-0700
RRULE:FREQ=YEARLY;BYDAY=1SU;BYMONTH=11
TZNAME:MST
END:STANDARD
END:VTIMEZONE
BEGIN:VEVENT
DTSTAMP:20220227T191020Z
UID:A7B79D90-6716-4124-8DE8-EB689C634463
DTSTART;TZID=America/Denver:20211203T110000
DTEND;TZID=America/Denver:20211203T121500
DESCRIPTION:MRI can provide superior soft tissue contrast with rich informa
 tion and doesn’t involve exposure\nto ionizing radiation. Therefore\, it
  is the method of choice for many imaging applications.\nHowever\, tissues
  with short transverse relaxation times (T2/T2*) such as cortical bone and
  lung\nparenchyma are often invisible in conventional MR images. Ultra-sho
 rt TE(UTE) MRI enables\nus to capture the rapidly decaying signals from th
 e tissues otherwise invisible and hence has\nsignificantly broadened the a
 pplications of MRI. In this presentation\, we will talk about the basic\nc
 oncepts of UTE MRI\, current UTE MRI techniques and some of their applicat
 ions.\n\nCo-sponsored by: UCCS\n\nSpeaker(s): Aiming Lu\, \n\nRoom: A204\,
  Bldg: Osborne Center for Science and Engineering\, 1420 Austin Bluffs Pkw
 y\, Colorado Springs\, Colorado\, United States\, 80918
LOCATION:Room: A204\, Bldg: Osborne Center for Science and Engineering\, 14
 20 Austin Bluffs Pkwy\, Colorado Springs\, Colorado\, United States\, 8091
 8
ORGANIZER:dbozhko@uccs.edu
SEQUENCE:0
SUMMARY:Visualizing the rapidly-vanishing signal using ultra-short echo tim
 e MRI: techniques and applications
URL;VALUE=URI:https://events.vtools.ieee.org/m/306484
X-ALT-DESC:Description: &lt;br /&gt;&lt;p&gt;MRI can provide superior soft tissue contr
 ast with rich information and doesn&amp;rsquo\;t involve exposure&lt;br /&gt;to ioni
 zing radiation. Therefore\, it is the method of choice for many imaging ap
 plications.&lt;br /&gt;However\, tissues with short transverse relaxation times 
 (T2/T2*) such as cortical bone and lung&lt;br /&gt;parenchyma are often invisibl
 e in conventional MR images. Ultra-short TE(UTE) MRI enables&lt;br /&gt;us to ca
 pture the rapidly decaying signals from the tissues otherwise invisible an
 d hence has&lt;br /&gt;significantly broadened the applications of MRI. In this 
 presentation\, we will talk about the basic&lt;br /&gt;concepts of UTE MRI\, cur
 rent UTE MRI techniques and some of their applications.&lt;/p&gt;
END:VEVENT
END:VCALENDAR

