BEGIN:VCALENDAR
VERSION:2.0
PRODID:IEEE vTools.Events//EN
CALSCALE:GREGORIAN
BEGIN:VTIMEZONE
TZID:America/Chicago
BEGIN:DAYLIGHT
DTSTART:20220313T030000
TZOFFSETFROM:-0600
TZOFFSETTO:-0500
RRULE:FREQ=YEARLY;BYDAY=2SU;BYMONTH=3
TZNAME:CDT
END:DAYLIGHT
BEGIN:STANDARD
DTSTART:20221106T010000
TZOFFSETFROM:-0500
TZOFFSETTO:-0600
RRULE:FREQ=YEARLY;BYDAY=1SU;BYMONTH=11
TZNAME:CST
END:STANDARD
END:VTIMEZONE
BEGIN:VEVENT
DTSTAMP:20220626T035006Z
UID:796B511B-2826-443A-B631-2DC9CD670B38
DTSTART;TZID=America/Chicago:20220421T190000
DTEND;TZID=America/Chicago:20220421T200000
DESCRIPTION:ABSTRACT\nThis presentation will highlight how artificial intel
 ligence (AI) can be used to solve critical problems in electronic warfare 
 (EW). I will describe how cognitive radio differs from cognitive EW\, and 
 present the key reasons why AI is a necessary component of future EW syste
 ms. I will touch on AI techniques for situation assessment and for decisio
 n making. I will describe how to handle real-time in-mission learning and 
 present ideas on how to evaluate a system that learns during a mission.\n\
 nThe presentation is based on the book &quot;Cognitive Electronic Warfare: AnAr
 tificial Intelligence Approach.&quot;\n\nhttps://us.artechhouse.com/Cognitive-E
 lectronic-Warfare-An-Artificial-Intelligence-Approach-P2208.aspx\n\nAgenda
 : \n7:00 Speaker\n\n7.45 Q/A session.\n\n8:00 Close meeting\n\nVirtual: ht
 tps://events.vtools.ieee.org/m/306992
LOCATION:Virtual: https://events.vtools.ieee.org/m/306992
ORGANIZER:sorabh.lal@ieee.org
SEQUENCE:19
SUMMARY:Cognitive Electronic Warfare
URL;VALUE=URI:https://events.vtools.ieee.org/m/306992
X-ALT-DESC:Description: &lt;br /&gt;&lt;p&gt;&lt;span style=&quot;font-size: 12pt\;&quot;&gt;ABSTRACT&lt;/
 span&gt;&lt;br /&gt;&lt;span style=&quot;font-size: 12pt\;&quot;&gt;This presentation will highligh
 t how artificial intelligence (AI) can be &lt;/span&gt;&lt;span style=&quot;font-size: 1
 2pt\;&quot;&gt;used to solve critical problems in electronic warfare (EW). &lt;/span&gt;
 &lt;span style=&quot;font-size: 12pt\;&quot;&gt;I will describe how cognitive radio differ
 s from cognitive EW\, and present &lt;/span&gt;&lt;span style=&quot;font-size: 12pt\;&quot;&gt;t
 he key reasons why AI is a necessary component of future EW systems. &lt;/spa
 n&gt;&lt;span style=&quot;font-size: 12pt\;&quot;&gt;I will touch on AI techniques for situat
 ion assessment and for decision making. &lt;/span&gt;&lt;span style=&quot;font-size: 12p
 t\;&quot;&gt;I will describe how to handle real-time in-mission learning and prese
 nt ideas on&lt;/span&gt;&lt;span style=&quot;font-size: 12pt\;&quot;&gt; &lt;/span&gt;&lt;span style=&quot;fon
 t-size: 12pt\;&quot;&gt;how to evaluate a system that learns during a mission.&lt;/sp
 an&gt;&lt;/p&gt;\n&lt;p&gt;&amp;nbsp\;&lt;/p&gt;\n&lt;p&gt;&lt;span style=&quot;font-size: 12pt\;&quot;&gt;The presentati
 on is based on the book &quot;Cognitive Electronic Warfare: An&lt;/span&gt;&lt;span styl
 e=&quot;font-size: 12pt\;&quot;&gt;Artificial Intelligence Approach.&lt;/span&gt;&lt;span style=
 &quot;font-size: 12pt\;&quot;&gt;&quot;&lt;/span&gt;&lt;/p&gt;\n&lt;p&gt;&lt;a href=&quot;https://us.artechhouse.com/C
 ognitive-Electronic-Warfare-An-Artificial-Intelligence-Approach-P2208.aspx
 &quot; target=&quot;_blank&quot; rel=&quot;noopener noreferrer&quot; data-saferedirecturl=&quot;https://
 www.google.com/url?q=https://us.artechhouse.com/Cognitive-Electronic-Warfa
 re-An-Artificial-Intelligence-Approach-P2208.aspx&amp;amp\;source=gmail&amp;amp\;u
 st=1646539691148000&amp;amp\;usg=AOvVaw3d4gCtJY4bDTi5WQAPQ0Md&quot;&gt;https://us.arte
 chhouse.com/Cog&lt;wbr /&gt;nitive-Electronic-Warfare-An-&lt;wbr /&gt;Artificial-Intel
 ligence-Approa&lt;wbr /&gt;ch-P2208.aspx&lt;/a&gt;&lt;/p&gt;&lt;br /&gt;&lt;br /&gt;Agenda: &lt;br /&gt;&lt;p&gt;7:0
 0 Speaker&lt;/p&gt;\n&lt;p&gt;7.45 Q/A session.&lt;/p&gt;\n&lt;p&gt;8:00&amp;nbsp\; Close meeting&lt;/p&gt;
END:VEVENT
END:VCALENDAR

