BEGIN:VCALENDAR
VERSION:2.0
PRODID:IEEE vTools.Events//EN
CALSCALE:GREGORIAN
BEGIN:VTIMEZONE
TZID:America/Chicago
BEGIN:DAYLIGHT
DTSTART:20220313T030000
TZOFFSETFROM:-0600
TZOFFSETTO:-0500
RRULE:FREQ=YEARLY;BYDAY=2SU;BYMONTH=3
TZNAME:CDT
END:DAYLIGHT
BEGIN:STANDARD
DTSTART:20221106T010000
TZOFFSETFROM:-0500
TZOFFSETTO:-0600
RRULE:FREQ=YEARLY;BYDAY=1SU;BYMONTH=11
TZNAME:CST
END:STANDARD
END:VTIMEZONE
BEGIN:VEVENT
DTSTAMP:20220405T030232Z
UID:136B5196-2F8B-483E-9DDE-21A3F0B31D69
DTSTART;TZID=America/Chicago:20220331T130000
DTEND;TZID=America/Chicago:20220331T140000
DESCRIPTION:This coffee conversation session is for IEEE Student Branches. 
 Marcus Jennings is the Houston DOC Field Service Manager who will be shari
 ng his career progression\, professional development\, and offering some a
 dditional insights into the Field Service profession. Come learn about som
 e of the exciting opportunities within the Field Service business and how 
 your talents and passion could lead to within Eaton.\n\n[Eaton Experience 
 Center Virtual Tour](https://www.eaton.com/us/en-us/markets/eaton-experien
 ce-centers/virtual-tours/houston.html)\, but nothing is better than experi
 encing it in person.\n\nCo-sponsored by: EATON\n\nAgenda: \nVisit [IEEE 20
 22 GreenTech Program\, CED On-Demand\, and Workshops &amp; Tutorials](https://
 ieeegreentech.org/program/) page for additional schedules and options.\n\n
 Bldg: Eaton Experience Center\, 3413 North Sam Houston Pkwy W\, Houston\, 
 Texas\, United States\, 77086
LOCATION:Bldg: Eaton Experience Center\, 3413 North Sam Houston Pkwy W\, Ho
 uston\, Texas\, United States\, 77086
ORGANIZER:christopher.b.sanderson@ieee.org
SEQUENCE:4
SUMMARY:GT CED: Coffee Chat with Marcus Jennings
URL;VALUE=URI:https://events.vtools.ieee.org/m/307052
X-ALT-DESC:Description: &lt;br /&gt;&lt;p&gt;&lt;strong&gt;&lt;em&gt;This coffee conversation sessi
 on is for IEEE Student Branches.&lt;/em&gt;&lt;/strong&gt;&amp;nbsp\; Marcus Jennings is t
 he Houston DOC Field Service Manager who will be sharing his career progre
 ssion\, professional development\, and offering some additional insights i
 nto the Field Service profession. Come learn about some of the exciting op
 portunities within the Field Service business and how your talents and pas
 sion could lead to within Eaton.&amp;nbsp\;&lt;/p&gt;\n&lt;p&gt;&lt;a href=&quot;https://www.eaton
 .com/us/en-us/markets/eaton-experience-centers/virtual-tours/houston.html&quot;
  target=&quot;_blank&quot; rel=&quot;noopener&quot;&gt;Eaton Experience Center Virtual Tour&lt;/a&gt;\,
  but nothing is better than experiencing it in person.&lt;/p&gt;&lt;br /&gt;&lt;br /&gt;Agen
 da: &lt;br /&gt;&lt;p&gt;Visit&amp;nbsp\;&lt;a href=&quot;https://ieeegreentech.org/program/&quot; targ
 et=&quot;_blank&quot; rel=&quot;noopener&quot;&gt;IEEE 2022 GreenTech Program\, CED On-Demand\, a
 nd Workshops &amp;amp\; Tutorials&lt;/a&gt;&amp;nbsp\;page for additional schedules and 
 options.&amp;nbsp\;&lt;/p&gt;
END:VEVENT
END:VCALENDAR

