BEGIN:VCALENDAR
VERSION:2.0
PRODID:IEEE vTools.Events//EN
CALSCALE:GREGORIAN
BEGIN:VTIMEZONE
TZID:Europe/Berlin
BEGIN:DAYLIGHT
DTSTART:20220327T030000
TZOFFSETFROM:+0100
TZOFFSETTO:+0200
RRULE:FREQ=YEARLY;BYDAY=-1SU;BYMONTH=3
TZNAME:CEST
END:DAYLIGHT
BEGIN:STANDARD
DTSTART:20221030T020000
TZOFFSETFROM:+0200
TZOFFSETTO:+0100
RRULE:FREQ=YEARLY;BYDAY=-1SU;BYMONTH=10
TZNAME:CET
END:STANDARD
END:VTIMEZONE
BEGIN:VEVENT
DTSTAMP:20220713T092532Z
UID:B9ECA2AA-186A-49B9-9BB3-A76467413CF2
DTSTART;TZID=Europe/Berlin:20220512T170000
DTEND;TZID=Europe/Berlin:20220512T180000
DESCRIPTION:Antennas are wave mode changers\, that are classically describe
 d by a set of antenna parameters such as input impedance\, gain\, directiv
 ity\, antenna factor and radiation diagram. Due to progressing complexity 
 and integration of transmission systems\, the exact knowledge of these par
 ameters is getting more and more important. For the measurement of quantit
 ies conforming to standards\, different measurement setups in absorber cha
 mbers and on open-area test sites exist. With progressing computational ca
 pabilities\, computationally intensive methods based on near-field-tofar-f
 ield transformation gain importance. Flying measurement platforms based on
  autarkic multicopters are used for the characterization of large stationa
 ry antenna systems. The talk shows some new developments.\n\nVirtual: http
 s://events.vtools.ieee.org/m/307316
LOCATION:Virtual: https://events.vtools.ieee.org/m/307316
ORGANIZER:miroslav.kotzev@ericsson.com
SEQUENCE:4
SUMMARY:IEEE German EMC Chapter - Professional Talk: New Developments in An
 tenna Measuring Techniques
URL;VALUE=URI:https://events.vtools.ieee.org/m/307316
X-ALT-DESC:Description: &lt;br /&gt;&lt;p&gt;&amp;nbsp\;&lt;span class=&quot;fontstyle0&quot;&gt;Antennas a
 re wave mode changers\, that are classically described by a set of antenna
  parameters such as input impedance\, gain\, directivity\, antenna factor 
 and radiation diagram. Due to progressing complexity and integration of tr
 ansmission systems\, the exact knowledge of these parameters is getting mo
 re and more important. For the measurement of quantities conforming to sta
 ndards\, different measurement setups in absorber chambers and on open-are
 a test sites exist. With progressing computational capabilities\, computat
 ionally intensive methods based on near-field-tofar-field transformation g
 ain importance. Flying measurement platforms based on autarkic multicopter
 s are used for the characterization of large stationary antenna systems. T
 he talk shows some new developments.&lt;/span&gt;&lt;/p&gt;
END:VEVENT
END:VCALENDAR

