BEGIN:VCALENDAR
VERSION:2.0
PRODID:IEEE vTools.Events//EN
CALSCALE:GREGORIAN
BEGIN:VTIMEZONE
TZID:Canada/Eastern
BEGIN:DAYLIGHT
DTSTART:20220313T030000
TZOFFSETFROM:-0500
TZOFFSETTO:-0400
RRULE:FREQ=YEARLY;BYDAY=2SU;BYMONTH=3
TZNAME:EDT
END:DAYLIGHT
BEGIN:STANDARD
DTSTART:20221106T010000
TZOFFSETFROM:-0400
TZOFFSETTO:-0500
RRULE:FREQ=YEARLY;BYDAY=1SU;BYMONTH=11
TZNAME:EST
END:STANDARD
END:VTIMEZONE
BEGIN:VEVENT
DTSTAMP:20220326T142744Z
UID:E925CE30-1D17-40E2-AD5A-8AF029F700CE
DTSTART;TZID=Canada/Eastern:20220323T120000
DTEND;TZID=Canada/Eastern:20220323T133000
DESCRIPTION:Quantum mechanically entangled light particles break down the b
 oundaries of conventional optics and bring about new possibilities for ima
 ging techniques called quantum imaging. Quantum imaging is a new sub-field
  of quantum optics that image objects with a resolution or other imaging c
 riteria beyond what is possible in classical optics. Unearthing these poss
 ibilities and creating technological solutions is the goal here. We are gl
 ad to host Dr. Markus Gräfe\, head of the Quantum-Enhanced Imaging group 
 at Fraunhofer IOF in Germany\, to learn more about quantum imaging\, his r
 emarkable progress\, and the future of this field. Join us virtually via Z
 oom on Mar 23 at 12 pm EDT.\n\nSpeaker(s): Dr. Markus Gräfe\, \n\nVirtual
 : https://events.vtools.ieee.org/m/307427
LOCATION:Virtual: https://events.vtools.ieee.org/m/307427
ORGANIZER:riza.fazili@inrs.ca
SEQUENCE:21
SUMMARY:Quantum Imaging: Advantages\, Progress\, and Future Challenges
URL;VALUE=URI:https://events.vtools.ieee.org/m/307427
X-ALT-DESC:Description: &lt;br /&gt;&lt;p&gt;&lt;span data-preserver-spaces=&quot;true&quot;&gt;Quantum
  mechanically entangled light particles break down the boundaries of conve
 ntional optics and bring about new possibilities for imaging techniques ca
 lled quantum imaging. &lt;/span&gt;Quantum imaging&amp;nbsp\;&lt;span data-preserver-sp
 aces=&quot;true&quot;&gt;is a new sub-field of quantum optics that image objects with a
  resolution or other imaging criteria beyond what is possible in classical
  optics. Unearthing these possibilities and creating technological solutio
 ns is the goal here. &lt;/span&gt;&lt;span data-preserver-spaces=&quot;true&quot;&gt;We are glad
  to host Dr. Markus Gr&amp;auml\;fe\, head of the Quantum-Enhanced Imaging gro
 up at Fraunhofer IOF in Germany\, to learn more about quantum imaging\, hi
 s remarkable progress\, and the future of this field. Join us virtually vi
 a Zoom on Mar 23 at 12 pm EDT.&lt;/span&gt;&lt;/p&gt;
END:VEVENT
END:VCALENDAR

