BEGIN:VCALENDAR
VERSION:2.0
PRODID:IEEE vTools.Events//EN
CALSCALE:GREGORIAN
BEGIN:VTIMEZONE
TZID:US/Eastern
BEGIN:DAYLIGHT
DTSTART:20220313T030000
TZOFFSETFROM:-0500
TZOFFSETTO:-0400
RRULE:FREQ=YEARLY;BYDAY=2SU;BYMONTH=3
TZNAME:EDT
END:DAYLIGHT
BEGIN:STANDARD
DTSTART:20221106T010000
TZOFFSETFROM:-0400
TZOFFSETTO:-0500
RRULE:FREQ=YEARLY;BYDAY=1SU;BYMONTH=11
TZNAME:EST
END:STANDARD
END:VTIMEZONE
BEGIN:VEVENT
DTSTAMP:20220429T214405Z
UID:45E71FD5-A67A-4631-B806-8410EA576874
DTSTART;TZID=US/Eastern:20220422T183000
DTEND;TZID=US/Eastern:20220422T230000
DESCRIPTION:The CPU or &quot;brain&quot; of a computer: Ever wondered how they functi
 on? or even wondered how complicated and intricate they are?\nJoin us for 
 a four-part series to learn more about how CPU&#39;s function. Participate in 
 building a functioning 8-bit CPU from scratch. We will watch instructional
  videos from Ben Eater before jumping in and assembling a different compon
 ent of his 8-bit breadboard computer kits at the end of each session. We&#39;v
 e nearly completed building an entire CPU from scratch! For this last sess
 ion\, we will finish off the 8-bit CPU by adding the Output and Control Lo
 gic.\n\nAgenda: \n1) Watch informational and instructional videos from Ben
  Eater&#39;s YouTube channel where he teaches us about different components of
  a CPU and assembles his breadboard computer kit.\n\n2) Assemble another p
 art of the 8-bit breadboard computer kit based on what we learned from Ben
  Eater. In this session\, we will finish the CPU off with the Output and C
 ontrol Logic.\n\nRoom: 256\, Bldg: Social Science\, 1400 Washington Avenue
 \, University at Albany\, Albany\, New York\, United States\, 12222\, Virt
 ual: https://events.vtools.ieee.org/m/307722
LOCATION:Room: 256\, Bldg: Social Science\, 1400 Washington Avenue\, Univer
 sity at Albany\, Albany\, New York\, United States\, 12222\, Virtual: http
 s://events.vtools.ieee.org/m/307722
ORGANIZER:ieee@albany.edu
SEQUENCE:4
SUMMARY:Build An 8-Bit CPU From Scratch Part IV
URL;VALUE=URI:https://events.vtools.ieee.org/m/307722
X-ALT-DESC:Description: &lt;br /&gt;&lt;p&gt;The CPU or &quot;brain&quot; of a computer: Ever won
 dered how they function? or even wondered how complicated and intricate th
 ey are?&amp;nbsp\;&lt;br /&gt;Join us for a four-part series to learn more about how
  CPU&#39;s function. Participate in building a functioning 8-bit CPU from scra
 tch. We will watch instructional videos from Ben Eater before jumping in a
 nd assembling a different component of his 8-bit breadboard computer kits 
 at the end of each session. We&#39;ve nearly completed building an entire CPU 
 from scratch! For this last session\, we will finish off the 8-bit CPU by 
 adding the Output and Control Logic.&lt;/p&gt;&lt;br /&gt;&lt;br /&gt;Agenda: &lt;br /&gt;&lt;p&gt;1) Wa
 tch informational and instructional videos from Ben Eater&#39;s YouTube channe
 l where he teaches us about different components of a CPU and assembles hi
 s breadboard computer kit.&lt;/p&gt;\n&lt;p&gt;2) Assemble another part of the 8-bit b
 readboard computer kit based on what we learned from Ben Eater. In this se
 ssion\, we will finish the CPU off with the Output and Control Logic.&lt;/p&gt;
END:VEVENT
END:VCALENDAR

