BEGIN:VCALENDAR
VERSION:2.0
PRODID:IEEE vTools.Events//EN
CALSCALE:GREGORIAN
BEGIN:VTIMEZONE
TZID:US/Eastern
BEGIN:DAYLIGHT
DTSTART:20220313T030000
TZOFFSETFROM:-0500
TZOFFSETTO:-0400
RRULE:FREQ=YEARLY;BYDAY=2SU;BYMONTH=3
TZNAME:EDT
END:DAYLIGHT
BEGIN:STANDARD
DTSTART:20221106T010000
TZOFFSETFROM:-0400
TZOFFSETTO:-0500
RRULE:FREQ=YEARLY;BYDAY=1SU;BYMONTH=11
TZNAME:EST
END:STANDARD
END:VTIMEZONE
BEGIN:VEVENT
DTSTAMP:20220326T155155Z
UID:31A1D30E-508F-4B3B-A385-E0C328F6EED7
DTSTART;TZID=US/Eastern:20220323T190000
DTEND;TZID=US/Eastern:20220323T203000
DESCRIPTION:PACE SIGHT Group Womens History Month Drop-In Session\n\nCelebr
 ating Womens History Month Drop-In Session to share our favorite role mode
 ls and share ideas for those who should be recognized for their achievemen
 ts\, for their inventions\, or publications\, with a report\, with Milesto
 nes\, Oral Histories\, awards\, membership elevation to Senior or Fellow\,
  Blog features\, and more. The drop-in session offers an opportunity to me
 et and discuss history.\n\nJoin in the discussion.\n\nSuggest a woman who 
 should be recognized for achievements and become a role model and a part o
 f IEEE Womens History.\n\nKatherine Grace August is inviting you to a sche
 duled Zoom meeting.\n\nTopic: PACE SIGHT Group Womens History Month Drop-I
 n Session\nTime: Mar 23\, 2022 07:00 PM Eastern Time (US and Canada)\n\nJo
 in Zoom Meeting\nhttps://us02web.zoom.us/j/86115418246?pwd=RXhKbDNqcndkamR
 aRHZTdHNoWVVWUT09\n\nMeeting ID: 861 1541 8246\nPasscode: 809102\nOne tap 
 mobile\n+19292056099\,\,86115418246#\,\,\,\,*809102# US (New York)\n+13017
 158592\,\,86115418246#\,\,\,\,*809102# US (Washington DC)\n\nDial by your 
 location\n+1 929 205 6099 US (New York)\n+1 301 715 8592 US (Washington DC
 )\n+1 312 626 6799 US (Chicago)\n+1 669 900 6833 US (San Jose)\n+1 253 215
  8782 US (Tacoma)\n+1 346 248 7799 US (Houston)\nMeeting ID: 861 1541 8246
 \nPasscode: 809102\nFind your local number: https://us02web.zoom.us/u/kJwu
 CmiqN\n\nCo-sponsored by: New Jersey Coast Section PACE\n\nHolmdel\, New J
 ersey\, United States\, Virtual: https://events.vtools.ieee.org/m/308127
LOCATION:Holmdel\, New Jersey\, United States\, Virtual: https://events.vto
 ols.ieee.org/m/308127
ORGANIZER:kit.august@gmail.com
SEQUENCE:2
SUMMARY:PACE-SIGHT Group Womens History Month Drop-In Session Uncovering Ou
 r History
URL;VALUE=URI:https://events.vtools.ieee.org/m/308127
X-ALT-DESC:Description: &lt;br /&gt;&lt;p&gt;PACE SIGHT Group Womens History Month Drop
 -In Session&lt;/p&gt;\n&lt;p&gt;Celebrating Womens History Month Drop-In Session to sh
 are our favorite role models and share ideas for those who should be recog
 nized for their achievements\, for their inventions\, or publications\, wi
 th a report\, with Milestones\, Oral Histories\, awards\, membership eleva
 tion to Senior or Fellow\, Blog features\, and more. The drop-in session o
 ffers an opportunity to meet and discuss history.&lt;/p&gt;\n&lt;p&gt;Join in the disc
 ussion.&lt;/p&gt;\n&lt;p&gt;Suggest a woman who should be recognized for achievements 
 and become a role model and a part of IEEE Womens History.&lt;/p&gt;\n&lt;p&gt;&amp;nbsp\;
 &lt;/p&gt;\n&lt;p&gt;Katherine Grace August is inviting you to a scheduled Zoom meetin
 g.&lt;/p&gt;\n&lt;p&gt;Topic: PACE SIGHT Group Womens History Month Drop-In Session&lt;br
  /&gt;Time: Mar 23\, 2022 07:00 PM Eastern Time (US and Canada)&lt;/p&gt;\n&lt;p&gt;Join 
 Zoom Meeting&lt;br /&gt;https://us02web.zoom.us/j/86115418246?pwd=RXhKbDNqcndkam
 RaRHZTdHNoWVVWUT09&lt;/p&gt;\n&lt;p&gt;Meeting ID: 861 1541 8246&lt;br /&gt;Passcode: 809102
 &lt;br /&gt;One tap mobile&lt;br /&gt;+19292056099\,\,86115418246#\,\,\,\,*809102# US 
 (New York)&lt;br /&gt;+13017158592\,\,86115418246#\,\,\,\,*809102# US (Washingto
 n DC)&lt;/p&gt;\n&lt;p&gt;Dial by your location&lt;br /&gt;&amp;nbsp\; &amp;nbsp\; &amp;nbsp\; &amp;nbsp\; +
 1 929 205 6099 US (New York)&lt;br /&gt;&amp;nbsp\; &amp;nbsp\; &amp;nbsp\; &amp;nbsp\; +1 301 7
 15 8592 US (Washington DC)&lt;br /&gt;&amp;nbsp\; &amp;nbsp\; &amp;nbsp\; &amp;nbsp\; +1 312 626
  6799 US (Chicago)&lt;br /&gt;&amp;nbsp\; &amp;nbsp\; &amp;nbsp\; &amp;nbsp\; +1 669 900 6833 US
  (San Jose)&lt;br /&gt;&amp;nbsp\; &amp;nbsp\; &amp;nbsp\; &amp;nbsp\; +1 253 215 8782 US (Tacom
 a)&lt;br /&gt;&amp;nbsp\; &amp;nbsp\; &amp;nbsp\; &amp;nbsp\; +1 346 248 7799 US (Houston)&lt;br /&gt;
 Meeting ID: 861 1541 8246&lt;br /&gt;Passcode: 809102&lt;br /&gt;Find your local numbe
 r: https://us02web.zoom.us/u/kJwuCmiqN&lt;/p&gt;\n&lt;p&gt;&amp;nbsp\;&lt;/p&gt;
END:VEVENT
END:VCALENDAR

