BEGIN:VCALENDAR
VERSION:2.0
PRODID:IEEE vTools.Events//EN
CALSCALE:GREGORIAN
BEGIN:VTIMEZONE
TZID:US/Eastern
BEGIN:DAYLIGHT
DTSTART:20220313T030000
TZOFFSETFROM:-0500
TZOFFSETTO:-0400
RRULE:FREQ=YEARLY;BYDAY=2SU;BYMONTH=3
TZNAME:EDT
END:DAYLIGHT
BEGIN:STANDARD
DTSTART:20221106T010000
TZOFFSETFROM:-0400
TZOFFSETTO:-0500
RRULE:FREQ=YEARLY;BYDAY=1SU;BYMONTH=11
TZNAME:EST
END:STANDARD
END:VTIMEZONE
BEGIN:VEVENT
DTSTAMP:20220430T231038Z
UID:54E264F5-F480-4DCE-86F7-06845358F09F
DTSTART;TZID=US/Eastern:20220426T171500
DTEND;TZID=US/Eastern:20220426T180000
DESCRIPTION:CHAPTER TECHNICAL PRESENTATIONS SESSION 1 (4:30 - 5:15 PM):\n\n
 C. Static Charge Control Demonstrations\nKelly Robinson\, Electrostatic An
 swers\n\nThe IEEE Power and Energy Society / Industry Applications Society
 \nRochester Joint Chapter is proud to present Kelly Robinson\nat our Secti
 on&#39;s joint chapters meeting (JCM) on April 26\, 2022.\n\nReservations are 
 required to attend the technical sessions\, reception\, dinner and keynote
  presentation.\n\nTo attend this event\, please register at:\n\n[IEEE Roch
 ester Section Joint Chapters Meeting](https://events.vtools.ieee.org/m/308
 572)\n\nSpeaker(s): Kelly Robinson\, \n\nAgenda: \nCHAPTER TECHNICAL PRESE
 NTATIONS SESSION 1 (4:30 - 5:15 PM):\n\nC. Static Charge Control Demonstra
 tions\nKelly Robinson\, Electrostatic Answers\n\nIEEE Power and Energy Soc
 iety / Industry Applications Society\n\nRoom: Conference Room\, Bldg: Bldg
 . 28\, Kodak Center\, 210 West Ridge Road\, Rochester\, New York\, United 
 States\, 14621\, Virtual: https://events.vtools.ieee.org/m/308594
LOCATION:Room: Conference Room\, Bldg: Bldg. 28\, Kodak Center\, 210 West R
 idge Road\, Rochester\, New York\, United States\, 14621\, Virtual: https:
 //events.vtools.ieee.org/m/308594
ORGANIZER:jkendrick388@frontiernet.net
SEQUENCE:11
SUMMARY:Static Charge Control Demonstrations
URL;VALUE=URI:https://events.vtools.ieee.org/m/308594
X-ALT-DESC:Description: &lt;br /&gt;&lt;p&gt;&lt;strong&gt;CHAPTER TECHNICAL PRESENTATIONS SE
 SSION 1 (4:30 - 5:15 PM):&amp;nbsp\;&lt;/strong&gt;&lt;/p&gt;\n&lt;p&gt;&lt;strong&gt;C. Static Charge
  Control Demonstrations&lt;br /&gt;&amp;nbsp\; &amp;nbsp\; &amp;nbsp\;Kelly Robinson\, Elect
 rostatic Answers&lt;/strong&gt;&lt;/p&gt;\n&lt;p&gt;&lt;span style=&quot;font-size: 12pt\;&quot;&gt;The &lt;em&gt;
 IEEE Power and Energy Society / Industry Applications Society&lt;/em&gt; &lt;br /&gt;R
 ochester Joint Chapter is proud to present Kelly Robinson &lt;br /&gt;at our Sec
 tion&#39;s joint chapters meeting (JCM) on April 26\, 2022.&lt;/span&gt;&lt;span style=
 &quot;font-size: 12pt\;&quot;&gt;&amp;nbsp\; &lt;/span&gt;&lt;/p&gt;\n&lt;p&gt;&lt;span style=&quot;font-size: 12pt\;
 &quot;&gt;Reservations are required to attend the technical sessions\, reception\,
  dinner and keynote presentatio&lt;/span&gt;&lt;span style=&quot;font-size: 12pt\;&quot;&gt;n. &amp;
 nbsp\;&lt;/span&gt;&lt;/p&gt;\n&lt;p&gt;&lt;span style=&quot;font-size: 12pt\;&quot;&gt;To attend this event
 \, please register at:&lt;/span&gt;&lt;/p&gt;\n&lt;p&gt;&lt;strong&gt;&lt;span style=&quot;color: #2dc26b\
 ;&quot;&gt;&lt;a style=&quot;color: #2dc26b\;&quot; title=&quot;Main Event Registration&quot; href=&quot;https
 ://events.vtools.ieee.org/m/308572&quot; target=&quot;_blank&quot; rel=&quot;noopener&quot;&gt;IEEE Ro
 chester Section Joint Chapters Meeting&lt;/a&gt;&lt;/span&gt;&lt;/strong&gt;&lt;/p&gt;&lt;br /&gt;&lt;br /&gt;
 Agenda: &lt;br /&gt;&lt;p&gt;&lt;strong&gt;CHAPTER TECHNICAL PRESENTATIONS SESSION 1 (4:30 -
  5:15 PM):&amp;nbsp\;&lt;/strong&gt;&lt;/p&gt;\n&lt;p&gt;&lt;strong&gt;C. Static Charge Control Demons
 trations&lt;br /&gt;&amp;nbsp\; &amp;nbsp\; &amp;nbsp\;Kelly Robinson\, Electrostatic Answer
 s&lt;/strong&gt;&lt;/p&gt;\n&lt;p&gt;&lt;em&gt;IEEE Power and Energy Society / Industry Applicatio
 ns Society&lt;/em&gt;&lt;/p&gt;
END:VEVENT
END:VCALENDAR

