BEGIN:VCALENDAR
VERSION:2.0
PRODID:IEEE vTools.Events//EN
CALSCALE:GREGORIAN
BEGIN:VTIMEZONE
TZID:America/Guayaquil
BEGIN:DAYLIGHT
DTSTART:20380118T221407
TZOFFSETFROM:-0500
TZOFFSETTO:-0500
RRULE:FREQ=YEARLY;BYDAY=3MO;BYMONTH=1
TZNAME:-05
END:DAYLIGHT
BEGIN:STANDARD
DTSTART:19930204T230000
TZOFFSETFROM:-0400
TZOFFSETTO:-0500
RRULE:FREQ=YEARLY;BYDAY=1TH;BYMONTH=2
TZNAME:-05
END:STANDARD
END:VTIMEZONE
BEGIN:VEVENT
DTSTAMP:20220401T031548Z
UID:F4A0DBFE-88CA-49DD-BC87-1429AE8A660E
DTSTART;TZID=America/Guayaquil:20220331T180000
DTEND;TZID=America/Guayaquil:20220331T200000
DESCRIPTION:\n\nCo-sponsored by: Grupo estudiantil NIoT - ESPOL\n\nSpeaker(
 s): Ing. Kevin Axell Concha Regatto\, \n\nAgenda: \n18h00: Inicio de la ch
 arla.\n\n18h05: Bienvenida a los participantes.\n\n18h10: Presentación de
  la biografía del ponente.\n\n18h15-19h49: Demostración de diseño y des
 arrollo de la aplicación móvil multiplataforma.\n\n19h50: Preguntas del 
 público.\n\n19h58-20h00: Agradecimiento por asistencia.\n\nVirtual: https
 ://events.vtools.ieee.org/m/308627
LOCATION:Virtual: https://events.vtools.ieee.org/m/308627
ORGANIZER:acollaguazo@ieee.org
SEQUENCE:20
SUMMARY:Charla demostrativa de apps multiplataforma con Flutter
URL;VALUE=URI:https://events.vtools.ieee.org/m/308627
X-ALT-DESC:Description: &lt;br /&gt;&lt;p&gt;&amp;nbsp\;&lt;/p&gt;\n&lt;p&gt;&amp;nbsp\;&lt;/p&gt;\n&lt;p&gt;&amp;nbsp\;&lt;/p
 &gt;&lt;br /&gt;&lt;br /&gt;Agenda: &lt;br /&gt;&lt;p&gt;&lt;span style=&quot;font-weight: 400\;&quot;&gt;18h00: Inic
 io de la charla.&lt;/span&gt;&lt;/p&gt;\n&lt;p&gt;&lt;span style=&quot;font-weight: 400\;&quot;&gt;18h05: Bi
 envenida a los participantes.&lt;/span&gt;&lt;/p&gt;\n&lt;p&gt;&lt;span style=&quot;font-weight: 400
 \;&quot;&gt;18h10: Presentaci&amp;oacute\;n de la biograf&amp;iacute\;a del ponente.&lt;/span
 &gt;&lt;/p&gt;\n&lt;p&gt;&lt;span style=&quot;font-weight: 400\;&quot;&gt;18h15-19h49: Demostraci&amp;oacute\
 ;n de dise&amp;ntilde\;o y desarrollo de la aplicaci&amp;oacute\;n m&amp;oacute\;vil m
 ultiplataforma.&lt;/span&gt;&lt;/p&gt;\n&lt;p&gt;&lt;span style=&quot;font-weight: 400\;&quot;&gt;19h50: Pre
 guntas del p&amp;uacute\;blico.&lt;/span&gt;&lt;/p&gt;\n&lt;p&gt;&lt;span style=&quot;font-weight: 400\;
 &quot;&gt;19h58-20h00: Agradecimiento por asistencia.&lt;/span&gt;&lt;/p&gt;
END:VEVENT
END:VCALENDAR

