BEGIN:VCALENDAR
VERSION:2.0
PRODID:IEEE vTools.Events//EN
CALSCALE:GREGORIAN
BEGIN:VTIMEZONE
TZID:Australia/Sydney
BEGIN:DAYLIGHT
DTSTART:20211003T030000
TZOFFSETFROM:+1000
TZOFFSETTO:+1100
RRULE:FREQ=YEARLY;BYDAY=1SU;BYMONTH=10
TZNAME:AEDT
END:DAYLIGHT
BEGIN:STANDARD
DTSTART:20220403T020000
TZOFFSETFROM:+1100
TZOFFSETTO:+1000
RRULE:FREQ=YEARLY;BYDAY=1SU;BYMONTH=4
TZNAME:AEST
END:STANDARD
END:VTIMEZONE
BEGIN:VEVENT
DTSTAMP:20220403T050058Z
UID:1A0D6758-C0B1-4E60-B1D1-4E0AEC67C8C6
DTSTART;TZID=Australia/Sydney:20220331T180000
DTEND;TZID=Australia/Sydney:20220331T193000
DESCRIPTION:[Improving renewable grid reliability through precision measure
 ment]\n\nThis talk will provide an overview of novel research to underpin 
 the delivery of renewable energy. Some examples include:\n\n- New referenc
 e measurement systems for electrical power at frequencies up to 200 kHz\, 
 harmonics and flicker. Not only the amplitude of powerline harmonics but a
 lso their phase with respect to the fundamental can now be measured with a
 n uncertainty of 0.001 degrees\, traceable directly to the International S
 ystem of Units (SI) via quantum voltage standards based on the Josephson e
 ffect.\n- A reference system to calibrate Phasor Measurement Units (PMUs) 
 that measure a number of physical quantities\, including rate of change of
  frequency\, synchronised to Coordinated Universal Time (UTC) using timing
  signals that are derived from the Global Positioning System (GPS) and/or 
 other Global Navigation Satellite Systems. The new NMI facility provides c
 alibration of PMUs traceable to the Australian national standards of elect
 rical and time quantities.\n- State of the art reference systems for measu
 ring complex high voltage waveforms up to 100 kV and currents up to 4000 A
  in the frequency range up to 20 kHz.\n\nRapid development of sustainable 
 sources of energy and energy-efficient appliances comes with a challenge 
 – to ensure safe and reliable operation of electricity grids and equipme
 nt connected to them. Learn how precision measurement provides a foundatio
 n to quantify the risks associated with the variation in the powerline fre
 quency\, fast transients and degrading power quality caused by high-freque
 ncy harmonics\, flicker and voltage fluctuations. Become immersed in the f
 ascinating world of leading-edge electrical measurement science and techno
 logy.\n\nSpeaker(s): Dr Ilya Budovsky\, \n\nHarricks Auditorium\, Engineer
 s Australia\, Sydney Office\,\, 44 Market St\, Sydney\, New South Wales\, 
 Australia\, 200-
LOCATION:Harricks Auditorium\, Engineers Australia\, Sydney Office\,\, 44 M
 arket St\, Sydney\, New South Wales\, Australia\, 200-
ORGANIZER:Talbingo@optusnet.com.au
SEQUENCE:6
SUMMARY:Improving renewable grid reliability through precision measurement 
URL;VALUE=URI:https://events.vtools.ieee.org/m/309250
X-ALT-DESC:Description: &lt;br /&gt;&lt;p&gt;&lt;img class=&quot;img-responsive&quot; title=&quot;Improvi
 ng renewable grid reliability through precision measurement&quot; src=&quot;https://
 www.engineersaustralia.org.au/sites/default/files/styles/ea_event_hero_ima
 ge_750_x_420_/public/events-images/tension%20string%20insulator%20impulse%
 20flashover.jpg?h=aa9062b0&amp;amp\;itok=GoXpyv-0&quot; alt=&quot;Improving renewable gr
 id reliability through precision measurement&quot; width=&quot;840&quot; height=&quot;360&quot; loa
 ding=&quot;lazy&quot; /&gt;&lt;/p&gt;\n&lt;p&gt;This talk will provide an overview of novel researc
 h to underpin the delivery of renewable energy. Some examples include:&lt;/p&gt;
 \n&lt;ol&gt;\n&lt;li&gt;New reference measurement systems for electrical power at freq
 uencies up to 200 kHz\, harmonics and flicker. Not only the amplitude of p
 owerline harmonics but also their phase with respect to the fundamental ca
 n now be measured with an uncertainty of 0.001 degrees\, traceable directl
 y to the International System of Units (SI) via quantum voltage standards 
 based on the Josephson effect.&lt;/li&gt;\n&lt;li&gt;A reference system to calibrate P
 hasor Measurement Units (PMUs) that measure a number of physical quantitie
 s\, including rate of change of frequency\, synchronised to Coordinated Un
 iversal Time (UTC) using timing signals that are derived from the Global P
 ositioning System (GPS) and/or other Global Navigation Satellite Systems. 
 The new NMI facility provides calibration of PMUs traceable to the Austral
 ian national standards of electrical and time quantities.&lt;/li&gt;\n&lt;li&gt;State 
 of the art reference systems for measuring complex high voltage waveforms 
 up to 100 kV and currents up to 4000 A in the frequency range up to 20 kHz
 .&lt;/li&gt;\n&lt;/ol&gt;\n&lt;p&gt;Rapid development of sustainable sources of energy and e
 nergy-efficient appliances comes with a challenge &amp;ndash\; to ensure safe 
 and reliable operation of electricity grids and equipment connected to the
 m. Learn how precision measurement provides a foundation to quantify the r
 isks associated with the variation in the powerline frequency\, fast trans
 ients and degrading power quality caused by high-frequency harmonics\, fli
 cker and voltage fluctuations. Become immersed in the fascinating world of
  leading-edge electrical measurement science and technology.&lt;/p&gt;
END:VEVENT
END:VCALENDAR

