BEGIN:VCALENDAR
VERSION:2.0
PRODID:IEEE vTools.Events//EN
CALSCALE:GREGORIAN
BEGIN:VTIMEZONE
TZID:US/Mountain
BEGIN:DAYLIGHT
DTSTART:20220313T030000
TZOFFSETFROM:-0700
TZOFFSETTO:-0600
RRULE:FREQ=YEARLY;BYDAY=2SU;BYMONTH=3
TZNAME:MDT
END:DAYLIGHT
BEGIN:STANDARD
DTSTART:20221106T010000
TZOFFSETFROM:-0600
TZOFFSETTO:-0700
RRULE:FREQ=YEARLY;BYDAY=1SU;BYMONTH=11
TZNAME:MST
END:STANDARD
END:VTIMEZONE
BEGIN:VEVENT
DTSTAMP:20220501T224144Z
UID:0E097557-695E-4065-BDAD-0440FA9764FF
DTSTART;TZID=US/Mountain:20220428T180000
DTEND;TZID=US/Mountain:20220428T193000
DESCRIPTION:In this talk\, Beverly Freeman\, Google user experience researc
 her\, explores the challenges of collecting high-quality training data fro
 m medical experts for the development of artificial intelligence solutions
  for disease detection. Drawing from interviews with AI practitioners and 
 domain experts in ophthalmology\, radiology\, pathology\, and dermatology\
 , this talk describes the collaborative and iterative strategies that help
  teams identify and address issues before they proliferate. The key lesson
  learned in this research is &quot;An ounce of prevention is worth a pound of c
 ure.&quot;\n\nSpeaker(s): Beverly Freeman\, \n\nVirtual: https://events.vtools.
 ieee.org/m/310017
LOCATION:Virtual: https://events.vtools.ieee.org/m/310017
ORGANIZER:genef@ieee.org
SEQUENCE:9
SUMMARY: AI- Iterative Quality Control Strategies for Expert Medical Image 
 Labeling (Google Health)
URL;VALUE=URI:https://events.vtools.ieee.org/m/310017
X-ALT-DESC:Description: &lt;br /&gt;&lt;p&gt;In this talk\,&amp;nbsp\; Beverly Freeman\, Go
 ogle user experience researcher\,&amp;nbsp\; explores the challenges of collec
 ting high-quality training data from medical experts for the development o
 f artificial intelligence solutions for disease detection. Drawing from in
 terviews with AI practitioners and domain experts in ophthalmology\, radio
 logy\, pathology\, and dermatology\, this talk describes the collaborative
  and iterative strategies that help teams identify and address issues befo
 re they proliferate. The key lesson learned in this research is &quot;An ounce 
 of prevention is worth a pound of cure.&quot;&amp;nbsp\;&lt;/p&gt;
END:VEVENT
END:VCALENDAR

