BEGIN:VCALENDAR
VERSION:2.0
PRODID:IEEE vTools.Events//EN
CALSCALE:GREGORIAN
BEGIN:VTIMEZONE
TZID:America/New_York
BEGIN:DAYLIGHT
DTSTART:20220313T030000
TZOFFSETFROM:-0500
TZOFFSETTO:-0400
RRULE:FREQ=YEARLY;BYDAY=2SU;BYMONTH=3
TZNAME:EDT
END:DAYLIGHT
BEGIN:STANDARD
DTSTART:20221106T010000
TZOFFSETFROM:-0400
TZOFFSETTO:-0500
RRULE:FREQ=YEARLY;BYDAY=1SU;BYMONTH=11
TZNAME:EST
END:STANDARD
END:VTIMEZONE
BEGIN:VEVENT
DTSTAMP:20220817T183605Z
UID:7A729FE9-0481-4A16-9F1A-134E1CDD9E06
DTSTART;TZID=America/New_York:20220817T140000
DTEND;TZID=America/New_York:20220817T150000
DESCRIPTION:USPTO Copyright\, IP\, Trademark\, and Patent Series\n\nBefore 
 you file your patent application\, you need to conduct a prior art search.
  Learn to search databases used by patent examiners. This session will cov
 er essential questions\, including:\n\n- What are the benefits of searchin
 g?\n- Where can you search?\n- When should you search?\n- How do you searc
 h using USPTO search tools?\n\nThis session will be useful for inventors\,
  entrepreneurs\, and those who have a beginning to intermediate knowledge 
 of patents and would like to learn more about patent searching.\n\nSpeaker
 (s): Tomeka Oubichon\, \n\nAgenda: \nView the Webinar on Demand Here:\n\n-
 --------------------------------------------------------------\n\nhttps://
 ieeeusa.org/tag/uspto-series\n\nWe are excited to partner again with the U
 nited States Patent and Trademark Office (USPTO) to bring you valuable inf
 ormation and advice from Patent\, Trademark\, IP\, and Copyright experts. 
 We hope you can join us for the entire series.\n\n- View the entire series
  on Demand Here: https://ieeeusa.org/tag/uspto-series\n\nIEEE-USA&#39;s free w
 ebinars/events are designed to help you find your next job\, maintain your
  career\, negotiate an appropriate salary\, understand ethical considerati
 ons in the workplace and learn about other career-building strategies and 
 public policy developments that affect your profession.\n\nVirtual: https:
 //events.vtools.ieee.org/m/310109
LOCATION:Virtual: https://events.vtools.ieee.org/m/310109
ORGANIZER:d.iams@ieee.org
SEQUENCE:11
SUMMARY:Patent Searching (IEEE-USA Free Webinar)
URL;VALUE=URI:https://events.vtools.ieee.org/m/310109
X-ALT-DESC:Description: &lt;br /&gt;&lt;p&gt;&lt;span style=&quot;font-family: verdana\, geneva
 \, sans-serif\; font-size: 14pt\; color: #236fa1\;&quot;&gt;&lt;strong&gt;USPTO Copyrigh
 t\, IP\, Trademark\, and Patent Series&lt;/strong&gt;&lt;/span&gt;&lt;/p&gt;\n&lt;p&gt;&lt;span style
 =&quot;font-family: verdana\, geneva\, sans-serif\; font-size: 12pt\;&quot;&gt;Before y
 ou file your patent application\, you need to conduct a prior art search. 
 Learn to search databases used by patent examiners. This session will cove
 r essential questions\, including:&lt;/span&gt;&lt;/p&gt;\n&lt;ul&gt;\n&lt;li&gt;&lt;span style=&quot;font
 -family: verdana\, geneva\, sans-serif\; font-size: 12pt\;&quot;&gt;What are the b
 enefits of searching?&lt;/span&gt;&lt;/li&gt;\n&lt;li&gt;&lt;span style=&quot;font-family: verdana\,
  geneva\, sans-serif\; font-size: 12pt\;&quot;&gt;Where can you search?&lt;/span&gt;&lt;/li
 &gt;\n&lt;li&gt;&lt;span style=&quot;font-family: verdana\, geneva\, sans-serif\; font-size
 : 12pt\;&quot;&gt;When should you search?&lt;/span&gt;&lt;/li&gt;\n&lt;li&gt;&lt;span style=&quot;font-famil
 y: verdana\, geneva\, sans-serif\; font-size: 12pt\;&quot;&gt;How do you search us
 ing USPTO search tools?&lt;/span&gt;&lt;/li&gt;\n&lt;/ul&gt;\n&lt;p&gt;&lt;span style=&quot;font-family: v
 erdana\, geneva\, sans-serif\; font-size: 12pt\;&quot;&gt;This session will be use
 ful for inventors\, entrepreneurs\, and those who have a beginning to inte
 rmediate knowledge of patents and would like to learn more about patent se
 arching.&lt;/span&gt;&lt;/p&gt;&lt;br /&gt;&lt;br /&gt;Agenda: &lt;br /&gt;&lt;p&gt;&lt;strong&gt;&lt;span style=&quot;font-
 family: verdana\, geneva\, sans-serif\;&quot;&gt;&lt;span style=&quot;color: #236fa1\; fon
 t-size: 14pt\;&quot;&gt;View the Webinar on Demand Here:&lt;br /&gt;&lt;br /&gt;&lt;/span&gt;&lt;/span&gt;
 &lt;/strong&gt;&lt;/p&gt;\n&lt;table border=&quot;1&quot; width=&quot;560&quot;&gt;\n&lt;tbody&gt;\n&lt;tr&gt;\n&lt;td&gt;&lt;iframe 
 title=&quot;YouTube video player&quot; src=&quot;https://www.youtube.com/embed/2WWtj5roU6
 E&quot; width=&quot;560&quot; height=&quot;315&quot; frameborder=&quot;0&quot; allowfullscreen=&quot;&quot;&gt;&lt;/iframe&gt;&lt;/
 td&gt;\n&lt;/tr&gt;\n&lt;/tbody&gt;\n&lt;/table&gt;\n&lt;p&gt;&amp;nbsp\;&lt;/p&gt;\n&lt;hr /&gt;\n&lt;p&gt;&amp;nbsp\;&lt;/p&gt;\n&lt;p
 &gt;&lt;a href=&quot;https://ieeeusa.org/tag/uspto-series&quot; target=&quot;_blank&quot; rel=&quot;noope
 ner&quot;&gt;&lt;img src=&quot;https://dc773e3yplvbs.cloudfront.net/image/max-dim/930x600/
 filters:no_upscale()/filters:quality(25)//23252d69-3401-4d1a-ae25-284e1606
 1980.png&quot; alt=&quot;&quot; width=&quot;848&quot; height=&quot;212&quot; /&gt;&lt;/a&gt;&lt;/p&gt;\n&lt;p&gt;&lt;span style=&quot;font
 -family: verdana\, geneva\, sans-serif\;&quot;&gt;&lt;br /&gt;We are excited to partner 
 again with the United States Patent and Trademark Office (USPTO) to bring 
 you valuable information and advice from Patent\, Trademark\, IP\, and Cop
 yright experts.&amp;nbsp\; We hope you can join us for the entire series.&lt;br /
 &gt;&lt;br /&gt;&lt;/span&gt;&lt;/p&gt;\n&lt;ul&gt;\n&lt;li&gt;&lt;span style=&quot;font-size: 14pt\;&quot;&gt;&lt;strong&gt;View
  the entire series on Demand Here:&lt;/strong&gt; &lt;a href=&quot;https://ieeeusa.org/t
 ag/uspto-series&quot;&gt;&lt;strong&gt;https://ieeeusa.org/tag/uspto-series&lt;/strong&gt;&lt;/a&gt;
 &lt;/span&gt;&lt;/li&gt;\n&lt;/ul&gt;\n&lt;p&gt;&lt;span style=&quot;color: #000000\; font-family: verdana
 \, geneva\, sans-serif\;&quot;&gt;&amp;nbsp\;&lt;/span&gt;&lt;/p&gt;\n&lt;p&gt;&lt;span style=&quot;color: #0000
 00\; font-family: verdana\, geneva\, sans-serif\;&quot;&gt;IEEE-USA&#39;s free webinar
 s/events are designed to help you find your next job\, maintain your caree
 r\, negotiate an appropriate salary\, understand ethical considerations in
  the workplace and learn about other career-building strategies and public
  policy developments that affect your profession.&lt;/span&gt;&lt;/p&gt;
END:VEVENT
END:VCALENDAR

