BEGIN:VCALENDAR
VERSION:2.0
PRODID:IEEE vTools.Events//EN
CALSCALE:GREGORIAN
BEGIN:VTIMEZONE
TZID:America/Los_Angeles
BEGIN:DAYLIGHT
DTSTART:20220313T030000
TZOFFSETFROM:-0800
TZOFFSETTO:-0700
RRULE:FREQ=YEARLY;BYDAY=2SU;BYMONTH=3
TZNAME:PDT
END:DAYLIGHT
BEGIN:STANDARD
DTSTART:20221106T010000
TZOFFSETFROM:-0700
TZOFFSETTO:-0800
RRULE:FREQ=YEARLY;BYDAY=1SU;BYMONTH=11
TZNAME:PST
END:STANDARD
END:VTIMEZONE
BEGIN:VEVENT
DTSTAMP:20220424T014737Z
UID:88DAC2AC-8BA3-4D21-A4A2-2609F6A3C408
DTSTART;TZID=America/Los_Angeles:20220420T180000
DTEND;TZID=America/Los_Angeles:20220420T210000
DESCRIPTION:Location - Rusty’s Pizza ­­\n\n5934 Calle Real\, Goleta\, C
 A 93117\n\n6:00 PM – Complimentary Pizza\, Salad\, Beverage\n\n6:25 PM 
 – Central Coast Status\n\n6:30 PM – Professor Pennathur Presents\n\nGr
 eetings\, You and guest(s) are invited to join us at Rusty’s on April 20
 th at 6PM for an exciting talk on the development of an innovative micro-e
 lectromechanical system (MEMS} that is incorporated into a patch that is w
 orn on the skin. Professor Sumita Pennathur will talk on the Artificial Pa
 ncreas (AP) MEMS she has developed for managing type 1 Diabetes. In additi
 on to being full Professor of ME at UCSB\, Dr. Pennathur is CEO of Laxmi T
 herapeutic Devices where the AP MEMS are being developed. In 2017 Dr. Penn
 athur received the prestigious “Visionary Award” from the American Dia
 betes Association (ADA) for her AP MEMS design. The award included $1.625 
 million to support her research.\n\nPlease register yourself and guests be
 low.\n\nBest regards\,\n\nRuth Franklin\, IEEE Central\, Coast Chair\n\nSp
 eaker(s): Dr. Sumita Pennathur\, \n\nRoom: Banquet Room\, Rusty&#39;s Pizza\, 
 5934 Calle Real\, Goleta\, California\, United States
LOCATION:Room: Banquet Room\, Rusty&#39;s Pizza\, 5934 Calle Real\, Goleta\, Ca
 lifornia\, United States
ORGANIZER:ruth.franklin@ieee.org
SEQUENCE:29
SUMMARY:IEEE CC Event - AP MEMS Design - 20 April 2022 @ Rusty&#39;s
URL;VALUE=URI:https://events.vtools.ieee.org/m/310391
X-ALT-DESC:Description: &lt;br /&gt;&lt;p&gt;&lt;strong&gt;Location - Rusty&amp;rsquo\;s Pizza &amp;s
 hy\;&amp;shy\;&amp;nbsp\;&amp;nbsp\;&amp;nbsp\;&amp;nbsp\;&amp;nbsp\;&amp;nbsp\;&amp;nbsp\;&amp;nbsp\;&amp;nbsp\;&amp;
 nbsp\;&amp;nbsp\;&amp;nbsp\;&amp;nbsp\;&amp;nbsp\;&amp;nbsp\;&amp;nbsp\;&amp;nbsp\;&amp;nbsp\;&amp;nbsp\;&amp;nbsp
 \;&amp;nbsp\;&amp;nbsp\;&amp;nbsp\;&amp;nbsp\;&amp;nbsp\;&amp;nbsp\;&amp;nbsp\;&amp;nbsp\;&amp;nbsp\;&amp;nbsp\;&amp;n
 bsp\;&amp;nbsp\;&amp;nbsp\;&amp;nbsp\;&amp;nbsp\;&amp;nbsp\;&amp;nbsp\;&amp;nbsp\;&amp;nbsp\;&amp;nbsp\;&amp;nbsp\
 ;&amp;nbsp\;&amp;nbsp\;&amp;nbsp\;&amp;nbsp\;&amp;nbsp\;&amp;nbsp\;&amp;nbsp\;&amp;nbsp\;&amp;nbsp\;&amp;nbsp\;&amp;nb
 sp\;&amp;nbsp\;&amp;nbsp\;&amp;nbsp\;&amp;nbsp\;&amp;nbsp\;&amp;nbsp\;&amp;nbsp\;&amp;nbsp\;&amp;nbsp\;&amp;nbsp\;
 &amp;nbsp\;&amp;nbsp\;&amp;nbsp\;&amp;nbsp\;&amp;nbsp\;&amp;nbsp\;&amp;nbsp\;&amp;nbsp\;&amp;nbsp\;&amp;nbsp\;&amp;nbs
 p\;&amp;nbsp\;&amp;nbsp\;&amp;nbsp\;&amp;nbsp\;&amp;nbsp\;&amp;nbsp\;&amp;nbsp\;&amp;nbsp\;&amp;nbsp\;&amp;nbsp\;&amp;
 nbsp\; &lt;/strong&gt;&lt;/p&gt;\n&lt;p&gt;5934 Calle Real\, Goleta\, CA 93117&lt;/p&gt;\n&lt;p&gt;6:00 
 PM &amp;ndash\; Complimentary Pizza\, Salad\, Beverage&lt;/p&gt;\n&lt;p&gt;6:25 PM &amp;ndash\
 ; Central Coast Status&lt;/p&gt;\n&lt;p&gt;6:30 PM &amp;ndash\; Professor Pennathur Presen
 ts&lt;/p&gt;\n&lt;p&gt;Greetings\, You and guest(s) are invited to join us at Rusty&amp;rs
 quo\;s on April 20&lt;sup&gt;th&lt;/sup&gt; at 6PM for an exciting talk on the develop
 ment of an innovative micro-electromechanical system (MEMS} that is incorp
 orated into a patch that is worn on the skin. &lt;strong&gt;Professor Sumita Pen
 nathur&lt;/strong&gt; will talk on the Artificial Pancreas (AP) MEMS she has dev
 eloped for managing type 1 Diabetes. In addition to being full Professor o
 f ME at UCSB\, Dr. Pennathur is CEO of Laxmi Therapeutic Devices where the
  AP MEMS are being developed. In 2017 Dr. Pennathur received the prestigio
 us &amp;ldquo\;Visionary Award&amp;rdquo\; from the American Diabetes Association 
 (ADA) for her AP MEMS design. The award included $1.625 million to support
  her research.&lt;/p&gt;\n&lt;p&gt;&lt;span style=&quot;color: #ba372a\;&quot;&gt;&lt;strong&gt;Please regis
 ter yourself and guests below.&lt;/strong&gt;&lt;/span&gt;&lt;/p&gt;\n&lt;p&gt;Best regards\,&lt;/p&gt;\
 n&lt;p&gt;Ruth Franklin\, IEEE Central\, Coast Chair&amp;nbsp\;&lt;/p&gt;
END:VEVENT
END:VCALENDAR

