BEGIN:VCALENDAR
VERSION:2.0
PRODID:IEEE vTools.Events//EN
CALSCALE:GREGORIAN
BEGIN:VTIMEZONE
TZID:America/Lima
BEGIN:DAYLIGHT
DTSTART:20380118T221407
TZOFFSETFROM:-0500
TZOFFSETTO:-0500
RRULE:FREQ=YEARLY;BYDAY=3MO;BYMONTH=1
TZNAME:-05
END:DAYLIGHT
BEGIN:STANDARD
DTSTART:19940331T230000
TZOFFSETFROM:-0400
TZOFFSETTO:-0500
RRULE:FREQ=YEARLY;BYDAY=-1TH;BYMONTH=3
TZNAME:-05
END:STANDARD
END:VTIMEZONE
BEGIN:VEVENT
DTSTAMP:20220411T210054Z
UID:EABBA79F-15C0-4974-AB6B-97C7D1AABCC4
DTSTART;TZID=America/Lima:20220408T180000
DTEND;TZID=America/Lima:20220408T200000
DESCRIPTION:Fecha: Viernes 08 de Abril 2022\n\nHora: 18:00h Perú/Colombia 
 (GMT-5)\n\nDetalles: Este conversatorio se realizará en el idioma españo
 l de manera virtual y gratuito.\n\nBreve resumen: El Equipo de IEEE PES Wo
 men in Power Perú se complace en invitarlos al Ciclo de Webinars PES DAY:
  &quot;Diseño de Sistemas Solares y Nuevas Tecnologías&quot; a cargo de la PhD. Mg
 . Eunice Villicaña Ortiz.\n\nCo-sponsored by: IEEE PES Women in Power Per
 u\n\nSpeaker(s): PhD. Mg. Eunice Villicaña Ortiz\, \n\nAgenda: \nFecha: V
 iernes 08 de Abril 2022\n\nHora: 18:00h Perú/Colombia (GMT-5)\n\nDetalles
 : Este conversatorio se realizará en el idioma español de manera virtual
  y gratuito.\n\nBreve resumen: El Equipo de IEEE PES Women in Power Perú 
 se complace en invitarlos al Ciclo de Webinars PES DAY: &quot;Diseño de Sistem
 as Solares y Nuevas Tecnologías&quot; a cargo de la PhD. Mg. Eunice Villicaña
  Ortiz.\n\nLima\, Lima\, Peru\, Virtual: https://events.vtools.ieee.org/m/
 310559
LOCATION:Lima\, Lima\, Peru\, Virtual: https://events.vtools.ieee.org/m/310
 559
ORGANIZER:karina.huanqui@ieee.org
SEQUENCE:1
SUMMARY:Ciclo de Webinars PES DAY: &quot;Diseño de Sistemas Solares y Nuevas Te
 cnologías&quot;
URL;VALUE=URI:https://events.vtools.ieee.org/m/310559
X-ALT-DESC:Description: &lt;br /&gt;&lt;p&gt;&lt;strong&gt;&lt;span style=&quot;text-decoration: unde
 rline\;&quot;&gt;Fecha&lt;/span&gt;&lt;/strong&gt;: Viernes 08 de Abril 2022&lt;/p&gt;\n&lt;p&gt;&lt;strong&gt;&lt;
 span style=&quot;text-decoration: underline\;&quot;&gt;Hora&lt;/span&gt;&lt;/strong&gt;: 18:00h Per
 &amp;uacute\;/Colombia (GMT-5)&lt;/p&gt;\n&lt;p&gt;&lt;strong&gt;&lt;span style=&quot;text-decoration: u
 nderline\;&quot;&gt;Detalles&lt;/span&gt;&lt;/strong&gt;: Este conversatorio se realizar&amp;aacut
 e\; en el idioma espa&amp;ntilde\;ol de manera &lt;span class=&quot;VIiyi&quot; lang=&quot;en&quot;&gt;&lt;
 span class=&quot;JLqJ4b ChMk0b&quot; data-language-for-alternatives=&quot;en&quot; data-langua
 ge-to-translate-into=&quot;es&quot; data-phrase-index=&quot;0&quot;&gt;&lt;span class=&quot;VIiyi&quot; lang=&quot;
 es&quot;&gt;virtual y gratuito&lt;/span&gt;.&lt;/span&gt;&lt;/span&gt;&lt;/p&gt;\n&lt;p&gt;&lt;span class=&quot;VIiyi&quot; l
 ang=&quot;en&quot;&gt;&lt;span class=&quot;JLqJ4b ChMk0b&quot; data-language-for-alternatives=&quot;en&quot; d
 ata-language-to-translate-into=&quot;es&quot; data-phrase-index=&quot;0&quot;&gt;&lt;strong&gt;&lt;span st
 yle=&quot;text-decoration: underline\;&quot;&gt;&lt;span class=&quot;VIiyi&quot; lang=&quot;es&quot;&gt;Breve res
 umen&lt;/span&gt;&lt;/span&gt;&lt;/strong&gt;: El Equipo de IEEE PES Women in Power Per&amp;uacu
 te\; se complace en invitarlos al Ciclo de Webinars PES DAY: &quot;Dise&amp;ntilde\
 ;o de Sistemas Solares y Nuevas Tecnolog&amp;iacute\;as&quot; a cargo de la &lt;span c
 lass=&quot;JsGRdQ&quot;&gt;PhD. Mg. Eunice Villica&amp;ntilde\;a Ortiz&lt;/span&gt;.&lt;/span&gt;&lt;/span
 &gt;&lt;/p&gt;&lt;br /&gt;&lt;br /&gt;Agenda: &lt;br /&gt;&lt;p&gt;&lt;strong&gt;&lt;span style=&quot;text-decoration: un
 derline\;&quot;&gt;Fecha&lt;/span&gt;&lt;/strong&gt;: Viernes 08 de Abril 2022&lt;/p&gt;\n&lt;p&gt;&lt;strong
 &gt;&lt;span style=&quot;text-decoration: underline\;&quot;&gt;Hora&lt;/span&gt;&lt;/strong&gt;: 18:00h P
 er&amp;uacute\;/Colombia (GMT-5)&lt;/p&gt;\n&lt;p&gt;&lt;strong&gt;&lt;span style=&quot;text-decoration:
  underline\;&quot;&gt;Detalles&lt;/span&gt;&lt;/strong&gt;: Este conversatorio se realizar&amp;aac
 ute\; en el idioma espa&amp;ntilde\;ol de manera &lt;span class=&quot;VIiyi&quot; lang=&quot;en&quot;
 &gt;&lt;span class=&quot;JLqJ4b ChMk0b&quot; data-language-for-alternatives=&quot;en&quot; data-lang
 uage-to-translate-into=&quot;es&quot; data-phrase-index=&quot;0&quot;&gt;&lt;span class=&quot;VIiyi&quot; lang
 =&quot;es&quot;&gt;virtual y gratuito&lt;/span&gt;.&lt;/span&gt;&lt;/span&gt;&lt;/p&gt;\n&lt;p&gt;&lt;span class=&quot;VIiyi&quot;
  lang=&quot;en&quot;&gt;&lt;span class=&quot;JLqJ4b ChMk0b&quot; data-language-for-alternatives=&quot;en&quot;
  data-language-to-translate-into=&quot;es&quot; data-phrase-index=&quot;0&quot;&gt;&lt;strong&gt;&lt;span 
 style=&quot;text-decoration: underline\;&quot;&gt;&lt;span class=&quot;VIiyi&quot; lang=&quot;es&quot;&gt;Breve r
 esumen&lt;/span&gt;&lt;/span&gt;&lt;/strong&gt;: El Equipo de IEEE PES Women in Power Per&amp;ua
 cute\; se complace en invitarlos al Ciclo de Webinars PES DAY: &quot;Dise&amp;ntild
 e\;o de Sistemas Solares y Nuevas Tecnolog&amp;iacute\;as&quot; a cargo de la &lt;span
  class=&quot;JsGRdQ&quot;&gt;PhD. Mg. Eunice Villica&amp;ntilde\;a Ortiz&lt;/span&gt;.&lt;/span&gt;&lt;/sp
 an&gt;&lt;/p&gt;
END:VEVENT
END:VCALENDAR

