BEGIN:VCALENDAR
VERSION:2.0
PRODID:IEEE vTools.Events//EN
CALSCALE:GREGORIAN
BEGIN:VTIMEZONE
TZID:America/Toronto
BEGIN:DAYLIGHT
DTSTART:20220313T030000
TZOFFSETFROM:-0500
TZOFFSETTO:-0400
RRULE:FREQ=YEARLY;BYDAY=2SU;BYMONTH=3
TZNAME:EDT
END:DAYLIGHT
BEGIN:STANDARD
DTSTART:20221106T010000
TZOFFSETFROM:-0400
TZOFFSETTO:-0500
RRULE:FREQ=YEARLY;BYDAY=1SU;BYMONTH=11
TZNAME:EST
END:STANDARD
END:VTIMEZONE
BEGIN:VEVENT
DTSTAMP:20220414T133634Z
UID:A76CCC90-1321-4C8A-834B-EB08C570BF29
DTSTART;TZID=America/Toronto:20220413T150000
DTEND;TZID=America/Toronto:20220413T160000
DESCRIPTION:Please join us for an upcoming talk on Apr 13\, 3-4 pm (Eastern
  Time) by Prof. Reyhan Baktur titled &quot;Integrated Solar-Pannel Antennas\,&quot; 
 as part of the 2021-2022 IEEE AP-S seminar series.\n\nAbstract:\n\nConform
 al Integration of antennas with solar panels has wide applications\, from 
 small spacecraft\, Mars rovers\, to self-powered wireless sensors. It is p
 articularly beneficial when the surface real estate is a major challenge\,
  such as a CubeSat. A strategic integration not only reduces the developme
 nt cost\, promotes a robust communication link\, but also increases the mi
 ssion capacity by allowing more science instruments to be mounted on the C
 ubeSat.\n\nThis lecture covers different conformal antenna designs for sol
 ar panel integration\, from UHF to Ka band. It includes antennas integrate
 d under solar cells\, around solar cells\, and optically transparent anten
 nas integrated on top of solar cells. It also covers low gain and high gai
 n design. The high gain design mainly focuses on reflectarray antenna\, wh
 ich may be beneficial to those who wishes to study the subject.\n\nAs thes
 e antennas are integrated with solar panel\, a unique and complex subsyste
 m\, effects of solar cells on the antenna and vice versa need to be analyz
 ed and quantified. The lecture presents analysis of a typical space-certif
 ied solar cell\, extracted model\, experimental set-up to quantify the int
 eraction between solar cells and the integrated antennas.\n\nAbout Speaker
 :\n\nDr. Reyhan Baktur is an associate professor at the department of Elec
 trical and Computer Engineering (ECE)\, Utah State University (USU). Her r
 esearch interests include antennas and microwave engineering with a focus 
 on antenna design for CubeSats\; optically transparent antennas\; multifun
 ctional integrated antennas\, sensors\, and microwave circuits.\n\nShe is 
 affiliated with the Center for Space Engineering at USU\, the Space Dynami
 cs Laboratory (the university affiliated research center)\, and collaborat
 es with NASA Goddard Space Flight Center.\n\nDr. Baktur is an AdCom member
  of IEEE Antennas and Propagation Society\, and is active in US National C
 ommittee of the International Union of Radio Science\, serving as the vice
  chair for commission B\, and the inaugural chair for the Women in Radio S
 cience.\n\nShe is passionate and committed to electromagnetic education an
 d student recruiting by introducing CubeSat projects in undergraduate clas
 srooms. She is the recipient of the IEEE Antennas and Propagation Society
 ’s (APS) the Donald G. Dudley Jr. Undergraduate Teaching Award in 2013 a
 nd has been actively serving IEEE APS student paper competition and studen
 t design contest.\n\nDr. Baktur’s lectures will focus on CubeSat Develop
 ment Basics\, Link Budget Analysis and Development\, Antenna Designs for C
 ubeSats and Small Satellites\, Transparent Antennas\, and Class Projects f
 or Electromagnetic Courses.\n\nSpeaker(s): Reyhan Baktur\, \n\nToronto\, O
 ntario\, Canada\, Virtual: https://events.vtools.ieee.org/m/310574
LOCATION:Toronto\, Ontario\, Canada\, Virtual: https://events.vtools.ieee.o
 rg/m/310574
ORGANIZER:pz.naseri@gmail.com
SEQUENCE:5
SUMMARY:[AP-S Seminar Series] Integrated Solar-Pannel Antennas by Prof. Rey
 han Baktur 
URL;VALUE=URI:https://events.vtools.ieee.org/m/310574
X-ALT-DESC:Description: &lt;br /&gt;&lt;p&gt;&lt;span style=&quot;font-size: 12pt\; font-family
 : arial\, helvetica\, sans-serif\;&quot;&gt;Please join us for an upcoming talk on
  &lt;strong&gt;Apr 13\, 3-4 pm (Eastern Time)&lt;/strong&gt; by Prof. Reyhan Baktur ti
 tled &quot;Integrated Solar-Pannel Antennas\,&quot; as part of the 2021-2022 IEEE AP
 -S seminar series.&lt;/span&gt;&lt;/p&gt;\n&lt;p&gt;&lt;span style=&quot;font-size: 12pt\; font-fami
 ly: arial\, helvetica\, sans-serif\;&quot;&gt;&lt;strong&gt;Abstract:&lt;/strong&gt;&amp;nbsp\;&lt;/s
 pan&gt;&lt;/p&gt;\n&lt;p&gt;&lt;span style=&quot;font-size: 12pt\; font-family: arial\, helvetica
 \, sans-serif\;&quot;&gt;Conformal Integration of antennas with solar panels has w
 ide applications\, from small spacecraft\, Mars rovers\, to self-powered w
 ireless sensors. It is particularly beneficial when the surface real estat
 e is a major challenge\, such as a CubeSat. A strategic integration not on
 ly reduces the development cost\, promotes a robust communication link\, b
 ut also increases the mission capacity by allowing more science instrument
 s to be mounted on the CubeSat.&lt;/span&gt;&lt;/p&gt;\n&lt;p&gt;&lt;span style=&quot;font-size: 12p
 t\; font-family: arial\, helvetica\, sans-serif\;&quot;&gt;This lecture covers dif
 ferent conformal antenna designs for solar panel integration\, from UHF to
  Ka band. It includes antennas integrated under solar cells\, around solar
  cells\, and optically transparent antennas integrated on top of solar cel
 ls. It also covers low gain and high gain design. The high gain design mai
 nly focuses on reflectarray antenna\, which may be beneficial to those who
  wishes to study the subject.&lt;/span&gt;&lt;/p&gt;\n&lt;p&gt;&lt;span style=&quot;font-size: 12pt\
 ; font-family: arial\, helvetica\, sans-serif\;&quot;&gt;As these antennas are int
 egrated with solar panel\, a unique and complex subsystem\, effects of sol
 ar cells on the antenna and vice versa need to be analyzed and quantified.
  The lecture presents analysis of a typical space-certified solar cell\, e
 xtracted model\, experimental set-up to quantify the interaction between s
 olar cells and the integrated antennas.&lt;/span&gt;&lt;/p&gt;\n&lt;p&gt;&lt;span style=&quot;font-f
 amily: arial\, helvetica\, sans-serif\;&quot;&gt;&lt;strong&gt;About Speaker:&amp;nbsp\;&lt;/st
 rong&gt;&lt;/span&gt;&lt;/p&gt;\n&lt;p&gt;&lt;span style=&quot;font-family: arial\, helvetica\, sans-se
 rif\;&quot;&gt;Dr. Reyhan Baktur is an associate professor at the department of El
 ectrical and Computer Engineering (ECE)\, Utah State University (USU). Her
  research interests include antennas and microwave engineering with a focu
 s on antenna design for CubeSats\; optically transparent antennas\; multif
 unctional integrated antennas\, sensors\, and microwave circuits.&lt;/span&gt;&lt;/
 p&gt;\n&lt;p&gt;&lt;span style=&quot;font-family: arial\, helvetica\, sans-serif\;&quot;&gt;She is 
 affiliated with the Center for Space Engineering at USU\, the Space Dynami
 cs Laboratory (the university affiliated research center)\, and collaborat
 es with NASA Goddard Space Flight Center.&lt;/span&gt;&lt;/p&gt;\n&lt;p&gt;&lt;span style=&quot;font
 -family: arial\, helvetica\, sans-serif\;&quot;&gt;Dr. Baktur is an AdCom member o
 f IEEE Antennas and Propagation Society\, and is active in US National Com
 mittee of the International Union of Radio Science\, serving as the vice c
 hair for commission B\, and the inaugural chair for the Women in Radio Sci
 ence.&lt;/span&gt;&lt;/p&gt;\n&lt;p&gt;&lt;span style=&quot;font-family: arial\, helvetica\, sans-se
 rif\;&quot;&gt;She is passionate and committed to electromagnetic education and st
 udent recruiting by introducing CubeSat projects in undergraduate classroo
 ms. She is the recipient of the IEEE Antennas and Propagation Society&amp;rsqu
 o\;s (APS) the Donald G. Dudley Jr. Undergraduate Teaching Award in 2013 a
 nd has been actively serving IEEE APS student paper competition and studen
 t design contest.&lt;/span&gt;&lt;/p&gt;\n&lt;p&gt;&lt;span style=&quot;font-family: arial\, helveti
 ca\, sans-serif\;&quot;&gt;Dr. Baktur&amp;rsquo\;s lectures will focus on CubeSat Deve
 lopment Basics\, Link Budget Analysis and Development\, Antenna Designs fo
 r CubeSats and Small Satellites\, Transparent Antennas\, and Class Project
 s for Electromagnetic Courses.&lt;/span&gt;&lt;/p&gt;
END:VEVENT
END:VCALENDAR

