BEGIN:VCALENDAR
VERSION:2.0
PRODID:IEEE vTools.Events//EN
CALSCALE:GREGORIAN
BEGIN:VTIMEZONE
TZID:America/Guayaquil
BEGIN:DAYLIGHT
DTSTART:20380118T221407
TZOFFSETFROM:-0500
TZOFFSETTO:-0500
RRULE:FREQ=YEARLY;BYDAY=3MO;BYMONTH=1
TZNAME:-05
END:DAYLIGHT
BEGIN:STANDARD
DTSTART:19930204T230000
TZOFFSETFROM:-0400
TZOFFSETTO:-0500
RRULE:FREQ=YEARLY;BYDAY=1TH;BYMONTH=2
TZNAME:-05
END:STANDARD
END:VTIMEZONE
BEGIN:VEVENT
DTSTAMP:20221217T174058Z
UID:95311578-8699-4B42-B24F-4EA3B422571A
DTSTART;TZID=America/Guayaquil:20220409T090000
DTEND;TZID=America/Guayaquil:20220409T130000
DESCRIPTION:Curso básico de Radio Definida por Software Parte 1\n\nInstruc
 tor: PhD. Daniel Altamirano\n\nTemas:\n\n- Introducción a radio definido 
 por software\n-  Descripción del hardware RTL-SDR\n-  Configuración del 
 hardware RTL-SDR en Matlab\n-  Visualización de frecuencias\n-\n\nFecha: 
 Sábado 9\nHora: 9h00 - 13h00\nLugar: Laboratorio UPO-102\n\n*Se entregar
 á certificado al finalizar el curso.\n\nSpeaker(s): Daniel Altamirano\, \
 n\nUDLA Park\, Vía Nayón. Laboratorio UPO 102\, Quito\, Pichincha\, Ecua
 dor\, Virtual: https://events.vtools.ieee.org/m/310689
LOCATION:UDLA Park\, Vía Nayón. Laboratorio UPO 102\, Quito\, Pichincha\,
  Ecuador\, Virtual: https://events.vtools.ieee.org/m/310689
ORGANIZER:paula.tilleria@ieee.org
SEQUENCE:2
SUMMARY:CURSO TARJETAS DE RADIO DEFINIDAS POR SOFTWARE (SDR) Part1
URL;VALUE=URI:https://events.vtools.ieee.org/m/310689
X-ALT-DESC:Description: &lt;br /&gt;&lt;p&gt;Curso b&amp;aacute\;sico de Radio Definida por
  Software Parte 1&lt;/p&gt;\n&lt;p&gt;Instructor: PhD. Daniel Altamirano&lt;/p&gt;\n&lt;p&gt;Temas
 :&lt;/p&gt;\n&lt;ul&gt;\n&lt;li&gt;Introducci&amp;oacute\;n a radio definido por software&lt;/li&gt;\n
 &lt;li data-ccp-props=&quot;{&amp;quot\;335551550&amp;quot\;:1\,&amp;quot\;335551620&amp;quot\;:1\
 ,&amp;quot\;335559683&amp;quot\;:0\,&amp;quot\;335559685&amp;quot\;:144\,&amp;quot\;335559731&amp;
 quot\;:-144\,&amp;quot\;335559737&amp;quot\;:0\,&amp;quot\;335562764&amp;quot\;:2\,&amp;quot\;
 335562765&amp;quot\;:0.9\,&amp;quot\;335562766&amp;quot\;:4\,&amp;quot\;335562767&amp;quot\;:1
 2\,&amp;quot\;335562768&amp;quot\;:4\,&amp;quot\;335562769&amp;quot\;:2}&quot;&gt;&lt;span data-usefo
 ntface=&quot;false&quot; data-contrast=&quot;none&quot;&gt; Descripci&amp;oacute\;n del hardware RTL-
 SDR&lt;/span&gt;&lt;/li&gt;\n&lt;li data-ccp-props=&quot;{&amp;quot\;335551550&amp;quot\;:1\,&amp;quot\;33
 5551620&amp;quot\;:1\,&amp;quot\;335559683&amp;quot\;:0\,&amp;quot\;335559685&amp;quot\;:144\,
 &amp;quot\;335559731&amp;quot\;:-144\,&amp;quot\;335559737&amp;quot\;:0\,&amp;quot\;335562764&amp;
 quot\;:2\,&amp;quot\;335562765&amp;quot\;:0.9\,&amp;quot\;335562766&amp;quot\;:4\,&amp;quot\;3
 35562767&amp;quot\;:12\,&amp;quot\;335562768&amp;quot\;:4\,&amp;quot\;335562769&amp;quot\;:2}&quot;
 &gt;&lt;span data-usefontface=&quot;false&quot; data-contrast=&quot;none&quot;&gt; Configuraci&amp;oacute\;
 n del hardware RTL-SDR en Matlab&lt;/span&gt;&lt;/li&gt;\n&lt;li data-ccp-props=&quot;{&amp;quot\;
 335551550&amp;quot\;:1\,&amp;quot\;335551620&amp;quot\;:1\,&amp;quot\;335559683&amp;quot\;:0\,
 &amp;quot\;335559685&amp;quot\;:144\,&amp;quot\;335559731&amp;quot\;:-144\,&amp;quot\;33555973
 7&amp;quot\;:0\,&amp;quot\;335562764&amp;quot\;:2\,&amp;quot\;335562765&amp;quot\;:0.9\,&amp;quot\
 ;335562766&amp;quot\;:4\,&amp;quot\;335562767&amp;quot\;:12\,&amp;quot\;335562768&amp;quot\;:4
 \,&amp;quot\;335562769&amp;quot\;:2}&quot;&gt;&lt;span data-usefontface=&quot;false&quot; data-contrast
 =&quot;none&quot;&gt; Visualizaci&amp;oacute\;n de frecuencias&lt;/span&gt;&lt;/li&gt;\n&lt;li data-ccp-pr
 ops=&quot;{&amp;quot\;335551550&amp;quot\;:1\,&amp;quot\;335551620&amp;quot\;:1\,&amp;quot\;3355596
 83&amp;quot\;:0\,&amp;quot\;335559685&amp;quot\;:144\,&amp;quot\;335559731&amp;quot\;:-144\,&amp;q
 uot\;335559737&amp;quot\;:0\,&amp;quot\;335562764&amp;quot\;:2\,&amp;quot\;335562765&amp;quot\
 ;:0.9\,&amp;quot\;335562766&amp;quot\;:4\,&amp;quot\;335562767&amp;quot\;:12\,&amp;quot\;33556
 2768&amp;quot\;:4\,&amp;quot\;335562769&amp;quot\;:2}&quot;&gt;&amp;nbsp\;&lt;/li&gt;\n&lt;/ul&gt;\n&lt;p&gt;Fecha: 
 S&amp;aacute\;bado 9&lt;br /&gt;Hora: 9h00 - 13h00&lt;br /&gt;Lugar: Laboratorio UPO-102&lt;/
 p&gt;\n&lt;p&gt;*Se entregar&amp;aacute\; certificado al finalizar el curso.&lt;/p&gt;
END:VEVENT
END:VCALENDAR

