BEGIN:VCALENDAR
VERSION:2.0
PRODID:IEEE vTools.Events//EN
CALSCALE:GREGORIAN
BEGIN:VTIMEZONE
TZID:Asia/Jerusalem
BEGIN:DAYLIGHT
DTSTART:20220325T030000
TZOFFSETFROM:+0200
TZOFFSETTO:+0300
RRULE:FREQ=YEARLY;BYDAY=-1FR;BYMONTH=3
TZNAME:IDT
END:DAYLIGHT
BEGIN:STANDARD
DTSTART:20211031T010000
TZOFFSETFROM:+0300
TZOFFSETTO:+0200
RRULE:FREQ=YEARLY;BYDAY=-1SU;BYMONTH=10
TZNAME:IST
END:STANDARD
END:VTIMEZONE
BEGIN:VEVENT
DTSTAMP:20220404T144126Z
UID:250500AD-B98E-4E54-ABE5-51D26C977EA2
DTSTART;TZID=Asia/Jerusalem:20220308T190000
DTEND;TZID=Asia/Jerusalem:20220308T210000
DESCRIPTION:In collaboration with NGate\, the Access Program\, Amideast\, J
 abal An-Nar Club\, and Tomorrow&#39;s Youth Organization\, the WIE society at 
 the NNU branch hosted a virtual session titled &quot;From Passion to Purpose&quot; t
 o commemorate International Women&#39;s Day.\n\nThis multi-session event offer
 ed networking opportunities\, technical small workshops to get females sta
 rted with coding\, and enjoyable sessions that introduced them to tech top
 ics such as Silicon Valley and Women &amp; the Art of Coding. All of this was 
 provided in the presence of three notable guests\, all of whom are women w
 ith experience in technology: Dr. Mona Dmaidi\, Dr. Ayah Soufan\, Tala Al 
 Sweiti.\n\nSpeaker(s): Sondos Hijab \, Zain Abu Baker \n\nAgenda: \n(7:00-
 7:15) Guests of honor speech\n\n(7:15-7:35) Women &amp; the art of coding sess
 ion\n\n(7:35-7:45) Break\n\n(7:45-8:05) All about silicon valley\n\n(8:05-
 8:30) Technical session - Python\n\n(8:30-8:45) Kahoot questions!\n\n(8:45
 -9:00) Wrapping up!\n\nVirtual: https://events.vtools.ieee.org/m/310852
LOCATION:Virtual: https://events.vtools.ieee.org/m/310852
ORGANIZER:zainabubaker2002@gmail.com
SEQUENCE:12
SUMMARY:From Passion To Purpose 
URL;VALUE=URI:https://events.vtools.ieee.org/m/310852
X-ALT-DESC:Description: &lt;br /&gt;&lt;p&gt;&lt;span style=&quot;font-family: arial\, helvetic
 a\, sans-serif\; font-size: 14pt\;&quot;&gt;In collaboration with NGate\, the Acce
 ss Program\, Amideast\, Jabal An-Nar Club\, and Tomorrow&#39;s Youth Organizat
 ion\, the WIE society at the NNU branch hosted a virtual session titled &quot;F
 rom Passion to Purpose&quot; to commemorate International Women&#39;s Day.&lt;/span&gt;&lt;/
 p&gt;\n&lt;p&gt;&lt;span style=&quot;font-family: arial\, helvetica\, sans-serif\; font-siz
 e: 14pt\;&quot;&gt;This multi-session event offered networking opportunities\, tec
 hnical small workshops to get females started with coding\, and enjoyable 
 sessions that introduced them to tech topics such as Silicon Valley and Wo
 men &amp;amp\; the Art of Coding. All of this was provided in the presence of 
 three notable guests\, all of whom are women with experience in technology
 : Dr. Mona Dmaidi\, Dr. Ayah Soufan\, Tala Al Sweiti.&amp;nbsp\;&lt;/span&gt;&lt;/p&gt;&lt;br
  /&gt;&lt;br /&gt;Agenda: &lt;br /&gt;&lt;p&gt;&lt;span style=&quot;font-family: arial\, helvetica\, sa
 ns-serif\; color: #000000\;&quot;&gt;&lt;strong&gt;(7:00-7:15)&lt;/strong&gt; Guests of honor 
 speech&lt;/span&gt;&lt;/p&gt;\n&lt;p&gt;&lt;span style=&quot;font-family: arial\, helvetica\, sans-s
 erif\; color: #000000\;&quot;&gt;&lt;strong&gt;(7:15-7:35)&lt;/strong&gt; Women &amp;amp\; the art
  of coding session&lt;/span&gt;&lt;/p&gt;\n&lt;p&gt;&lt;span style=&quot;font-family: arial\, helvet
 ica\, sans-serif\; color: #000000\;&quot;&gt;&lt;strong&gt;(7:35-7:45)&lt;/strong&gt; Break&lt;/s
 pan&gt;&lt;/p&gt;\n&lt;p&gt;&lt;span style=&quot;font-family: arial\, helvetica\, sans-serif\; co
 lor: #000000\;&quot;&gt;&lt;strong&gt;(7:45-8:05) &lt;/strong&gt;All about silicon valley&lt;/spa
 n&gt;&lt;/p&gt;\n&lt;p&gt;&lt;span style=&quot;font-family: arial\, helvetica\, sans-serif\; colo
 r: #000000\;&quot;&gt;&lt;strong&gt;(8:05-8:30)&lt;/strong&gt; Technical session - Python&lt;/spa
 n&gt;&lt;/p&gt;\n&lt;p&gt;&lt;span style=&quot;font-family: arial\, helvetica\, sans-serif\; colo
 r: #000000\;&quot;&gt;&lt;strong&gt;(8:30-8:45)&lt;/strong&gt; Kahoot questions!&lt;/span&gt;&lt;/p&gt;\n&lt;
 p&gt;&lt;span style=&quot;font-family: arial\, helvetica\, sans-serif\; color: #00000
 0\;&quot;&gt;&lt;strong&gt;(8:45-9:00)&lt;/strong&gt; Wrapping up!&lt;/span&gt;&lt;/p&gt;
END:VEVENT
END:VCALENDAR

