BEGIN:VCALENDAR
VERSION:2.0
PRODID:IEEE vTools.Events//EN
CALSCALE:GREGORIAN
BEGIN:VTIMEZONE
TZID:Asia/Kolkata
BEGIN:STANDARD
DTSTART:19451014T230000
TZOFFSETFROM:+0630
TZOFFSETTO:+0530
TZNAME:IST
END:STANDARD
END:VTIMEZONE
BEGIN:VEVENT
DTSTAMP:20220406T160120Z
UID:2D329D02-B445-4D7F-A0A3-60CEACAA75A1
DTSTART;TZID=Asia/Kolkata:20220315T120000
DTEND;TZID=Asia/Kolkata:20220316T160000
DESCRIPTION:Greetings from Silver Oak University IEEE Student Branch\n\nHop
 e you are doing well!!\n\nWe believe in giving students exposure to the be
 st blend of technology and expertise. Aiming the same\, IEEE SOU SB brings
  you an enthralling two days hands-on workshop for &quot;AWS Cloud Practitioner
 &quot;.\n\nThrough this workshop\, we strive to make students explore dynamic t
 opics of Cloud Computing along with its implementations.\nThe workshop wil
 l be conducted in Offline mode by Mr. Nilesh Vaghela Founder of ElectroMec
 h\, AWS Community Hero\, AAI\, RHCI.\n\nParticipants will also receive a C
 ertificate on completion of this 2 Day workshop.\n\nRegistration fees:\nFo
 r Non-IEEE Members: Rs 250\nFor IEEE Members: Rs 50\n\nDate: 15th - 16th M
 arch\, 2022\n\nSpeaker(s): Nilesh Vaghela\, \n\nAhmedabad\, Gujarat\, Indi
 a\, Virtual: https://events.vtools.ieee.org/m/311087
LOCATION:Ahmedabad\, Gujarat\, India\, Virtual: https://events.vtools.ieee.
 org/m/311087
ORGANIZER:ieee.fbc@socet.edu.in
SEQUENCE:0
SUMMARY:Training Session On AWS Cloud Practitioner
URL;VALUE=URI:https://events.vtools.ieee.org/m/311087
X-ALT-DESC:Description: &lt;br /&gt;&lt;p&gt;Greetings from Silver Oak University IEEE 
 Student Branch&lt;/p&gt;\n&lt;p&gt;Hope you are doing well!!&lt;/p&gt;\n&lt;p&gt;We believe in giv
 ing students exposure to the best blend of technology and expertise. Aimin
 g the same\, IEEE SOU SB brings you an enthralling two days hands-on works
 hop for &quot;AWS Cloud Practitioner&quot;.&lt;/p&gt;\n&lt;p&gt;Through this workshop\, we striv
 e to make students explore dynamic topics of Cloud Computing along with it
 s implementations.&lt;br /&gt;The workshop will be conducted in Offline mode by 
 Mr. Nilesh Vaghela Founder of ElectroMech\, AWS Community Hero\, AAI\, RHC
 I.&lt;/p&gt;\n&lt;p&gt;Participants will also receive a Certificate on completion of t
 his 2 Day workshop.&lt;/p&gt;\n&lt;p&gt;Registration fees:&lt;br /&gt;For Non-IEEE Members: 
 Rs 250&lt;br /&gt;For IEEE Members: Rs 50&lt;/p&gt;\n&lt;p&gt;Date: 15th - 16th March\, 2022
 &lt;/p&gt;
END:VEVENT
END:VCALENDAR

