BEGIN:VCALENDAR
VERSION:2.0
PRODID:IEEE vTools.Events//EN
CALSCALE:GREGORIAN
BEGIN:VTIMEZONE
TZID:Indian/Christmas
BEGIN:DAYLIGHT
DTSTART:20380119T101407
TZOFFSETFROM:+0700
TZOFFSETTO:+0700
RRULE:FREQ=YEARLY;BYDAY=3TU;BYMONTH=1
TZNAME:+07
END:DAYLIGHT
BEGIN:STANDARD
DTSTART:19200401T001756
TZOFFSETFROM:+0642
TZOFFSETTO:+0700
RRULE:FREQ=YEARLY;BYDAY=1TH;BYMONTH=4
TZNAME:+07
END:STANDARD
END:VTIMEZONE
BEGIN:VEVENT
DTSTAMP:20220407T101311Z
UID:20136B67-90BA-4335-BA33-999FF467DA60
DTSTART;TZID=Indian/Christmas:20220325T153000
DTEND;TZID=Indian/Christmas:20220325T170000
DESCRIPTION:A virtual meeting for mentee institute was conducted for the fa
 culties and students of Gurukula Kangri (Deemed to be Universsity)\, Harid
 war on March 25\, 2022 from 3:30-5pm. The convener of the mentor institute
  was Dr. Aruna Bhat while the convener of mentee institute was Dr. Kapil P
 andey and Dr. Satyendra Kmar Rajput as President IIC GK (DU). The eminent 
 speaker Dr. (Prof.) Deepali Bhatnagar (Deputy Director-Amity Business Scho
 ol\, Amity University\, Jaipur) spoke on the topic “Creating Successful 
 Business Model through Strategic Positioning and Value Proposition Develop
 ment”. Dr. Aruna Bhat welcomed all the faculties and students of IIC- Gu
 rukla Kangri (Deemed to be University)\, Haridwar alongwith the internal m
 embers of II RIT Roorkee. Prof. Roop Kishore Shashtri\, Honourable Vice Ch
 ancellor GK (DU) inaugurated the session and inspired everyone to carry on
  such activities in the future too. After going through the profile of Dr.
  Deepali\, the program started with a basic understanding of Positioning a
 nd Value Proposition. Dr. Bhatnagar explained the ecosystem for creating a
 n environment to help students to come up with novel ideas and to position
  their products in the right way. The students and the faculties took a ve
 ry interest in understanding the concept by asking many queries concept. D
 r. Bhatnagar interacted with the students regarding the problems they may 
 encounter while positioning their product/ idea in the market. She also la
 id stress on the need and importance of value proposition for a product in
  terms of enhancing the customer base. The program ended with a vote of th
 anks by Dr. Kapil Pandey. More than 100 participants were present in this 
 program. The program ended at 5pm.\n\nCo-sponsored by: IIC RIT Roorkee\n\n
 Speaker(s): Prof. (Dr.) Deepali Bhatnagar\, \n\nAgenda: \n“MENTOR MENTEE
  MEETING” under Orientation cum Vision Building Program of IIC (Under Mi
 nistry of Education\, Govt. of India)\n\nVirtual: https://events.vtools.ie
 ee.org/m/311172
LOCATION:Virtual: https://events.vtools.ieee.org/m/311172
ORGANIZER:researchcell@ritroorkee.com
SEQUENCE:2
SUMMARY:“MENTOR MENTEE MEETING” under Orientation cum Vision Building P
 rogram of IIC (Under Ministry of Education\, Govt. of India)
URL;VALUE=URI:https://events.vtools.ieee.org/m/311172
X-ALT-DESC:Description: &lt;br /&gt;&lt;p&gt;A virtual meeting for mentee institute was
  conducted for the faculties and students of Gurukula Kangri (Deemed to be
  Universsity)\, Haridwar on March 25\, 2022 from 3:30-5pm. The convener of
  the mentor institute was Dr. Aruna Bhat while the convener of mentee inst
 itute was Dr. Kapil Pandey and Dr. Satyendra Kmar Rajput as President IIC 
 GK (DU). The eminent speaker Dr. (Prof.) Deepali Bhatnagar (Deputy Directo
 r-Amity Business School\, Amity University\, Jaipur) spoke on the topic &amp;l
 dquo\;Creating Successful Business Model through Strategic Positioning and
  Value Proposition Development&amp;rdquo\;. Dr. Aruna Bhat welcomed all the fa
 culties and students of IIC- Gurukla Kangri (Deemed to be University)\, Ha
 ridwar alongwith the internal members of II RIT Roorkee. Prof. Roop Kishor
 e Shashtri\, Honourable Vice Chancellor GK (DU) inaugurated the session an
 d inspired everyone to carry on such activities in the future too. After g
 oing through the profile of Dr. Deepali\, the program started with a basic
  understanding of Positioning and Value Proposition. Dr. Bhatnagar explain
 ed the ecosystem for creating an environment to help students to come up w
 ith novel ideas and to position their products in the right way. The stude
 nts and the faculties took a very interest in understanding the concept by
  asking many queries concept. Dr. Bhatnagar interacted with the students r
 egarding the problems they may encounter while positioning their product/ 
 idea in the market. She also laid stress on the need and importance of val
 ue proposition for a product in terms of enhancing the customer base. The 
 program ended with a vote of thanks by Dr. Kapil Pandey. More than 100 par
 ticipants were present in this program. The program ended at 5pm.&lt;/p&gt;&lt;br /
 &gt;&lt;br /&gt;Agenda: &lt;br /&gt;&lt;p&gt;&lt;strong&gt;&amp;ldquo\;MENTOR MENTEE MEETING&amp;rdquo\; unde
 r Orientation cum Vision Building Program of IIC (Under Ministry of Educat
 ion\, Govt. of India)&lt;/strong&gt;&lt;/p&gt;
END:VEVENT
END:VCALENDAR

