BEGIN:VCALENDAR
VERSION:2.0
PRODID:IEEE vTools.Events//EN
CALSCALE:GREGORIAN
BEGIN:VTIMEZONE
TZID:Canada/Eastern
BEGIN:DAYLIGHT
DTSTART:20220313T030000
TZOFFSETFROM:-0500
TZOFFSETTO:-0400
RRULE:FREQ=YEARLY;BYDAY=2SU;BYMONTH=3
TZNAME:EDT
END:DAYLIGHT
BEGIN:STANDARD
DTSTART:20221106T010000
TZOFFSETFROM:-0400
TZOFFSETTO:-0500
RRULE:FREQ=YEARLY;BYDAY=1SU;BYMONTH=11
TZNAME:EST
END:STANDARD
END:VTIMEZONE
BEGIN:VEVENT
DTSTAMP:20220830T002805Z
UID:86CAE3DB-C064-4CEB-9EF6-F3F86938D767
DTSTART;TZID=Canada/Eastern:20220429T120000
DTEND;TZID=Canada/Eastern:20220429T133000
DESCRIPTION:Are you interested in Microelectronics\, RF Systems\, Optical D
 evices and Packaging? Do you want to take on challenging test development 
 programs?\n\nJoin us in a virtual session with David Buckley\, VP of Engin
 eering and Eric Sislian\, VP of Business Development and Strategy\, to lea
 rn more about the exciting environment and opportunities at Sanmina’s Ad
 vanced Microsystems Technologies (AMT) business unit. AMT presents an envi
 ronment where you can make a difference and design a variety of product so
 lutions and have strong oversight of the advanced manufacturing and assemb
 ly processes that can bring these to life.\n\nCo-sponsored by: Advanced Mi
 crosystem Technologies\n\nSpeaker(s): David Buckley\, Eric Sislian\n\nVirt
 ual: https://events.vtools.ieee.org/m/311223
LOCATION:Virtual: https://events.vtools.ieee.org/m/311223
ORGANIZER:botros@ieee.org
SEQUENCE:3
SUMMARY:Career Fair: Engaging with Advanced Microsystems Technologies
URL;VALUE=URI:https://events.vtools.ieee.org/m/311223
X-ALT-DESC:Description: &lt;br /&gt;&lt;p&gt;Are you interested in Microelectronics\, R
 F Systems\, Optical Devices and Packaging? Do you want to take on challeng
 ing test development programs?&lt;/p&gt;\n&lt;p&gt;Join us in a virtual session with D
 avid Buckley\, VP of Engineering and Eric Sislian\, VP of Business Develop
 ment and Strategy\, to learn more about the exciting environment and oppor
 tunities at Sanmina&amp;rsquo\;s Advanced Microsystems Technologies (AMT) busi
 ness unit. AMT presents an environment where you can make a difference and
  design a variety of product solutions and have strong oversight of the ad
 vanced manufacturing and assembly processes that can bring these to life.&lt;
 /p&gt;
END:VEVENT
END:VCALENDAR

