BEGIN:VCALENDAR
VERSION:2.0
PRODID:IEEE vTools.Events//EN
CALSCALE:GREGORIAN
BEGIN:VTIMEZONE
TZID:US/Pacific
BEGIN:DAYLIGHT
DTSTART:20220313T030000
TZOFFSETFROM:-0800
TZOFFSETTO:-0700
RRULE:FREQ=YEARLY;BYDAY=2SU;BYMONTH=3
TZNAME:PDT
END:DAYLIGHT
BEGIN:STANDARD
DTSTART:20221106T010000
TZOFFSETFROM:-0700
TZOFFSETTO:-0800
RRULE:FREQ=YEARLY;BYDAY=1SU;BYMONTH=11
TZNAME:PST
END:STANDARD
END:VTIMEZONE
BEGIN:VEVENT
DTSTAMP:20220715T200749Z
UID:C3E06625-0C68-4F50-A3D2-8F3D3AF780FA
DTSTART;TZID=US/Pacific:20220518T173000
DTEND;TZID=US/Pacific:20220519T210000
DESCRIPTION:Please plan to attend this meeting of the Industry Applications
  Society. The speaker will be\n\nDillon Ballinger\, Distribution Engineer\
 , Alameda Municipal Power and his presentation will cover:\n\n- How to use
  pole loading software to implement good designs and help reduce warehouse
  inventory\n- Strategies to support the pole (guying\, slacking\, mid‑se
 t poles\, and stubbing)\n- Strategies to prevent pole overturn and failure
 \n- Sizing a pole to anticipate and accommodate the needs of all attached 
 members\n- Using visual clues to improve design perspective through contex
 tual information and environmental factors\n- Utilizing material specifica
 tions from manufacturers and the warehouse to model with precision and con
 fidence\n- Understanding riser location for vehicular traffic avoidance\, 
 pole replacement locating\, and pole climbing space requirements\n- Identi
 fying opportunities to design clearances to maintain safe work conditions\
 n\nAlameda Municipal Power (AMP) is a department of the City of Alameda\, 
 California. It was founded in 1887 and is the oldest municipal electric ut
 ility in California. AMP has approximately 85 pole miles of overhead distr
 ibution lines\, 192 circuit miles of underground distribution lines\, 7 po
 le miles of overhead transmission lines\, and 2 circuit miles of undergrou
 nd transmission lines. It serves approximately 34\,250 customers\, compris
 ed of about 30\,161 residential customers and 3\,711 commercial customers\
 , and 378 other users and has a peak demand of 62 megawatts.\n\nElectric u
 tilities have system reliability as a key goal for their operations to the
  customers that they serve. Electric utility providers strive for an overh
 ead electrical grid designed to withstand the tests of weather and time. O
 verhead line design and construction is a key component to system reliabil
 ity\, which is commonly measured and defined by SAIDI and SAIFI indices. A
 MP’s pole loading and modeling design process will be discussed to highl
 ight on how AMP maintains its exceptional reputation with its customers.\n
 \nSpeaker(s): Dillon Ballinger\, Distribution Engineer\, Alameda Municipal
  Power\, \n\nAgenda: \nTime: No-host social at 5:30 pm\; Presentation at 6
 :15pm\; Dinner at 7:15 pm\; Presentation continues at 8:00 pm\; Adjourn by
  9:00 pm.\n\nPlace: Zio Fraedo’s\, 611 Gregory Lane\, Pleasant Hill. Cal
 l 925-933-9091 if you need directions.\n\nRSVP: Please make reservations b
 y May 16 by contacting Luis Soria via email: lmsq@pge.com or telephone: (4
 15) 793-7909\n\n611 Gregory Lane\, Pleasant Hill\, California\, United Sta
 tes
LOCATION:611 Gregory Lane\, Pleasant Hill\, California\, United States
ORGANIZER:lmsq@pge.com
SEQUENCE:5
SUMMARY:Using Pole Loading Calculations to Optimize the Design Process
URL;VALUE=URI:https://events.vtools.ieee.org/m/311255
X-ALT-DESC:Description: &lt;br /&gt;&lt;p&gt;Please plan to attend this meeting of the 
 Industry Applications Society. The speaker will be&lt;/p&gt;\n&lt;p&gt;&lt;strong&gt;Dillon 
 Ballinger&lt;/strong&gt;\, Distribution Engineer\, Alameda Municipal Power and h
 is presentation will cover:&lt;/p&gt;\n&lt;ul&gt;\n&lt;li&gt;How to use pole loading softwar
 e to implement good designs and help reduce warehouse inventory&lt;/li&gt;\n&lt;li&gt;
 Strategies to support the pole (guying\, slacking\, mid‑set poles\, and 
 stubbing)&lt;/li&gt;\n&lt;li&gt;Strategies to prevent pole overturn and failure&lt;/li&gt;\n
 &lt;li&gt;Sizing a pole to anticipate and accommodate the needs of all attached 
 members&lt;/li&gt;\n&lt;li&gt;Using visual clues to improve design perspective through
  contextual information and environmental factors&lt;/li&gt;\n&lt;li&gt;Utilizing mate
 rial specifications from manufacturers and the warehouse to model with pre
 cision and confidence&lt;/li&gt;\n&lt;li&gt;Understanding riser location for vehicular
  traffic avoidance\, pole replacement locating\, and pole climbing space r
 equirements&lt;/li&gt;\n&lt;li&gt;Identifying opportunities to design clearances to ma
 intain safe work conditions&lt;/li&gt;\n&lt;/ul&gt;\n&lt;p&gt;Alameda Municipal Power (AMP) 
 is a department of the City of Alameda\, California. It was founded in 188
 7 and is the oldest municipal electric utility in California. AMP has appr
 oximately 85 pole miles of overhead distribution lines\, 192 circuit miles
  of underground distribution lines\, 7 pole miles of overhead transmission
  lines\, and 2 circuit miles of underground transmission lines. It serves 
 approximately 34\,250 customers\, comprised of about 30\,161 residential c
 ustomers and 3\,711 commercial customers\, and 378 other users and has a p
 eak demand of 62 megawatts.&lt;/p&gt;\n&lt;p&gt;Electric utilities have system reliabi
 lity as a key goal for their operations to the customers that they serve. 
 Electric utility providers strive for an overhead electrical grid designed
  to withstand the tests of weather and time. Overhead line design and cons
 truction is a key component to system reliability\, which is commonly meas
 ured and defined by SAIDI and SAIFI indices. AMP&amp;rsquo\;s pole loading and
  modeling design process will be discussed to highlight on how AMP maintai
 ns its exceptional reputation with its customers.&lt;/p&gt;\n&lt;p&gt;&amp;nbsp\;&lt;/p&gt;&lt;br /
 &gt;&lt;br /&gt;Agenda: &lt;br /&gt;&lt;p&gt;&lt;strong&gt;Time&lt;/strong&gt;: No-host social at 5:30 pm\;
  Presentation at 6:15pm\; Dinner at 7:15 pm\; Presentation continues at 8:
 00 pm\; Adjourn by 9:00 pm.&lt;/p&gt;\n&lt;p&gt;&lt;strong&gt;Place&lt;/strong&gt;: Zio Fraedo&amp;rsq
 uo\;s\, 611 Gregory Lane\, Pleasant Hill. Call 925-933-9091 if you need di
 rections.&lt;/p&gt;\n&lt;p&gt;RSVP:&amp;nbsp\;&amp;nbsp\;&lt;strong&gt;Please make reservations by M
 ay 16 &lt;/strong&gt;by contacting Luis Soria via email:&amp;nbsp\;&lt;a href=&quot;mailto:l
 msq@pge.com&quot;&gt;lmsq@pge.com&lt;/a&gt;&amp;nbsp\;or telephone: (415) 793-7909&lt;/p&gt;
END:VEVENT
END:VCALENDAR

