BEGIN:VCALENDAR
VERSION:2.0
PRODID:IEEE vTools.Events//EN
CALSCALE:GREGORIAN
BEGIN:VTIMEZONE
TZID:US/Eastern
BEGIN:DAYLIGHT
DTSTART:20220313T030000
TZOFFSETFROM:-0500
TZOFFSETTO:-0400
RRULE:FREQ=YEARLY;BYDAY=2SU;BYMONTH=3
TZNAME:EDT
END:DAYLIGHT
BEGIN:STANDARD
DTSTART:20221106T010000
TZOFFSETFROM:-0400
TZOFFSETTO:-0500
RRULE:FREQ=YEARLY;BYDAY=1SU;BYMONTH=11
TZNAME:EST
END:STANDARD
END:VTIMEZONE
BEGIN:VEVENT
DTSTAMP:20220914T001409Z
UID:1FA54116-5730-46BD-802E-4DB5A8BFCDB5
DTSTART;TZID=US/Eastern:20220411T193000
DTEND;TZID=US/Eastern:20220411T210000
DESCRIPTION:Medical Electronics:Health &amp; Medical Devices Literacy\n\nCo-spo
 nsored by: IEEE North NJ Coast and North Jersey Section\n\nAgenda: \nJoin 
 Zoom Meeting\nhttps://us02web.zoom.us/j/86740645707?pwd=RWRLaFFPaW00REhlcl
 paWDd2MWhmdz09\n\nBldg: Virtual\, virtual\, New Jersey\, New Jersey\, Unit
 ed States
LOCATION:Bldg: Virtual\, virtual\, New Jersey\, New Jersey\, United States
ORGANIZER:anisha_apte@ieee.org
SEQUENCE:5
SUMMARY:Medical Electronics:Health &amp; Medical Devices Literacy
URL;VALUE=URI:https://events.vtools.ieee.org/m/311619
X-ALT-DESC:Description: &lt;br /&gt;&lt;p&gt;Medical Electronics:Health &amp;amp\; Medical 
 Devices Literacy&lt;/p&gt;&lt;br /&gt;&lt;br /&gt;Agenda: &lt;br /&gt;&lt;p&gt;Join Zoom Meeting&lt;br clea
 r=&quot;none&quot; /&gt;&lt;a href=&quot;https://us02web.zoom.us/j/86740645707?pwd=RWRLaFFPaW00
 REhlclpaWDd2MWhmdz09&quot; target=&quot;_blank&quot; rel=&quot;nofollow noopener noreferrer&quot; s
 hape=&quot;rect&quot;&gt;https://us02web.zoom.us/j/86740645707?pwd=RWRLaFFPaW00REhlclpa
 WDd2MWhmdz09&lt;/a&gt;&lt;/p&gt;
END:VEVENT
END:VCALENDAR

