BEGIN:VCALENDAR
VERSION:2.0
PRODID:IEEE vTools.Events//EN
CALSCALE:GREGORIAN
BEGIN:VTIMEZONE
TZID:America/Guayaquil
BEGIN:DAYLIGHT
DTSTART:20380118T221407
TZOFFSETFROM:-0500
TZOFFSETTO:-0500
RRULE:FREQ=YEARLY;BYDAY=3MO;BYMONTH=1
TZNAME:-05
END:DAYLIGHT
BEGIN:STANDARD
DTSTART:19930204T230000
TZOFFSETFROM:-0400
TZOFFSETTO:-0500
RRULE:FREQ=YEARLY;BYDAY=1TH;BYMONTH=2
TZNAME:-05
END:STANDARD
END:VTIMEZONE
BEGIN:VEVENT
DTSTAMP:20220525T155141Z
UID:DC786D33-907E-441B-9FA7-DDFFF086B6BA
DTSTART;TZID=America/Guayaquil:20220429T180000
DTEND;TZID=America/Guayaquil:20220430T000000
DESCRIPTION:\n\nSpeaker(s): Msig. Joffre Pesántez\, Ing. Julio Mendoza e I
 ng. Natalia Díaz\n\nAgenda: \n29 de Abril de 2022\n\n18h00: Inicio de la 
 charla.\n\n18h05: Bienvenida a los participantes.\n\n18h10: Presentación 
 de la biografía del ponente.\n\n18h15 - 19h49: Primera conferencia con el
  Msig. Joffre Pesántez.\n\n19h50: Preguntas del público.\n\n19h58 - 20h0
 0: Encuesta de satisfacción. Agradecimiento por asistencia.\n\n30 de Abri
 l de 2022\n\n10h00: Inicio de la charla.\n\n10h05: Bienvenida a los partic
 ipantes.\n\n10h10: Presentación de la biografía de los ponentes.\n\n10h1
 5 - 11h49: Conferencia con el Ing. Julio Mendoza y la Ing. Natalia Díaz.\
 n\n11h50: Preguntas del público.\n\n11h58 - 12h00: Encuesta de satisfacci
 ón. Agradecimiento por asistencia.\n\nVirtual: https://events.vtools.ieee
 .org/m/311685
LOCATION:Virtual: https://events.vtools.ieee.org/m/311685
ORGANIZER:acollaguazo@ieee.org
SEQUENCE:45
SUMMARY:Ciclo de conferencias de Programabilidad y Automatización en Redes
URL;VALUE=URI:https://events.vtools.ieee.org/m/311685
X-ALT-DESC:Description: &lt;br /&gt;&lt;div&gt;&amp;nbsp\;&lt;/div&gt;\n&lt;p&gt;&amp;nbsp\;&lt;/p&gt;&lt;br /&gt;&lt;br /
 &gt;Agenda: &lt;br /&gt;&lt;p&gt;&lt;strong&gt;29 de Abril de 2022&lt;/strong&gt;&lt;/p&gt;\n&lt;p&gt;18h00: Inic
 io de la charla.&lt;/p&gt;\n&lt;p&gt;18h05: Bienvenida a los participantes.&lt;/p&gt;\n&lt;p&gt;18
 h10: Presentaci&amp;oacute\;n de la biograf&amp;iacute\;a del ponente.&lt;/p&gt;\n&lt;p&gt;18h
 15 - 19h49: Primera conferencia con el Msig. Joffre Pes&amp;aacute\;ntez.&lt;/p&gt;\
 n&lt;p&gt;19h50: Preguntas del p&amp;uacute\;blico.&lt;/p&gt;\n&lt;p&gt;19h58 - 20h00: Encuesta 
 de satisfacci&amp;oacute\;n. Agradecimiento por asistencia.&lt;/p&gt;\n&lt;p&gt;&amp;nbsp\;&lt;/p
 &gt;\n&lt;p&gt;&lt;strong&gt;30 de Abril de 2022&lt;/strong&gt;&lt;/p&gt;\n&lt;p&gt;10h00: Inicio de la cha
 rla.&lt;/p&gt;\n&lt;p&gt;10h05: Bienvenida a los participantes.&lt;/p&gt;\n&lt;p&gt;10h10: Present
 aci&amp;oacute\;n de la biograf&amp;iacute\;a de los ponentes.&lt;/p&gt;\n&lt;p&gt;10h15 - 11h
 49: Conferencia con el Ing. &amp;nbsp\;Julio Mendoza y la Ing. Natalia D&amp;iacut
 e\;az.&lt;/p&gt;\n&lt;p&gt;11h50: Preguntas del p&amp;uacute\;blico.&lt;/p&gt;\n&lt;p&gt;11h58 - 12h00
 : Encuesta de satisfacci&amp;oacute\;n. Agradecimiento por asistencia.&lt;/p&gt;
END:VEVENT
END:VCALENDAR

