BEGIN:VCALENDAR
VERSION:2.0
PRODID:IEEE vTools.Events//EN
CALSCALE:GREGORIAN
BEGIN:VTIMEZONE
TZID:US/Eastern
BEGIN:DAYLIGHT
DTSTART:20220313T030000
TZOFFSETFROM:-0500
TZOFFSETTO:-0400
RRULE:FREQ=YEARLY;BYDAY=2SU;BYMONTH=3
TZNAME:EDT
END:DAYLIGHT
BEGIN:STANDARD
DTSTART:20221106T010000
TZOFFSETFROM:-0400
TZOFFSETTO:-0500
RRULE:FREQ=YEARLY;BYDAY=1SU;BYMONTH=11
TZNAME:EST
END:STANDARD
END:VTIMEZONE
BEGIN:VEVENT
DTSTAMP:20220425T142107Z
UID:2A1D7FA4-7244-43C4-AE2E-2F7FD4981A65
DTSTART;TZID=US/Eastern:20220422T120000
DTEND;TZID=US/Eastern:20220422T133000
DESCRIPTION:I would like to invite you for in person ExCom lunch meeting at
  [Tailred Tea](http://thetailoredtea.com/)\, [1010 TROY-SCHENECTADY RD\, L
 ATHAM\, NY 12110]\n\nI have reserved the place. So please let me know if y
 ou will be joinging so I could make appropriate arrangements with them.\n\
 nIf at least one officer from each Section Chapter joins\, that will be gr
 eat. If you are unable to make it to the meeting\, it will be great if you
  could\n\n- Provide your Chapter Technical/Social activity plans for the y
 ear.\n\n- Any help needed from Section ExCom\n\nIf you are an Section Chap
 ter Officer (by virtue of being previous year officer)\, but unable to con
 tinue that role please let me know. We are looking for active Volunteers w
 ho could contribute.\n\nAgenda: \n* Section Chapter Chair Reports about Ac
 tivities and Plans for year ahead (each Chapter needs to arrange at least 
 2 technical events per year)\n\n* 2021 is the 100th anniversary of Edith C
 larke&#39;s graphical calculator for power transmission computations\, Possibi
 lity of proposing it as an IEEE Milestone. This would require site for the
  plaque(s) and cost of the plaque.\n\nTailored Tea\, 1010 TROY-SCHENECTADY
  RD\, Latham\, New York\, United States
LOCATION:Tailored Tea\, 1010 TROY-SCHENECTADY RD\, Latham\, New York\, Unit
 ed States
ORGANIZER:k.patil@ieee.org
SEQUENCE:3
SUMMARY:IEEE Schenectady Section In Person ExCom Meeting - April 2022
URL;VALUE=URI:https://events.vtools.ieee.org/m/311730
X-ALT-DESC:Description: &lt;br /&gt;&lt;p&gt;I would like to invite you for in person E
 xCom lunch meeting at &lt;a href=&quot;http://thetailoredtea.com/&quot;&gt;Tailred Tea&lt;/a&gt;
 \, [1010 TROY-SCHENECTADY RD\, LATHAM\, NY 12110]&lt;/p&gt;\n&lt;p&gt;I have reserved 
 the place. So please let me know if you will be joinging so I could make a
 ppropriate arrangements with them.&lt;/p&gt;\n&lt;p&gt;If at least one officer from ea
 ch Section Chapter joins\, that will be great. If you are unable to make i
 t to the meeting\, it will be great if you could&lt;/p&gt;\n&lt;p&gt;- Provide your Ch
 apter Technical/Social activity plans for the year.&amp;nbsp\;&lt;/p&gt;\n&lt;p&gt;- Any h
 elp needed from Section ExCom&lt;/p&gt;\n&lt;p&gt;If you are an Section Chapter Office
 r (by virtue of being previous year officer)\, but unable to continue that
  role please let me know. We are looking for active Volunteers who could c
 ontribute.&lt;/p&gt;&lt;br /&gt;&lt;br /&gt;Agenda: &lt;br /&gt;&lt;p&gt;* Section Chapter&amp;nbsp\; Chair 
 Reports about&amp;nbsp\; Activities and Plans for year ahead (each Chapter nee
 ds to arrange at least 2 technical events per year)&lt;/p&gt;\n&lt;p&gt;* 2021 is the 
 100th anniversary of Edith Clarke&#39;s graphical calculator for power transmi
 ssion computations\, Possibility of proposing it as an IEEE Milestone. Thi
 s would require site for the plaque(s)&amp;nbsp\; and cost of the plaque.&lt;/p&gt;\
 n&lt;p&gt;&amp;nbsp\;&lt;/p&gt;\n&lt;p&gt;&amp;nbsp\;&lt;/p&gt;
END:VEVENT
END:VCALENDAR

