BEGIN:VCALENDAR
VERSION:2.0
PRODID:IEEE vTools.Events//EN
CALSCALE:GREGORIAN
BEGIN:VTIMEZONE
TZID:America/Los_Angeles
BEGIN:DAYLIGHT
DTSTART:20220313T030000
TZOFFSETFROM:-0800
TZOFFSETTO:-0700
RRULE:FREQ=YEARLY;BYDAY=2SU;BYMONTH=3
TZNAME:PDT
END:DAYLIGHT
BEGIN:STANDARD
DTSTART:20221106T010000
TZOFFSETFROM:-0700
TZOFFSETTO:-0800
RRULE:FREQ=YEARLY;BYDAY=1SU;BYMONTH=11
TZNAME:PST
END:STANDARD
END:VTIMEZONE
BEGIN:VEVENT
DTSTAMP:20220428T023054Z
UID:7682194E-DA50-48B5-ABBB-8BB0CCA38C0A
DTSTART;TZID=America/Los_Angeles:20220427T180000
DTEND;TZID=America/Los_Angeles:20220427T193000
DESCRIPTION:Abstract: Given the scarcity of spectrum in the U.S and the wor
 ld\, a new model of spectrum usage is being pioneered by the FCC for use i
 n 5G and WiFi. Spectrum sharing for CBRS band and Wifi 6GHz band allows fo
 r legacy users and new entrants to use the same spectrum\, under the manag
 ement of a spectrum controller. This presentation will discuss the salient
  aspects of spectrum sharing for the two bands and how the spectrum contro
 llers orchestrate this coexistence between different types of users.\n\nSp
 eaker(s): Rohan Grover (Ph.D)\, \n\nBellevue\, Washington\, United States\
 , Virtual: https://events.vtools.ieee.org/m/311739
LOCATION:Bellevue\, Washington\, United States\, Virtual: https://events.vt
 ools.ieee.org/m/311739
ORGANIZER:anewton@ieee.org
SEQUENCE:5
SUMMARY:Shared Spectrum in 5G and WiFi
URL;VALUE=URI:https://events.vtools.ieee.org/m/311739
X-ALT-DESC:Description: &lt;br /&gt;&lt;p&gt;Abstract: Given the scarcity of spectrum i
 n the U.S and the world\, a new model of spectrum usage is being pioneered
  by the FCC for use in 5G and WiFi. Spectrum sharing for CBRS band and Wif
 i 6GHz band allows for legacy users and new entrants to use the same spect
 rum\, under the management of a spectrum controller. This presentation wil
 l discuss the salient aspects of spectrum sharing for the two bands and ho
 w the spectrum controllers orchestrate this coexistence between different 
 types of users.&lt;/p&gt;
END:VEVENT
END:VCALENDAR

