BEGIN:VCALENDAR
VERSION:2.0
PRODID:IEEE vTools.Events//EN
CALSCALE:GREGORIAN
BEGIN:VTIMEZONE
TZID:America/Argentina/Buenos_Aires
BEGIN:DAYLIGHT
DTSTART:20380119T001407
TZOFFSETFROM:-0300
TZOFFSETTO:-0300
RRULE:FREQ=YEARLY;BYDAY=3TU;BYMONTH=1
TZNAME:-03
END:DAYLIGHT
BEGIN:STANDARD
DTSTART:20090314T230000
TZOFFSETFROM:-0200
TZOFFSETTO:-0300
RRULE:FREQ=YEARLY;BYDAY=2SA;BYMONTH=3
TZNAME:-03
END:STANDARD
END:VTIMEZONE
BEGIN:VEVENT
DTSTAMP:20220504T143740Z
UID:61A43214-6DB0-40C0-9147-6B7CA367B63D
DTSTART;TZID=America/Argentina/Buenos_Aires:20220428T180000
DTEND;TZID=America/Argentina/Buenos_Aires:20220428T190000
DESCRIPTION:Seminarios mensuales sobre comunicaciones brindados por profesi
 onales en Latinoamérica. Se realizan en idioma castellano y son abiertos.
 \n\nCo-sponsored by: Universidad Diego Portales\, Santiago\, Chile\n\nSpea
 ker(s): Dr. Diego Dujovne\, \n\nAgenda: \n18:00 Presentación a cargo de J
 osé Ignacio Alvarez-Hamelin (ComSoc Argentina Vice Chair)\n\n18:05 ¿Cóm
 o obtener redes robustas en IoT?: Nuevos protocolos de comunicación (Dieg
 o Dujovne)\n\n18:50 Preguntas y comentarios\n\nVirtual: https://events.vto
 ols.ieee.org/m/311805
LOCATION:Virtual: https://events.vtools.ieee.org/m/311805
ORGANIZER:ihameli@ieee.org
SEQUENCE:11
SUMMARY:IEEE ComSoc Latin America Open Webinar: ¿Cómo obtener redes robus
 tas en IoT?: Nuevos protocolos de comunicación
URL;VALUE=URI:https://events.vtools.ieee.org/m/311805
X-ALT-DESC:Description: &lt;br /&gt;&lt;p&gt;Seminarios mensuales sobre comunicaciones 
 brindados por profesionales en Latinoam&amp;eacute\;rica. Se realizan en idiom
 a castellano y son abiertos.&lt;/p&gt;&lt;br /&gt;&lt;br /&gt;Agenda: &lt;br /&gt;&lt;p&gt;18:00 Present
 aci&amp;oacute\;n a cargo de Jos&amp;eacute\; Ignacio Alvarez-Hamelin (ComSoc Arge
 ntina Vice Chair)&lt;/p&gt;\n&lt;p&gt;18:05&lt;strong&gt;&amp;nbsp\;&amp;iquest\;C&amp;oacute\;mo obtene
 r redes robustas en IoT?: Nuevos protocolos de comunicaci&amp;oacute\;n&amp;nbsp\;
 &lt;/strong&gt;(Diego Dujovne)&lt;strong&gt;&lt;br /&gt;&lt;/strong&gt;&lt;/p&gt;\n&lt;p&gt;18:50 Preguntas y 
 comentarios&lt;/p&gt;
END:VEVENT
END:VCALENDAR

