BEGIN:VCALENDAR
VERSION:2.0
PRODID:IEEE vTools.Events//EN
CALSCALE:GREGORIAN
BEGIN:VTIMEZONE
TZID:US/Hawaii
BEGIN:STANDARD
DTSTART:19470608T023000
TZOFFSETFROM:-1130
TZOFFSETTO:-1000
TZNAME:HST
END:STANDARD
END:VTIMEZONE
BEGIN:VEVENT
DTSTAMP:20220911T121613Z
UID:D0D8C89D-0ABB-4242-BBD8-C7EE6A1A21F4
DTSTART;TZID=US/Hawaii:20220808T183000
DTEND;TZID=US/Hawaii:20220808T203000
DESCRIPTION:Hawaii Section\, Monthly Executive Committee Meeting. Virtual M
 eeting via Zoom. All members are welcome.\n\nAgenda: \nStudent Chapter Rep
 ort\n\nTreasurer&#39;s Report\n\nChair Reports\n\nUpcoming Distinguished Lectu
 rer Seminar\n\nOld Business:\n\nNew Business:\n\nIEEE Annual Election 8/15
  -10/3\n\nOpen Discussion\n\nVirtual: https://events.vtools.ieee.org/m/311
 932
LOCATION:Virtual: https://events.vtools.ieee.org/m/311932
ORGANIZER:rbirch@ieee.org
SEQUENCE:4
SUMMARY:IEEE HAWAII EXCOM MEETING from 6:30pm to 8:30pm Online
URL;VALUE=URI:https://events.vtools.ieee.org/m/311932
X-ALT-DESC:Description: &lt;br /&gt;&lt;p&gt;Hawaii Section\, Monthly Executive Committ
 ee Meeting.&amp;nbsp\; Virtual Meeting via Zoom.&amp;nbsp\; All members are welcom
 e.&amp;nbsp\;&lt;/p&gt;&lt;br /&gt;&lt;br /&gt;Agenda: &lt;br /&gt;&lt;p&gt;Student Chapter Report&lt;/p&gt;\n&lt;p&gt;T
 reasurer&#39;s Report&lt;/p&gt;\n&lt;p&gt;Chair Reports&lt;/p&gt;\n&lt;p&gt;Upcoming Distinguished Lec
 turer Seminar&lt;/p&gt;\n&lt;p&gt;Old Business:&amp;nbsp\;&lt;/p&gt;\n&lt;p&gt;New Business:&lt;/p&gt;\n&lt;p&gt;I
 EEE Annual Election 8/15 -10/3&lt;/p&gt;\n&lt;p&gt;Open Discussion&lt;/p&gt;
END:VEVENT
END:VCALENDAR

