BEGIN:VCALENDAR
VERSION:2.0
PRODID:IEEE vTools.Events//EN
CALSCALE:GREGORIAN
BEGIN:VTIMEZONE
TZID:Europe/Zurich
BEGIN:DAYLIGHT
DTSTART:20220327T030000
TZOFFSETFROM:+0100
TZOFFSETTO:+0200
RRULE:FREQ=YEARLY;BYDAY=-1SU;BYMONTH=3
TZNAME:CEST
END:DAYLIGHT
BEGIN:STANDARD
DTSTART:20221030T020000
TZOFFSETFROM:+0200
TZOFFSETTO:+0100
RRULE:FREQ=YEARLY;BYDAY=-1SU;BYMONTH=10
TZNAME:CET
END:STANDARD
END:VTIMEZONE
BEGIN:VEVENT
DTSTAMP:20220526T153026Z
UID:E86E9A3B-341F-4712-8EF9-915BD3703B37
DTSTART;TZID=Europe/Zurich:20220523T140000
DTEND;TZID=Europe/Zurich:20220523T210000
DESCRIPTION:Dear IEEE members\,\n\nWe would like to kindly invite you to th
 e first NCCR Automation Symposium on Systems Theory of Algorithms co-spons
 ored by the Swiss chapter of the IEEE Control Systems Society.\n\nThis Sym
 posium will be divided into two parts and will take place physically on Mo
 ndays 9th and 23rd May at ETH Zurich from 14:00 to 18:30. More info on the
  attached flyer or on the [NCCR website](https://nccr-automation.ch/events
 /2022/symposium-systems-theory-algorithms-part-ii).\n\nSymposium program:\
 nEach part of the symposium will be composed of:\n\n-\n4 plenary talks by 
 our guest speakers (40 min + 5 min Q&amp;A each)\n-\nA panel discussion\n-\nA 
 reception starting at 18:30 concluding the day\n\nGuest speakers:\n\n-\nMo
 nday 9th May: Tamer Basar\, Michael Mühlebach\, Lacra Pavel and Saverio B
 olognani.\n-\nMonday 23rd May: Christian Ebenbauer\, Sean Meyn\, Benjamin 
 Recht and Niao He.\n\nRegistration links: Please register for this event!\
 nFor organisation purposes\, we would like to ask you to sign up for this 
 event before Sunday 1st May. Please use the following link:\nhttps://docs.
 google.com/forms/d/e/1FAIpQLSe49LUPe3r-KNqCkvtrP7MxmxHC_BsD-mNmYUpTCQVYkI0
 TpA/viewform?usp=sf_link\n\nVirtual: https://events.vtools.ieee.org/m/3119
 44
LOCATION:Virtual: https://events.vtools.ieee.org/m/311944
ORGANIZER:giancarlo.ferraritrecatet@epfl.ch
SEQUENCE:3
SUMMARY:NCCR Automation Symposium on Systems Theory of Algorithms - part 2
URL;VALUE=URI:https://events.vtools.ieee.org/m/311944
X-ALT-DESC:Description: &lt;br /&gt;&lt;div style=&quot;text-align: start\;&quot; data-pm-slic
 e=&quot;1 1 []&quot; data-en-clipboard=&quot;true&quot;&gt;&lt;span style=&quot;color: #000000\;&quot;&gt;Dear IE
 EE members\,&lt;/span&gt;&lt;/div&gt;\n&lt;div style=&quot;text-align: start\;&quot;&gt;&lt;span style=&quot;c
 olor: #000000\;&quot;&gt;&amp;nbsp\;&lt;/span&gt;&lt;/div&gt;\n&lt;div style=&quot;text-align: start\;&quot;&gt;&lt;s
 pan style=&quot;color: #000000\;&quot;&gt;We would like to kindly invite you to the fir
 st&amp;nbsp\;&lt;/span&gt;&lt;strong&gt;&lt;span style=&quot;color: #000000\;&quot;&gt;NCCR Automation Sym
 posium on Systems Theory of Algorithms&lt;/span&gt;&lt;/strong&gt;&lt;span style=&quot;color: 
 #000000\;&quot;&gt; co-sponsored by the Swiss chapter of the IEEE Control Systems 
 Society.&lt;/span&gt;&lt;/div&gt;\n&lt;div style=&quot;text-align: start\;&quot;&gt;&lt;span style=&quot;color
 : #000000\;&quot;&gt;&amp;nbsp\;&lt;/span&gt;&lt;/div&gt;\n&lt;div style=&quot;text-align: start\;&quot;&gt;&lt;span 
 style=&quot;color: #000000\;&quot;&gt;This Symposium will be divided into two parts and
  will take place physically on&amp;nbsp\;&lt;/span&gt;&lt;strong&gt;&lt;span style=&quot;color: #0
 00000\;&quot;&gt;Mondays 9&lt;/span&gt;&lt;sup&gt;&lt;span style=&quot;color: #000000\;&quot;&gt;th&lt;/span&gt;&lt;/su
 p&gt;&lt;span style=&quot;color: #000000\;&quot;&gt;&amp;nbsp\;and 23&lt;/span&gt;&lt;sup&gt;&lt;span style=&quot;col
 or: #000000\;&quot;&gt;rd&lt;/span&gt;&lt;/sup&gt;&lt;span style=&quot;color: #000000\;&quot;&gt;&amp;nbsp\;May at
  ETH Zurich from 14:00 to 18:30&lt;/span&gt;&lt;/strong&gt;&lt;span style=&quot;color: #000000
 \;&quot;&gt;. More info on the attached flyer or on the&amp;nbsp\;&lt;/span&gt;&lt;a href=&quot;http
 s://nccr-automation.ch/events/2022/symposium-systems-theory-algorithms-par
 t-ii&quot; rev=&quot;en_rl_none&quot;&gt;&lt;span style=&quot;color: #0563c1\;&quot;&gt;&lt;u&gt;NCCR website&lt;/u&gt;&lt;
 /span&gt;&lt;/a&gt;. &amp;nbsp\;&lt;/div&gt;\n&lt;div style=&quot;text-align: start\;&quot;&gt;&lt;span style=&quot;c
 olor: #000000\;&quot;&gt;&amp;nbsp\;&lt;/span&gt;&lt;/div&gt;\n&lt;div style=&quot;text-align: start\;&quot;&gt;&lt;s
 pan style=&quot;color: #000000\;&quot;&gt;&lt;u&gt;Symposium program&lt;/u&gt;:&amp;nbsp\;&lt;/span&gt;&lt;/div&gt;
 \n&lt;div style=&quot;text-align: start\;&quot;&gt;&lt;span style=&quot;color: #000000\;&quot;&gt;Each par
 t of the symposium will be composed of:&lt;/span&gt;&lt;/div&gt;\n&lt;ul&gt;\n&lt;li&gt;\n&lt;div&gt;&lt;sp
 an style=&quot;color: #000000\;&quot;&gt;4 plenary talks by our guest speakers (40 min 
 + 5 min Q&amp;amp\;A each)&lt;/span&gt;&lt;/div&gt;\n&lt;/li&gt;\n&lt;li&gt;\n&lt;div&gt;&lt;span style=&quot;color:
  #000000\;&quot;&gt;A panel discussion&lt;/span&gt;&lt;/div&gt;\n&lt;/li&gt;\n&lt;li&gt;\n&lt;div&gt;&lt;span style
 =&quot;color: #000000\;&quot;&gt;A&amp;nbsp\;reception starting at 18:30 concluding the day
 &lt;/span&gt;&lt;/div&gt;\n&lt;/li&gt;\n&lt;/ul&gt;\n&lt;div style=&quot;text-align: start\;&quot;&gt;&lt;span style=
 &quot;color: #000000\;&quot;&gt;&amp;nbsp\;&lt;/span&gt;&lt;/div&gt;\n&lt;div style=&quot;text-align: start\;&quot;&gt;
 &lt;span style=&quot;color: #000000\;&quot;&gt;&lt;u&gt;Guest speakers&lt;/u&gt;:&lt;/span&gt;&lt;/div&gt;\n&lt;ul&gt;\n
 &lt;li&gt;\n&lt;div&gt;&lt;span style=&quot;color: #000000\;&quot;&gt;Monday 9&lt;/span&gt;&lt;sup&gt;&lt;span style=
 &quot;color: #000000\;&quot;&gt;th&lt;/span&gt;&lt;/sup&gt;&lt;span style=&quot;color: #000000\;&quot;&gt;&amp;nbsp\;Ma
 y: Tamer Basar\, Michael M&amp;uuml\;hlebach\, Lacra Pavel and Saverio Bologna
 ni.&lt;/span&gt;&lt;/div&gt;\n&lt;/li&gt;\n&lt;li&gt;\n&lt;div&gt;&lt;span style=&quot;color: #000000\;&quot;&gt;Monday 
 23&lt;/span&gt;&lt;sup&gt;&lt;span style=&quot;color: #000000\;&quot;&gt;rd&lt;/span&gt;&lt;/sup&gt;&lt;span style=&quot;c
 olor: #000000\;&quot;&gt;&amp;nbsp\;May: Christian Ebenbauer\, Sean Meyn\, Benjamin Re
 cht and Niao He.&lt;/span&gt;&lt;/div&gt;\n&lt;/li&gt;\n&lt;/ul&gt;\n&lt;div style=&quot;text-align: start
 \;&quot;&gt;&lt;span style=&quot;color: #000000\;&quot;&gt;&amp;nbsp\;&lt;/span&gt;&lt;/div&gt;\n&lt;div style=&quot;text-
 align: start\;&quot;&gt;&lt;span style=&quot;color: #000000\;&quot;&gt;&lt;u&gt;Registration links&lt;/u&gt;:&amp;
 nbsp\;&lt;/span&gt;&lt;strong&gt;&lt;span style=&quot;color: #000000\;&quot;&gt;Please register for th
 is event!&lt;/span&gt;&lt;/strong&gt;&lt;/div&gt;\n&lt;div style=&quot;text-align: start\;&quot;&gt;&lt;span st
 yle=&quot;color: #000000\;&quot;&gt;For organisation purposes\, we would like to ask yo
 u to sign up for this event&amp;nbsp\;&lt;u&gt;before Sunday 1&lt;/u&gt;&lt;/span&gt;&lt;sup&gt;&lt;span 
 style=&quot;color: #000000\;&quot;&gt;&lt;u&gt;st&lt;/u&gt;&lt;/span&gt;&lt;/sup&gt;&lt;span style=&quot;color: #000000
 \;&quot;&gt;&lt;u&gt;&amp;nbsp\;May&lt;/u&gt;. Please use the following link:&amp;nbsp\;&lt;/span&gt;&lt;/div&gt;\
 n&lt;div data-richlink=&quot;true&quot; data-href=&quot;https://docs.google.com/forms/d/e/1F
 AIpQLSe49LUPe3r-KNqCkvtrP7MxmxHC_BsD-mNmYUpTCQVYkI0TpA/viewform?usp=sf_lin
 k&quot; data-viewer-props=&quot;{&amp;quot\;fileId&amp;quot\;:&amp;quot\;1FAIpQLSe49LUPe3r-KNqCk
 vtrP7MxmxHC_BsD-mNmYUpTCQVYkI0TpA&amp;quot\;}&quot;&gt;&lt;a href=&quot;https://docs.google.co
 m/forms/d/e/1FAIpQLSe49LUPe3r-KNqCkvtrP7MxmxHC_BsD-mNmYUpTCQVYkI0TpA/viewf
 orm?usp=sf_link&quot; rev=&quot;en_rl_small&quot;&gt;https://docs.google.com/forms/d/e/1FAIp
 QLSe49LUPe3r-KNqCkvtrP7MxmxHC_BsD-mNmYUpTCQVYkI0TpA/viewform?usp=sf_link&lt;/
 a&gt;&lt;/div&gt;
END:VEVENT
END:VCALENDAR

