BEGIN:VCALENDAR
VERSION:2.0
PRODID:IEEE vTools.Events//EN
CALSCALE:GREGORIAN
BEGIN:VTIMEZONE
TZID:America/New_York
BEGIN:DAYLIGHT
DTSTART:20220313T030000
TZOFFSETFROM:-0500
TZOFFSETTO:-0400
RRULE:FREQ=YEARLY;BYDAY=2SU;BYMONTH=3
TZNAME:EDT
END:DAYLIGHT
BEGIN:STANDARD
DTSTART:20221106T010000
TZOFFSETFROM:-0400
TZOFFSETTO:-0500
RRULE:FREQ=YEARLY;BYDAY=1SU;BYMONTH=11
TZNAME:EST
END:STANDARD
END:VTIMEZONE
BEGIN:VEVENT
DTSTAMP:20220429T160556Z
UID:E28F72E9-C6AE-4794-94AF-81954A0B8D96
DTSTART;TZID=America/New_York:20220428T160000
DTEND;TZID=America/New_York:20220428T170000
DESCRIPTION:Please note there is a time change for this event to 4PM.\n\nDi
 stinguished Lecture by Dr Nancy Mead &amp; Dr Daniel Shoemaker\n\nA topic of i
 nterest for the entire Section.\n\nCritical infrastructure is a key area i
 n cybersecurity. In the U.S.\, it was front and center in 1997 with the re
 port from the President’s Commission on Critical Infrastructure Protecti
 on\, and now affects countries worldwide. Although there is more awareness
  of cybersecurity now\, the threats have also evolved in the interim perio
 d. Critical Infrastructure Protection must address all types of cybersecur
 ity threats - insider threat\, ransomware\, Supply Chain Risk Management i
 ssues\, and so on. In this webinar\, Dan &amp; Nancy discuss the threats and a
 ctual attacks\, mitigation methods\, and education.\n\nTo Register\, pleas
 e follow the link: https://event.on24.com/wcc/r/3680416/01BF7D2413356AA0F2
 20CD0324A6546D?partnerref=speaker\n\nSpeaker(s): Dr Nancy Mead\, Dr Daniel
  Shoemaker\n\nHolmdel\, New Jersey\, United States\, Virtual: https://even
 ts.vtools.ieee.org/m/312155
LOCATION:Holmdel\, New Jersey\, United States\, Virtual: https://events.vto
 ols.ieee.org/m/312155
ORGANIZER:kit.august@gmail.com
SEQUENCE:1
SUMMARY:Time Change to 4pm - Distinguished Lecture Dr Nancy Mead &amp; Dr Danie
 l Shoemaker Cybersecurity and Critical Infrastructure Protection
URL;VALUE=URI:https://events.vtools.ieee.org/m/312155
X-ALT-DESC:Description: &lt;br /&gt;&lt;p&gt;Please note there is a time change for thi
 s event to 4PM.&lt;/p&gt;\n&lt;p&gt;Distinguished Lecture by Dr Nancy Mead &amp;amp\; Dr D
 aniel Shoemaker&lt;/p&gt;\n&lt;p&gt;A topic of interest for the entire Section.&lt;/p&gt;\n&lt;
 p&gt;&lt;span class=&quot;summary&quot;&gt;Critical infrastructure is a key area in cybersecu
 rity. &amp;nbsp\;In the U.S.\, it was front and center in 1997 with the report
  from the President&amp;rsquo\;s Commission on Critical Infrastructure Protect
 ion\, and now affects countries worldwide. &amp;nbsp\; Although there is more 
 awareness of cybersecurity now\, the threats have also evolved in the inte
 rim period. &amp;nbsp\;Critical Infrastructure Protection must address all typ
 es of cybersecurity threats - insider threat\, ransomware\, Supply Chain R
 isk Management issues\, and so on. &amp;nbsp\; In this webinar\, Dan &amp;amp\; Na
 ncy discuss the threats and actual attacks\, mitigation methods\, and educ
 ation.&amp;nbsp\;&lt;/span&gt;&lt;/p&gt;\n&lt;p&gt;&lt;span class=&quot;summary&quot;&gt;To Register\, please fo
 llow the link: &lt;a href=&quot;https://event.on24.com/wcc/r/3680416/01BF7D2413356
 AA0F220CD0324A6546D?partnerref=speaker&quot; target=&quot;_blank&quot; rel=&quot;noopener&quot; dat
 a-saferedirecturl=&quot;https://www.google.com/url?q=https://event.on24.com/wcc
 /r/3680416/01BF7D2413356AA0F220CD0324A6546D?partnerref%3Dspeaker&amp;amp\;sour
 ce=gmail&amp;amp\;ust=1649450862728000&amp;amp\;usg=AOvVaw3bWArYTVy3orb3GhxQMPJe&quot;&gt;
 https://event.on24.&lt;wbr /&gt;com/wcc/r/3680416/&lt;wbr /&gt;01BF7D2413356AA0F220CD0
 324A654&lt;wbr /&gt;6D?partnerref=speaker&lt;/a&gt;&lt;/span&gt;&lt;/p&gt;\n&lt;p&gt;&amp;nbsp\;&lt;/p&gt;
END:VEVENT
END:VCALENDAR

