BEGIN:VCALENDAR
VERSION:2.0
PRODID:IEEE vTools.Events//EN
CALSCALE:GREGORIAN
BEGIN:VTIMEZONE
TZID:Africa/Tunis
BEGIN:STANDARD
DTSTART:20081026T020000
TZOFFSETFROM:+0200
TZOFFSETTO:+0100
TZNAME:CET
END:STANDARD
END:VTIMEZONE
BEGIN:VEVENT
DTSTAMP:20240707T163812Z
UID:A13B2BA9-D058-4241-8976-725A748251B7
DTSTART;TZID=Africa/Tunis:20220329T143700
DTEND;TZID=Africa/Tunis:20220330T143700
DESCRIPTION:- To share TalTech experience in teaching robotics and power el
 ectronics.\n- To promote and develop international contacts between engine
 ering students and staff of TalTech and University of Sfax with applying n
 ew educational approaches.\n\nBldg: 1\, FSS\, Route Soukra km 3\, Universi
 ty of Sfax\, Tunis\, Sfax\, Tunisia\, 3038
LOCATION:Bldg: 1\, FSS\, Route Soukra km 3\, University of Sfax\, Tunis\, S
 fax\, Tunisia\, 3038
ORGANIZER:info@ieee.ee
SEQUENCE:3
SUMMARY:Presenting Education chapter of Estonian IEEE section
URL;VALUE=URI:https://events.vtools.ieee.org/m/312349
X-ALT-DESC:Description: &lt;br /&gt;&lt;ol&gt;\n&lt;li&gt;To share TalTech experience in teac
 hing robotics and power electronics.&lt;/li&gt;\n&lt;li&gt;To promote and develop inte
 rnational contacts between engineering students and staff of TalTech and U
 niversity of Sfax with applying new educational approaches.&lt;/li&gt;\n&lt;/ol&gt;
END:VEVENT
END:VCALENDAR

