BEGIN:VCALENDAR
VERSION:2.0
PRODID:IEEE vTools.Events//EN
CALSCALE:GREGORIAN
BEGIN:VTIMEZONE
TZID:America/Lima
BEGIN:DAYLIGHT
DTSTART:20380118T221407
TZOFFSETFROM:-0500
TZOFFSETTO:-0500
RRULE:FREQ=YEARLY;BYDAY=3MO;BYMONTH=1
TZNAME:-05
END:DAYLIGHT
BEGIN:STANDARD
DTSTART:19940331T230000
TZOFFSETFROM:-0400
TZOFFSETTO:-0500
RRULE:FREQ=YEARLY;BYDAY=-1TH;BYMONTH=3
TZNAME:-05
END:STANDARD
END:VTIMEZONE
BEGIN:VEVENT
DTSTAMP:20220430T141305Z
UID:536C6654-041D-4FC1-9C26-47EC5115C0F0
DTSTART;TZID=America/Lima:20220425T090000
DTEND;TZID=America/Lima:20220427T120000
DESCRIPTION:Te invitamos a participar del evento gratuito &quot;Taller Demostrat
 ivo Émpoderandome con las TIC: Programación y Ciberseguridad”\, activi
 dad realizada en organización con el [Concytec Perú](https://www.faceboo
 k.com/concytec?__cft__[0]=AZXqRXeAYXMF0gaIC91rqYmY8PuwXprs1ZUF8y4F7M_Fy6aM
 hJeR3fyp2w2vSuMDh5_0sj_fEpIO7H-wxD4EUhUJ-Yn4eMXRqZKh2Uv8O8ofGzcPxSyD3-hxKQ
 NI_5oNyAytK2j0Lcq2qcTCDAGDCM4U&amp;__tn__=-]K-R) y [INICTEL-UNI](https://www.f
 acebook.com/inictel/?__cft__[0]=AZXqRXeAYXMF0gaIC91rqYmY8PuwXprs1ZUF8y4F7M
 _Fy6aMhJeR3fyp2w2vSuMDh5_0sj_fEpIO7H-wxD4EUhUJ-Yn4eMXRqZKh2Uv8O8ofGzcPxSyD
 3-hxKQNI_5oNyAytK2j0Lcq2qcTCDAGDCM4U&amp;__tn__=kK-R) \, con objetivo es incen
 tivar el interés por la [#ciencia](https://www.facebook.com/hashtag/cienc
 ia?__eep__=6&amp;__cft__[0]=AZXqRXeAYXMF0gaIC91rqYmY8PuwXprs1ZUF8y4F7M_Fy6aMhJ
 eR3fyp2w2vSuMDh5_0sj_fEpIO7H-wxD4EUhUJ-Yn4eMXRqZKh2Uv8O8ofGzcPxSyD3-hxKQNI
 _5oNyAytK2j0Lcq2qcTCDAGDCM4U&amp;__tn__=*NK-R) y [#tecnología](https://www.fa
 cebook.com/hashtag/tecnolog%C3%ADa?__eep__=6&amp;__cft__[0]=AZXqRXeAYXMF0gaIC9
 1rqYmY8PuwXprs1ZUF8y4F7M_Fy6aMhJeR3fyp2w2vSuMDh5_0sj_fEpIO7H-wxD4EUhUJ-Yn4
 eMXRqZKh2Uv8O8ofGzcPxSyD3-hxKQNI_5oNyAytK2j0Lcq2qcTCDAGDCM4U&amp;__tn__=*NK-R)
  en niñas y adolescentes.\n\nAgenda: \nMatematicas con Python:\n\nPartici
 pante	Tema	Tipo de Ponencia\nGabriela Abigail Lazo de la Cruz	Señales Bio
 medicas	Practica\nJannina Danitza Romero Mori	IOT	Teorica\nLisseth Cecilia
  Ccopa Mamani	Ciberseguridad	Teorica\nAntonella Yoryina Yupanqui Tovar	5G	
 Teorica\nCarmen Victoria Cornejo Huatuco	Ciberseguridad	Practica\nJeselyn 
 Romero Avila	Inteligencia Artificial	Teorica\n\nLima\, Lima\, Peru\, Virtu
 al: https://events.vtools.ieee.org/m/312407
LOCATION:Lima\, Lima\, Peru\, Virtual: https://events.vtools.ieee.org/m/312
 407
ORGANIZER:ieeeras.fiee@unmsm.edu.pe
SEQUENCE:4
SUMMARY:[RAS UNMSM] TALLER DEMOSTRATIVO ÉMPODERANDOME CON LAS TIC: PROGRAM
 ACIÓN Y CIBERSEGURIDAD
URL;VALUE=URI:https://events.vtools.ieee.org/m/312407
X-ALT-DESC:Description: &lt;br /&gt;&lt;p&gt;&lt;span style=&quot;font-size: 14pt\;&quot;&gt;Te invitam
 os a participar del evento gratuito &quot;Taller Demostrativo &amp;Eacute\;mpoderan
 dome con las TIC: Programaci&amp;oacute\;n y Ciberseguridad&amp;rdquo\;\, activida
 d realizada en organizaci&amp;oacute\;n con el &lt;a class=&quot;oajrlxb2 g5ia77u1 qu0
 x051f esr5mh6w e9989ue4 r7d6kgcz rq0escxv nhd2j8a9 nc684nl6 p7hjln8o kvgmc
 6g5 cxmmr5t8 oygrvhab hcukyx3x jb3vyjys rz4wbd8a qt6c0cv9 a8nywdso i1ao9s8
 h esuyzwwr f1sip0of lzcic4wl gpro0wi8 q66pz984 b1v8xokw&quot; tabindex=&quot;0&quot; role
 =&quot;link&quot; href=&quot;https://www.facebook.com/concytec?__cft__[0]=AZXqRXeAYXMF0ga
 IC91rqYmY8PuwXprs1ZUF8y4F7M_Fy6aMhJeR3fyp2w2vSuMDh5_0sj_fEpIO7H-wxD4EUhUJ-
 Yn4eMXRqZKh2Uv8O8ofGzcPxSyD3-hxKQNI_5oNyAytK2j0Lcq2qcTCDAGDCM4U&amp;amp\;__tn_
 _=-]K-R&quot;&gt;&lt;span class=&quot;nc684nl6&quot;&gt;Concytec Per&amp;uacute\;&lt;/span&gt;&lt;/a&gt; y &lt;a clas
 s=&quot;oajrlxb2 g5ia77u1 qu0x051f esr5mh6w e9989ue4 r7d6kgcz rq0escxv nhd2j8a9
  nc684nl6 p7hjln8o kvgmc6g5 cxmmr5t8 oygrvhab hcukyx3x jb3vyjys rz4wbd8a q
 t6c0cv9 a8nywdso i1ao9s8h esuyzwwr f1sip0of lzcic4wl gpro0wi8 q66pz984 b1v
 8xokw&quot; tabindex=&quot;0&quot; role=&quot;link&quot; href=&quot;https://www.facebook.com/inictel/?__
 cft__[0]=AZXqRXeAYXMF0gaIC91rqYmY8PuwXprs1ZUF8y4F7M_Fy6aMhJeR3fyp2w2vSuMDh
 5_0sj_fEpIO7H-wxD4EUhUJ-Yn4eMXRqZKh2Uv8O8ofGzcPxSyD3-hxKQNI_5oNyAytK2j0Lcq
 2qcTCDAGDCM4U&amp;amp\;__tn__=kK-R&quot;&gt;&lt;span class=&quot;nc684nl6&quot;&gt;INICTEL-UNI&lt;/span&gt;&lt;
 /a&gt; \, con objetivo es incentivar el inter&amp;eacute\;s por la &lt;a class=&quot;oajr
 lxb2 g5ia77u1 qu0x051f esr5mh6w e9989ue4 r7d6kgcz rq0escxv nhd2j8a9 nc684n
 l6 p7hjln8o kvgmc6g5 cxmmr5t8 oygrvhab hcukyx3x jb3vyjys rz4wbd8a qt6c0cv9
  a8nywdso i1ao9s8h esuyzwwr f1sip0of lzcic4wl gpro0wi8 q66pz984 b1v8xokw&quot; 
 tabindex=&quot;0&quot; role=&quot;link&quot; href=&quot;https://www.facebook.com/hashtag/ciencia?__
 eep__=6&amp;amp\;__cft__[0]=AZXqRXeAYXMF0gaIC91rqYmY8PuwXprs1ZUF8y4F7M_Fy6aMhJ
 eR3fyp2w2vSuMDh5_0sj_fEpIO7H-wxD4EUhUJ-Yn4eMXRqZKh2Uv8O8ofGzcPxSyD3-hxKQNI
 _5oNyAytK2j0Lcq2qcTCDAGDCM4U&amp;amp\;__tn__=*NK-R&quot;&gt;#ciencia&lt;/a&gt; y &lt;a class=&quot;o
 ajrlxb2 g5ia77u1 qu0x051f esr5mh6w e9989ue4 r7d6kgcz rq0escxv nhd2j8a9 nc6
 84nl6 p7hjln8o kvgmc6g5 cxmmr5t8 oygrvhab hcukyx3x jb3vyjys rz4wbd8a qt6c0
 cv9 a8nywdso i1ao9s8h esuyzwwr f1sip0of lzcic4wl gpro0wi8 q66pz984 b1v8xok
 w&quot; tabindex=&quot;0&quot; role=&quot;link&quot; href=&quot;https://www.facebook.com/hashtag/tecnolo
 g%C3%ADa?__eep__=6&amp;amp\;__cft__[0]=AZXqRXeAYXMF0gaIC91rqYmY8PuwXprs1ZUF8y4
 F7M_Fy6aMhJeR3fyp2w2vSuMDh5_0sj_fEpIO7H-wxD4EUhUJ-Yn4eMXRqZKh2Uv8O8ofGzcPx
 SyD3-hxKQNI_5oNyAytK2j0Lcq2qcTCDAGDCM4U&amp;amp\;__tn__=*NK-R&quot;&gt;#tecnolog&amp;iacut
 e\;a&lt;/a&gt; en ni&amp;ntilde\;as y adolescentes.&lt;/span&gt;&lt;/p&gt;&lt;br /&gt;&lt;br /&gt;Agenda: &lt;b
 r /&gt;&lt;p&gt;&lt;strong&gt;Matematicas con Python:&lt;/strong&gt;&lt;/p&gt;\n&lt;table dir=&quot;ltr&quot; styl
 e=&quot;height: 165px\;&quot; border=&quot;1&quot; width=&quot;697&quot; cellspacing=&quot;0&quot; cellpadding=&quot;0&quot;
 &gt;&lt;colgroup&gt;&lt;col width=&quot;238&quot; /&gt;&lt;col width=&quot;173&quot; /&gt;&lt;col width=&quot;153&quot; /&gt;&lt;/colg
 roup&gt;\n&lt;tbody&gt;\n&lt;tr&gt;\n&lt;td data-sheets-value=&quot;{&amp;quot\;1&amp;quot\;:2\,&amp;quot\;2&amp;
 quot\;:&amp;quot\;Participante&amp;quot\;}&quot;&gt;Participante&lt;/td&gt;\n&lt;td data-sheets-val
 ue=&quot;{&amp;quot\;1&amp;quot\;:2\,&amp;quot\;2&amp;quot\;:&amp;quot\;Tema &amp;quot\;}&quot;&gt;Tema&lt;/td&gt;\n&lt;
 td data-sheets-value=&quot;{&amp;quot\;1&amp;quot\;:2\,&amp;quot\;2&amp;quot\;:&amp;quot\;Tipo de P
 onencia&amp;quot\;}&quot;&gt;Tipo de Ponencia&lt;/td&gt;\n&lt;/tr&gt;\n&lt;tr&gt;\n&lt;td data-sheets-value
 =&quot;{&amp;quot\;1&amp;quot\;:2\,&amp;quot\;2&amp;quot\;:&amp;quot\;Gabriela Abigail Lazo de la C
 ruz &amp;quot\;}&quot;&gt;Gabriela Abigail Lazo de la Cruz&lt;/td&gt;\n&lt;td data-sheets-value
 =&quot;{&amp;quot\;1&amp;quot\;:2\,&amp;quot\;2&amp;quot\;:&amp;quot\;Se&amp;ntilde\;ales Biomedicas&amp;qu
 ot\;}&quot;&gt;Se&amp;ntilde\;ales Biomedicas&lt;/td&gt;\n&lt;td data-sheets-value=&quot;{&amp;quot\;1&amp;q
 uot\;:2\,&amp;quot\;2&amp;quot\;:&amp;quot\;Practica&amp;quot\;}&quot;&gt;Practica&lt;/td&gt;\n&lt;/tr&gt;\n&lt;t
 r&gt;\n&lt;td data-sheets-value=&quot;{&amp;quot\;1&amp;quot\;:2\,&amp;quot\;2&amp;quot\;:&amp;quot\;Jann
 ina Danitza Romero Mori&amp;quot\;}&quot;&gt;Jannina Danitza Romero Mori&lt;/td&gt;\n&lt;td dat
 a-sheets-value=&quot;{&amp;quot\;1&amp;quot\;:2\,&amp;quot\;2&amp;quot\;:&amp;quot\;IOT&amp;quot\;}&quot;&gt;IO
 T&lt;/td&gt;\n&lt;td data-sheets-value=&quot;{&amp;quot\;1&amp;quot\;:2\,&amp;quot\;2&amp;quot\;:&amp;quot\;
 Teorica&amp;quot\;}&quot;&gt;Teorica&lt;/td&gt;\n&lt;/tr&gt;\n&lt;tr&gt;\n&lt;td data-sheets-value=&quot;{&amp;quot\
 ;1&amp;quot\;:2\,&amp;quot\;2&amp;quot\;:&amp;quot\;Lisseth Cecilia Ccopa Mamani&amp;quot\;}&quot;&gt;
 Lisseth Cecilia Ccopa Mamani&lt;/td&gt;\n&lt;td data-sheets-value=&quot;{&amp;quot\;1&amp;quot\;
 :2\,&amp;quot\;2&amp;quot\;:&amp;quot\;Ciberseguridad&amp;quot\;}&quot;&gt;Ciberseguridad&lt;/td&gt;\n&lt;t
 d data-sheets-value=&quot;{&amp;quot\;1&amp;quot\;:2\,&amp;quot\;2&amp;quot\;:&amp;quot\;Teorica&amp;qu
 ot\;}&quot;&gt;Teorica&lt;/td&gt;\n&lt;/tr&gt;\n&lt;tr&gt;\n&lt;td data-sheets-value=&quot;{&amp;quot\;1&amp;quot\;:
 2\,&amp;quot\;2&amp;quot\;:&amp;quot\;Antonella Yoryina Yupanqui Tovar&amp;quot\;}&quot;&gt;Antone
 lla Yoryina Yupanqui Tovar&lt;/td&gt;\n&lt;td data-sheets-value=&quot;{&amp;quot\;1&amp;quot\;:2
 \,&amp;quot\;2&amp;quot\;:&amp;quot\;5G&amp;quot\;}&quot;&gt;5G&lt;/td&gt;\n&lt;td data-sheets-value=&quot;{&amp;quo
 t\;1&amp;quot\;:2\,&amp;quot\;2&amp;quot\;:&amp;quot\;Teorica&amp;quot\;}&quot;&gt;Teorica&lt;/td&gt;\n&lt;/tr&gt;
 \n&lt;tr&gt;\n&lt;td data-sheets-value=&quot;{&amp;quot\;1&amp;quot\;:2\,&amp;quot\;2&amp;quot\;:&amp;quot\;
 Carmen Victoria Cornejo Huatuco&amp;quot\;}&quot;&gt;Carmen Victoria Cornejo Huatuco&lt;/
 td&gt;\n&lt;td data-sheets-value=&quot;{&amp;quot\;1&amp;quot\;:2\,&amp;quot\;2&amp;quot\;:&amp;quot\;Cib
 erseguridad&amp;quot\;}&quot;&gt;Ciberseguridad&lt;/td&gt;\n&lt;td data-sheets-value=&quot;{&amp;quot\;1
 &amp;quot\;:2\,&amp;quot\;2&amp;quot\;:&amp;quot\;Practica&amp;quot\;}&quot;&gt;Practica&lt;/td&gt;\n&lt;/tr&gt;\n
 &lt;tr&gt;\n&lt;td data-sheets-value=&quot;{&amp;quot\;1&amp;quot\;:2\,&amp;quot\;2&amp;quot\;:&amp;quot\;Je
 selyn Romero Avila&amp;quot\;}&quot;&gt;Jeselyn Romero Avila&lt;/td&gt;\n&lt;td data-sheets-val
 ue=&quot;{&amp;quot\;1&amp;quot\;:2\,&amp;quot\;2&amp;quot\;:&amp;quot\;Inteligencia Artificial&amp;quo
 t\;}&quot;&gt;Inteligencia Artificial&lt;/td&gt;\n&lt;td data-sheets-value=&quot;{&amp;quot\;1&amp;quot\
 ;:2\,&amp;quot\;2&amp;quot\;:&amp;quot\;Teorica&amp;quot\;}&quot;&gt;Teorica&lt;/td&gt;\n&lt;/tr&gt;\n&lt;/tbody&gt;
 \n&lt;/table&gt;\n&lt;p&gt;&amp;nbsp\;&lt;/p&gt;
END:VEVENT
END:VCALENDAR

