BEGIN:VCALENDAR
VERSION:2.0
PRODID:IEEE vTools.Events//EN
CALSCALE:GREGORIAN
BEGIN:VTIMEZONE
TZID:America/Santiago
BEGIN:DAYLIGHT
DTSTART:20220911T010000
TZOFFSETFROM:-0400
TZOFFSETTO:-0300
RRULE:FREQ=YEARLY;BYDAY=2SU;BYMONTH=9
TZNAME:-03
END:DAYLIGHT
BEGIN:STANDARD
DTSTART:20220402T230000
TZOFFSETFROM:-0300
TZOFFSETTO:-0400
RRULE:FREQ=YEARLY;BYDAY=1SA;BYMONTH=4
TZNAME:-04
END:STANDARD
END:VTIMEZONE
BEGIN:VEVENT
DTSTAMP:20220429T022008Z
UID:857BA61A-B164-4BA4-9DEF-39D05701E0E2
DTSTART;TZID=America/Santiago:20220428T190000
DTEND;TZID=America/Santiago:20220428T203000
DESCRIPTION:Evento para compartir experiencias y ver las iniciativas para e
 l 2022 en la sección\n\nSIGHT Day Chile Centro\nJueves\, 28 abril · 7:00
  – 8:00pm\nInformación para unirse a la reunión de Google Meet\nVíncu
 lo a la videollamada: https://meet.google.com/xkj-xmjv-irb\nO marca el: 
 ‪(CL) +56 43 245 2070‬ PIN: ‪650 663 159 1240‬#\nMás números de 
 teléfono: https://tel.meet/xkj-xmjv-irb?pin=6506631591240\n\nSantiago\, R
 egion Metropolitana\, Chile\, Virtual: https://events.vtools.ieee.org/m/31
 2521
LOCATION:Santiago\, Region Metropolitana\, Chile\, Virtual: https://events.
 vtools.ieee.org/m/312521
ORGANIZER:sight.centro@ieeechile.cl
SEQUENCE:3
SUMMARY:IEEE SIGHT Day 2022 - Encuentro Chile Centro 
URL;VALUE=URI:https://events.vtools.ieee.org/m/312521
X-ALT-DESC:Description: &lt;br /&gt;&lt;p&gt;Evento para compartir experiencias y ver l
 as iniciativas para el 2022 en la secci&amp;oacute\;n&lt;/p&gt;\n&lt;p&gt;SIGHT Day Chile 
 Centro&lt;br /&gt;Jueves\, 28 abril &amp;middot\; 7:00 &amp;ndash\; 8:00pm&lt;br /&gt;Informac
 i&amp;oacute\;n para unirse a la reuni&amp;oacute\;n de Google Meet&lt;br /&gt;V&amp;iacute\
 ;nculo a la videollamada: https://meet.google.com/xkj-xmjv-irb&lt;br /&gt;O marc
 a el: ‪(CL) +56 43 245 2070‬ PIN: ‪650 663 159 1240‬#&lt;br /&gt;M&amp;aacut
 e\;s n&amp;uacute\;meros de tel&amp;eacute\;fono: https://tel.meet/xkj-xmjv-irb?pi
 n=6506631591240&lt;/p&gt;
END:VEVENT
END:VCALENDAR

