BEGIN:VCALENDAR
VERSION:2.0
PRODID:IEEE vTools.Events//EN
CALSCALE:GREGORIAN
BEGIN:VTIMEZONE
TZID:US/Eastern
BEGIN:DAYLIGHT
DTSTART:20220313T030000
TZOFFSETFROM:-0500
TZOFFSETTO:-0400
RRULE:FREQ=YEARLY;BYDAY=2SU;BYMONTH=3
TZNAME:EDT
END:DAYLIGHT
BEGIN:STANDARD
DTSTART:20221106T010000
TZOFFSETFROM:-0400
TZOFFSETTO:-0500
RRULE:FREQ=YEARLY;BYDAY=1SU;BYMONTH=11
TZNAME:EST
END:STANDARD
END:VTIMEZONE
BEGIN:VEVENT
DTSTAMP:20220428T170135Z
UID:423D7E2B-AB00-42DB-B7D3-068FB1B607E0
DTSTART;TZID=US/Eastern:20220316T190000
DTEND;TZID=US/Eastern:20220316T200000
DESCRIPTION:Regular EXCOM meeting\n\nCincinnati\, Ohio\, United States\, Vi
 rtual: https://events.vtools.ieee.org/m/313088
LOCATION:Cincinnati\, Ohio\, United States\, Virtual: https://events.vtools
 .ieee.org/m/313088
ORGANIZER:linuxbob@cinci.rr.com
SEQUENCE:0
SUMMARY:EXCOM March 2022 Regular Meeting
URL;VALUE=URI:https://events.vtools.ieee.org/m/313088
X-ALT-DESC:Description: &lt;br /&gt;&lt;p&gt;Regular EXCOM meeting&lt;/p&gt;
END:VEVENT
END:VCALENDAR

