BEGIN:VCALENDAR
VERSION:2.0
PRODID:IEEE vTools.Events//EN
CALSCALE:GREGORIAN
BEGIN:VTIMEZONE
TZID:America/Bogota
BEGIN:DAYLIGHT
DTSTART:20380118T221407
TZOFFSETFROM:-0500
TZOFFSETTO:-0500
RRULE:FREQ=YEARLY;BYDAY=3MO;BYMONTH=1
TZNAME:-05
END:DAYLIGHT
BEGIN:STANDARD
DTSTART:19930206T230000
TZOFFSETFROM:-0400
TZOFFSETTO:-0500
RRULE:FREQ=YEARLY;BYDAY=1SA;BYMONTH=2
TZNAME:-05
END:STANDARD
END:VTIMEZONE
BEGIN:VEVENT
DTSTAMP:20221005T215639Z
UID:24E8953F-0BFF-4C92-BFEE-9E424C43FE08
DTSTART;TZID=America/Bogota:20220531T090000
DTEND;TZID=America/Bogota:20220531T140000
DESCRIPTION:Valencia 5G es un evento Internacional\, que en 2022 se hará e
 n dos continentes. En España en la ciudad de Valencia y en Colombia en la
  ciudad de Cali\, Valle del Cauca.\n\nCo-sponsored by: Universidad Politec
 nica de Valencia\n\nSpeaker(s): Carlos Becerra\, Julia Urbina\n\nVirtual: 
 https://events.vtools.ieee.org/m/313886
LOCATION:Virtual: https://events.vtools.ieee.org/m/313886
ORGANIZER:anavarrocadavid@ieee.org
SEQUENCE:3
SUMMARY:V5G Days
URL;VALUE=URI:https://events.vtools.ieee.org/m/313886
X-ALT-DESC:Description: &lt;br /&gt;&lt;p&gt;Valencia 5G es un evento Internacional\, q
 ue en 2022 se har&amp;aacute\; en dos continentes. En Espa&amp;ntilde\;a en la ciu
 dad de Valencia y en Colombia en la ciudad de&amp;nbsp\; Cali\, Valle del Cauc
 a.&lt;/p&gt;
END:VEVENT
END:VCALENDAR

