BEGIN:VCALENDAR
VERSION:2.0
PRODID:IEEE vTools.Events//EN
CALSCALE:GREGORIAN
BEGIN:VEVENT
DTSTAMP:20220507T113129Z
UID:BD0560C2-3CE1-4A60-9A03-903AF73D2A7B
DTSTART;TZID=Etc/GMT+5:20210714T150000
DTEND;TZID=Etc/GMT+5:20210714T163000
DESCRIPTION:The basic idea of the discussion was that electrical safe pract
 ices are important\, but they are mostly neglected due to lack of knowledg
 e and enlightenment. In ordinary companies and residences\, the voltage of
  the electricity and the available electrical current is powerful enough t
 o cause death by electrocution. Even replacing a light bulb without discon
 necting the lamp is dangerous because coming into contact with the &quot;hot\,&quot;
  &quot;energized\,&quot; or &quot;live&quot; section of the socket can be fatal.\n\nTherefore 
 IEEE PES NEDUET arranged the seminar to enlighten this topic with Mr. Ghaz
 anfar\, who is a BE and ME in electrical engineering and an MBA graduate a
 s well. By using his expertise and prior knowledge he makes us abide by fo
 llowing main rules:\n\n- Working with exposed conductors carrying 50 volts
  or more is not recommended.\n- Ensure that all electrical equipment is pr
 operly connected\, grounded\, and functional.\n- Extension cables should n
 ot be utilized as permanent wiring and should be discarded after a single 
 activity or event.\n- Surge suppressors with built-in circuit breakers may
  be used for a long time and come in chord lengths of three\, six\, and fi
 fteen feet.\n- Space heaters\, portable air conditioners\, and other high-
 amperage devices must be connected directly to permanent wall sockets.\n\n
 Unless you are explicitly certified and permitted\, do not enter\, utilize
 \, or change any building&#39;s electrical service\, including circuit breaker
  panels.\n\nCo-sponsored by: Byco\n\nSpeaker(s): Mr. Ghazanfar Abbas Rizvi
 \, \n\nAgenda: \nElectrical Engineering is a field that entails you to be 
 vigilant. You need to have a comprehensive understanding of the safety mea
 surements while working in labs and outdoor fieldwork. Often\, students ar
 e unaware of these safety precautions. For this very reason\, IEEE PES NED
 UET arranged a workshop on Electrical safeties.\n\nKarachi\, Sindh\, Pakis
 tan\, Virtual: https://events.vtools.ieee.org/m/314031
LOCATION:Karachi\, Sindh\, Pakistan\, Virtual: https://events.vtools.ieee.o
 rg/m/314031
ORGANIZER:hunainraza@ieee.org
SEQUENCE:1
SUMMARY:Electrical Drawings and safety Practices
URL;VALUE=URI:https://events.vtools.ieee.org/m/314031
X-ALT-DESC:Description: &lt;br /&gt;&lt;p&gt;The basic idea of the discussion was that 
 electrical safe practices are important\, but they are mostly neglected du
 e to lack of knowledge and enlightenment. In ordinary companies and reside
 nces\, the voltage of the electricity and the available electrical current
  is powerful enough to cause death by electrocution. Even replacing a ligh
 t bulb without disconnecting the lamp is dangerous because coming into con
 tact with the &quot;hot\,&quot; &quot;energized\,&quot; or &quot;live&quot; section of the socket can be
  fatal.&lt;/p&gt;\n&lt;p&gt;Therefore IEEE PES NEDUET arranged the seminar to enlighte
 n this topic with Mr. Ghazanfar\, who is a BE and ME in electrical enginee
 ring and an MBA graduate as well. By using his expertise and prior knowled
 ge he makes us abide by following main rules:&lt;/p&gt;\n&lt;ul&gt;\n&lt;li&gt;Working with 
 exposed conductors carrying 50 volts or more is not recommended.&lt;/li&gt;\n&lt;li
 &gt;Ensure that all electrical equipment is properly connected\, grounded\, a
 nd functional.&lt;/li&gt;\n&lt;li&gt;Extension cables should not be utilized as perman
 ent wiring and should be discarded after a single activity or event.&lt;/li&gt;\
 n&lt;li&gt;Surge suppressors with built-in circuit breakers may be used for a lo
 ng time and come in chord lengths of three\, six\, and fifteen feet.&lt;/li&gt;\
 n&lt;li&gt;Space heaters\, portable air conditioners\, and other high-amperage d
 evices must be connected directly to permanent wall sockets.&lt;/li&gt;\n&lt;/ul&gt;\n
 &lt;p&gt;Unless you are explicitly certified and permitted\, do not enter\, util
 ize\, or change any building&#39;s electrical service\, including circuit brea
 ker panels.&lt;/p&gt;&lt;br /&gt;&lt;br /&gt;Agenda: &lt;br /&gt;&lt;p&gt;Electrical Engineering is a fi
 eld that entails you to be vigilant. You need to have a comprehensive unde
 rstanding of the safety measurements while working in labs and outdoor fie
 ldwork. Often\, students are unaware of these safety precautions. For this
  very reason\, IEEE PES NEDUET arranged a workshop on Electrical safeties.
 &lt;/p&gt;
END:VEVENT
END:VCALENDAR

