BEGIN:VCALENDAR
VERSION:2.0
PRODID:IEEE vTools.Events//EN
CALSCALE:GREGORIAN
BEGIN:VTIMEZONE
TZID:US/Eastern
BEGIN:DAYLIGHT
DTSTART:20220313T030000
TZOFFSETFROM:-0500
TZOFFSETTO:-0400
RRULE:FREQ=YEARLY;BYDAY=2SU;BYMONTH=3
TZNAME:EDT
END:DAYLIGHT
BEGIN:STANDARD
DTSTART:20221106T010000
TZOFFSETFROM:-0400
TZOFFSETTO:-0500
RRULE:FREQ=YEARLY;BYDAY=1SU;BYMONTH=11
TZNAME:EST
END:STANDARD
END:VTIMEZONE
BEGIN:VEVENT
DTSTAMP:20220509T165237Z
UID:FADE1553-E7BC-4207-A16F-9E97738E6DDA
DTSTART;TZID=US/Eastern:20220506T160000
DTEND;TZID=US/Eastern:20220506T171500
DESCRIPTION:Continued advances in digital and analog technologies present n
 ew challenges to the design of Printed Wiring Boards (PWBs). As clock freq
 uencies and data rates approach the X-Band region\, digital designers are 
 faced with considerations that were once only viewed as analog/RF concerns
  such as dielectric loss\, skin effects\, dispersion and impedance matchin
 g. Many analog/RF designs can present noise immunity and stability challen
 ges. The presentation covers Signal Integrity (SI) and Power Integrity (PI
 ) in addition to the construction of PWBs. Although rigid PWBs are the mai
 n focus\, flex PWBs are also reviewed.\n\nSpeaker(s): James Colotti\, \n\n
 Northern Boulevard\, Old Westbury\, New York\, United States\, 11568-8000
LOCATION:Northern Boulevard\, Old Westbury\, New York\, United States\, 115
 68-8000
ORGANIZER:colotti@ieee.org
SEQUENCE:1
SUMMARY:Analog\, RF and EMC Considerations in Printed Wiring Board (PWB) De
 sign
URL;VALUE=URI:https://events.vtools.ieee.org/m/314210
X-ALT-DESC:Description: &lt;br /&gt;&lt;p align=&quot;justify&quot;&gt;&lt;span class=&quot;auto-style1&quot;&gt;
 Continued advances in digital and analog technologies present new challeng
 es to the design of Printed Wiring Boards (PWBs). As clock frequencies and
  data rates approach the X-Band region\, digital designers are faced with 
 considerations that were once only viewed as analog/RF concerns such as di
 electric loss\, skin effects\, dispersion and impedance matching. Many ana
 log/RF designs can present noise immunity and stability challenges. The pr
 esentation covers Signal Integrity (SI) and Power Integrity (PI) in additi
 on to the construction of PWBs. Although rigid PWBs are the main focus\, f
 lex PWBs are also reviewed.&lt;/span&gt;&lt;/p&gt;
END:VEVENT
END:VCALENDAR

