BEGIN:VCALENDAR
VERSION:2.0
PRODID:IEEE vTools.Events//EN
CALSCALE:GREGORIAN
BEGIN:VTIMEZONE
TZID:America/Chicago
BEGIN:DAYLIGHT
DTSTART:20220313T030000
TZOFFSETFROM:-0600
TZOFFSETTO:-0500
RRULE:FREQ=YEARLY;BYDAY=2SU;BYMONTH=3
TZNAME:CDT
END:DAYLIGHT
BEGIN:STANDARD
DTSTART:20221106T010000
TZOFFSETFROM:-0500
TZOFFSETTO:-0600
RRULE:FREQ=YEARLY;BYDAY=1SU;BYMONTH=11
TZNAME:CST
END:STANDARD
END:VTIMEZONE
BEGIN:VEVENT
DTSTAMP:20220620T144427Z
UID:A189FAF3-7D36-4EEB-BD5E-FAD3C272CC4C
DTSTART;TZID=America/Chicago:20220520T173000
DTEND;TZID=America/Chicago:20220520T200000
DESCRIPTION:&quot;Cybersocial Third Friday&quot; is a monthly reoccurring networking/
 social meetup hosted by the IEEE R4 Iowa-Illinois Computer Society Chapter
 . Join us for social hour and see your friends and colleagues. Cybersocial
  is a monthly event held the third Friday of each month.\n\nAgenda: \nWe p
 lan to meet IN PERSON at Nerdspeak Brewery in Bettendorf.\n\nNerdspeak Bre
 wery\, 7563 State St\, Bettendorf\, Iowa\, United States\, 52722\, Virtual
 : https://events.vtools.ieee.org/m/314342
LOCATION:Nerdspeak Brewery\, 7563 State St\, Bettendorf\, Iowa\, United Sta
 tes\, 52722\, Virtual: https://events.vtools.ieee.org/m/314342
ORGANIZER:j.johnson@ieee.org
SEQUENCE:2
SUMMARY:Cybersocial #2022-5 - May Third Friday Meet Up
URL;VALUE=URI:https://events.vtools.ieee.org/m/314342
X-ALT-DESC:Description: &lt;br /&gt;&lt;p&gt;&quot;Cybersocial Third Friday&quot; is a monthly re
 occurring networking/social meetup hosted by the IEEE R4 Iowa-Illinois Com
 puter Society Chapter. Join us for social hour and see your friends and co
 lleagues. Cybersocial is a monthly event held the third Friday of each mon
 th.&lt;/p&gt;&lt;br /&gt;&lt;br /&gt;Agenda: &lt;br /&gt;&lt;p&gt;We plan to meet IN PERSON at Nerdspeak
  Brewery in Bettendorf.&lt;/p&gt;
END:VEVENT
END:VCALENDAR

