BEGIN:VCALENDAR
VERSION:2.0
PRODID:IEEE vTools.Events//EN
CALSCALE:GREGORIAN
BEGIN:VTIMEZONE
TZID:America/Lima
BEGIN:DAYLIGHT
DTSTART:20380118T221407
TZOFFSETFROM:-0500
TZOFFSETTO:-0500
RRULE:FREQ=YEARLY;BYDAY=3MO;BYMONTH=1
TZNAME:-05
END:DAYLIGHT
BEGIN:STANDARD
DTSTART:19940331T230000
TZOFFSETFROM:-0400
TZOFFSETTO:-0500
RRULE:FREQ=YEARLY;BYDAY=-1TH;BYMONTH=3
TZNAME:-05
END:STANDARD
END:VTIMEZONE
BEGIN:VEVENT
DTSTAMP:20220520T212550Z
UID:50C0D519-582B-4481-9BB4-70A41D6DFA34
DTSTART;TZID=America/Lima:20220520T100000
DTEND;TZID=America/Lima:20220520T103000
DESCRIPTION:En este primer episodio se tendrá como invitado al Ing. Willia
 ms Limonchi\, ing. electrónico por la UTP\, especializado en sistemas emb
 ebidos y creador de contenido en Youtube\, con conocimientos en desarrollo
  de firmware. También tiene experiencia en microcontrolador PIC\, STM32\,
  FreeRTOS\, Unit Test\, KiCAD\, Altium\, POO y Python.\nPuedes disfrutar d
 el podcast en el siguiente link: [bit.ly/3yOLzqO](https://bit.ly/3yOLzqO?f
 bclid=IwAR2kXqnb_9cDHZ1DGQMd923uWPhqHcTskL8ZdpOlps8BukjMabYWWyfljlA)\n\nSp
 eaker(s): Williams Ernesto Limonchi Sandoval\, \n\nAgenda: \nActividad	Res
 ponsable(s)	Inicio	Fin\nGeneración del cronograma y plan de trabajo	Direc
 tiva y Área de Eventos	03/04	08/04\nGeneración de ideas y dinámica	Áre
 a de Relaciones Públicas	04/04	14/04\nGrabación del Podcast	Área de Eve
 ntos	14/04	15/04\nEdición	Área de Marketing	15/04	15/05\nMarketing y Pub
 licidad	Área de Eventos	18/04	18/05\nReporte de Inicio	Área de Eventos	1
 2/05	13/05\nLanzamiento	Área de Eventos	17/05	18/05\nReporte de Cierre	Á
 rea de Marketing	18/05	21/05\n\nVirtual: https://events.vtools.ieee.org/m/
 314479
LOCATION:Virtual: https://events.vtools.ieee.org/m/314479
ORGANIZER:ieeeras.fiee@unmsm.edu.pe
SEQUENCE:4
SUMMARY:[EVENTO RAS UNMSM] - RAS TALK EP. 1 | AHORA O NUNCA\, CONOCE EL MUN
 DO DE LOS SISTEMAS DE EMBEBIDOS FEAT. WELS
URL;VALUE=URI:https://events.vtools.ieee.org/m/314479
X-ALT-DESC:Description: &lt;br /&gt;&lt;div class=&quot;cxmmr5t8 oygrvhab hcukyx3x c1et5u
 ql o9v6fnle ii04i59q&quot;&gt;\n&lt;div dir=&quot;auto&quot;&gt;&lt;span style=&quot;font-size: 18pt\;&quot;&gt;En
  este primer episodio se tendr&amp;aacute\; como invitado al Ing. Williams Lim
 onchi\, ing. electr&amp;oacute\;nico por la UTP\, especializado en sistemas em
 bebidos y creador de contenido en Youtube\, con conocimientos en desarroll
 o de firmware. Tambi&amp;eacute\;n tiene experiencia en microcontrolador PIC\,
  STM32\, FreeRTOS\, Unit Test\, KiCAD\, Altium\, POO y Python.&lt;/span&gt;&lt;/div
 &gt;\n&lt;div dir=&quot;auto&quot;&gt;&lt;span style=&quot;font-size: 18pt\;&quot;&gt;Puedes disfrutar del po
 dcast en el siguiente link:&amp;nbsp\;&lt;a class=&quot;oajrlxb2 g5ia77u1 qu0x051f esr
 5mh6w e9989ue4 r7d6kgcz rq0escxv nhd2j8a9 nc684nl6 p7hjln8o kvgmc6g5 cxmmr
 5t8 oygrvhab hcukyx3x jb3vyjys rz4wbd8a qt6c0cv9 a8nywdso i1ao9s8h esuyzww
 r f1sip0of lzcic4wl gpro0wi8 py34i1dx&quot; tabindex=&quot;0&quot; role=&quot;link&quot; href=&quot;http
 s://bit.ly/3yOLzqO?fbclid=IwAR2kXqnb_9cDHZ1DGQMd923uWPhqHcTskL8ZdpOlps8Buk
 jMabYWWyfljlA&quot; target=&quot;_blank&quot; rel=&quot;nofollow noopener&quot;&gt;bit.ly/3yOLzqO&lt;/a&gt;&lt;
 /span&gt;&lt;/div&gt;\n&lt;/div&gt;&lt;br /&gt;&lt;br /&gt;Agenda: &lt;br /&gt;&lt;table dir=&quot;ltr&quot; cellspacing
 =&quot;0&quot; cellpadding=&quot;0&quot;&gt;&lt;colgroup&gt;&lt;col width=&quot;279&quot; /&gt;&lt;col width=&quot;180&quot; /&gt;&lt;col 
 width=&quot;42&quot; /&gt;&lt;col width=&quot;40&quot; /&gt;&lt;/colgroup&gt;\n&lt;tbody&gt;\n&lt;tr&gt;\n&lt;td data-sheets
 -value=&quot;{&amp;quot\;1&amp;quot\;:2\,&amp;quot\;2&amp;quot\;:&amp;quot\;Actividad&amp;quot\;}&quot;&gt;Acti
 vidad&lt;/td&gt;\n&lt;td data-sheets-value=&quot;{&amp;quot\;1&amp;quot\;:2\,&amp;quot\;2&amp;quot\;:&amp;qu
 ot\;Responsable(s)&amp;quot\;}&quot;&gt;Responsable(s)&lt;/td&gt;\n&lt;td data-sheets-value=&quot;{&amp;
 quot\;1&amp;quot\;:2\,&amp;quot\;2&amp;quot\;:&amp;quot\;Inicio&amp;quot\;}&quot;&gt;Inicio&lt;/td&gt;\n&lt;td 
 data-sheets-value=&quot;{&amp;quot\;1&amp;quot\;:2\,&amp;quot\;2&amp;quot\;:&amp;quot\;Fin&amp;quot\;}&quot;
 &gt;Fin&lt;/td&gt;\n&lt;/tr&gt;\n&lt;tr&gt;\n&lt;td data-sheets-value=&quot;{&amp;quot\;1&amp;quot\;:2\,&amp;quot\;
 2&amp;quot\;:&amp;quot\;Generaci&amp;oacute\;n del cronograma y plan de trabajo&amp;quot\;
 }&quot;&gt;Generaci&amp;oacute\;n del cronograma y plan de trabajo&lt;/td&gt;\n&lt;td data-shee
 ts-value=&quot;{&amp;quot\;1&amp;quot\;:2\,&amp;quot\;2&amp;quot\;:&amp;quot\;Directiva y &amp;Aacute\;
 rea de Eventos&amp;quot\;}&quot;&gt;Directiva y &amp;Aacute\;rea de Eventos&lt;/td&gt;\n&lt;td data
 -sheets-value=&quot;{&amp;quot\;1&amp;quot\;:3\,&amp;quot\;3&amp;quot\;:44654}&quot; data-sheets-num
 berformat=&quot;{&amp;quot\;1&amp;quot\;:5\,&amp;quot\;2&amp;quot\;:&amp;quot\;dd/mm&amp;quot\;\,&amp;quot\
 ;3&amp;quot\;:1}&quot;&gt;03/04&lt;/td&gt;\n&lt;td data-sheets-value=&quot;{&amp;quot\;1&amp;quot\;:3\,&amp;quot
 \;3&amp;quot\;:44659}&quot; data-sheets-numberformat=&quot;{&amp;quot\;1&amp;quot\;:5\,&amp;quot\;2&amp;
 quot\;:&amp;quot\;dd/mm&amp;quot\;\,&amp;quot\;3&amp;quot\;:1}&quot; data-sheets-formula=&quot;=R[0]
 C[-1]+R[0]C[1]&quot;&gt;08/04&lt;/td&gt;\n&lt;/tr&gt;\n&lt;tr&gt;\n&lt;td data-sheets-value=&quot;{&amp;quot\;1&amp;
 quot\;:2\,&amp;quot\;2&amp;quot\;:&amp;quot\;Generaci&amp;oacute\;n de ideas y din&amp;aacute\
 ;mica&amp;quot\;}&quot;&gt;Generaci&amp;oacute\;n de ideas y din&amp;aacute\;mica&lt;/td&gt;\n&lt;td da
 ta-sheets-value=&quot;{&amp;quot\;1&amp;quot\;:2\,&amp;quot\;2&amp;quot\;:&amp;quot\;&amp;Aacute\;rea d
 e Relaciones P&amp;uacute\;blicas&amp;quot\;}&quot;&gt;&amp;Aacute\;rea de Relaciones P&amp;uacute
 \;blicas&lt;/td&gt;\n&lt;td data-sheets-value=&quot;{&amp;quot\;1&amp;quot\;:3\,&amp;quot\;3&amp;quot\;:
 44655}&quot; data-sheets-numberformat=&quot;{&amp;quot\;1&amp;quot\;:5\,&amp;quot\;2&amp;quot\;:&amp;quo
 t\;dd/mm&amp;quot\;\,&amp;quot\;3&amp;quot\;:1}&quot;&gt;04/04&lt;/td&gt;\n&lt;td data-sheets-value=&quot;{&amp;
 quot\;1&amp;quot\;:3\,&amp;quot\;3&amp;quot\;:44665}&quot; data-sheets-numberformat=&quot;{&amp;quot
 \;1&amp;quot\;:5\,&amp;quot\;2&amp;quot\;:&amp;quot\;dd/mm&amp;quot\;\,&amp;quot\;3&amp;quot\;:1}&quot; dat
 a-sheets-formula=&quot;=R[0]C[-1]+R[0]C[1]&quot;&gt;14/04&lt;/td&gt;\n&lt;/tr&gt;\n&lt;tr&gt;\n&lt;td data-s
 heets-value=&quot;{&amp;quot\;1&amp;quot\;:2\,&amp;quot\;2&amp;quot\;:&amp;quot\;Grabaci&amp;oacute\;n 
 del Podcast&amp;quot\;}&quot;&gt;Grabaci&amp;oacute\;n del Podcast&lt;/td&gt;\n&lt;td data-sheets-v
 alue=&quot;{&amp;quot\;1&amp;quot\;:2\,&amp;quot\;2&amp;quot\;:&amp;quot\;&amp;Aacute\;rea de Eventos&amp;q
 uot\;}&quot;&gt;&amp;Aacute\;rea de Eventos&lt;/td&gt;\n&lt;td data-sheets-value=&quot;{&amp;quot\;1&amp;quo
 t\;:3\,&amp;quot\;3&amp;quot\;:44665}&quot; data-sheets-numberformat=&quot;{&amp;quot\;1&amp;quot\;:
 5\,&amp;quot\;2&amp;quot\;:&amp;quot\;dd/mm&amp;quot\;\,&amp;quot\;3&amp;quot\;:1}&quot;&gt;14/04&lt;/td&gt;\n&lt;t
 d data-sheets-value=&quot;{&amp;quot\;1&amp;quot\;:3\,&amp;quot\;3&amp;quot\;:44666}&quot; data-shee
 ts-numberformat=&quot;{&amp;quot\;1&amp;quot\;:5\,&amp;quot\;2&amp;quot\;:&amp;quot\;dd/mm&amp;quot\;\,
 &amp;quot\;3&amp;quot\;:1}&quot; data-sheets-formula=&quot;=R[0]C[-1]+R[0]C[1]&quot;&gt;15/04&lt;/td&gt;\n
 &lt;/tr&gt;\n&lt;tr&gt;\n&lt;td data-sheets-value=&quot;{&amp;quot\;1&amp;quot\;:2\,&amp;quot\;2&amp;quot\;:&amp;q
 uot\;Edici&amp;oacute\;n&amp;quot\;}&quot;&gt;Edici&amp;oacute\;n&lt;/td&gt;\n&lt;td data-sheets-value=
 &quot;{&amp;quot\;1&amp;quot\;:2\,&amp;quot\;2&amp;quot\;:&amp;quot\;&amp;Aacute\;rea de Marketing&amp;quot
 \;}&quot;&gt;&amp;Aacute\;rea de Marketing&lt;/td&gt;\n&lt;td data-sheets-value=&quot;{&amp;quot\;1&amp;quot
 \;:3\,&amp;quot\;3&amp;quot\;:44666}&quot; data-sheets-numberformat=&quot;{&amp;quot\;1&amp;quot\;:5
 \,&amp;quot\;2&amp;quot\;:&amp;quot\;dd/mm&amp;quot\;\,&amp;quot\;3&amp;quot\;:1}&quot;&gt;15/04&lt;/td&gt;\n&lt;td
  data-sheets-value=&quot;{&amp;quot\;1&amp;quot\;:3\,&amp;quot\;3&amp;quot\;:44696}&quot; data-sheet
 s-numberformat=&quot;{&amp;quot\;1&amp;quot\;:5\,&amp;quot\;2&amp;quot\;:&amp;quot\;dd/mm&amp;quot\;\,&amp;
 quot\;3&amp;quot\;:1}&quot; data-sheets-formula=&quot;=R[0]C[-1]+R[0]C[1]&quot;&gt;15/05&lt;/td&gt;\n&lt;
 /tr&gt;\n&lt;tr&gt;\n&lt;td data-sheets-value=&quot;{&amp;quot\;1&amp;quot\;:2\,&amp;quot\;2&amp;quot\;:&amp;qu
 ot\;Marketing y Publicidad&amp;quot\;}&quot;&gt;Marketing y Publicidad&lt;/td&gt;\n&lt;td data-
 sheets-value=&quot;{&amp;quot\;1&amp;quot\;:2\,&amp;quot\;2&amp;quot\;:&amp;quot\;&amp;Aacute\;rea de E
 ventos&amp;quot\;}&quot;&gt;&amp;Aacute\;rea de Eventos&lt;/td&gt;\n&lt;td data-sheets-value=&quot;{&amp;quo
 t\;1&amp;quot\;:3\,&amp;quot\;3&amp;quot\;:44669}&quot; data-sheets-numberformat=&quot;{&amp;quot\;1
 &amp;quot\;:5\,&amp;quot\;2&amp;quot\;:&amp;quot\;dd/mm&amp;quot\;\,&amp;quot\;3&amp;quot\;:1}&quot;&gt;18/04&lt;
 /td&gt;\n&lt;td data-sheets-value=&quot;{&amp;quot\;1&amp;quot\;:3\,&amp;quot\;3&amp;quot\;:44699}&quot; d
 ata-sheets-numberformat=&quot;{&amp;quot\;1&amp;quot\;:5\,&amp;quot\;2&amp;quot\;:&amp;quot\;dd/mm&amp;
 quot\;\,&amp;quot\;3&amp;quot\;:1}&quot; data-sheets-formula=&quot;=R[0]C[-1]+R[0]C[1]&quot;&gt;18/0
 5&lt;/td&gt;\n&lt;/tr&gt;\n&lt;tr&gt;\n&lt;td data-sheets-value=&quot;{&amp;quot\;1&amp;quot\;:2\,&amp;quot\;2&amp;q
 uot\;:&amp;quot\;Reporte de Inicio&amp;quot\;}&quot;&gt;Reporte de Inicio&lt;/td&gt;\n&lt;td data-s
 heets-value=&quot;{&amp;quot\;1&amp;quot\;:2\,&amp;quot\;2&amp;quot\;:&amp;quot\;&amp;Aacute\;rea de Ev
 entos&amp;quot\;}&quot;&gt;&amp;Aacute\;rea de Eventos&lt;/td&gt;\n&lt;td data-sheets-value=&quot;{&amp;quot
 \;1&amp;quot\;:3\,&amp;quot\;3&amp;quot\;:44693}&quot; data-sheets-numberformat=&quot;{&amp;quot\;1&amp;
 quot\;:5\,&amp;quot\;2&amp;quot\;:&amp;quot\;dd/mm&amp;quot\;\,&amp;quot\;3&amp;quot\;:1}&quot;&gt;12/05&lt;/
 td&gt;\n&lt;td data-sheets-value=&quot;{&amp;quot\;1&amp;quot\;:3\,&amp;quot\;3&amp;quot\;:44694}&quot; da
 ta-sheets-numberformat=&quot;{&amp;quot\;1&amp;quot\;:5\,&amp;quot\;2&amp;quot\;:&amp;quot\;dd/mm&amp;q
 uot\;\,&amp;quot\;3&amp;quot\;:1}&quot; data-sheets-formula=&quot;=R[0]C[-1]+R[0]C[1]&quot;&gt;13/05
 &lt;/td&gt;\n&lt;/tr&gt;\n&lt;tr&gt;\n&lt;td data-sheets-value=&quot;{&amp;quot\;1&amp;quot\;:2\,&amp;quot\;2&amp;qu
 ot\;:&amp;quot\;Lanzamiento&amp;quot\;}&quot;&gt;Lanzamiento&lt;/td&gt;\n&lt;td data-sheets-value=&quot;
 {&amp;quot\;1&amp;quot\;:2\,&amp;quot\;2&amp;quot\;:&amp;quot\;&amp;Aacute\;rea de Eventos&amp;quot\;}
 &quot;&gt;&amp;Aacute\;rea de Eventos&lt;/td&gt;\n&lt;td data-sheets-value=&quot;{&amp;quot\;1&amp;quot\;:3\
 ,&amp;quot\;3&amp;quot\;:44698}&quot; data-sheets-numberformat=&quot;{&amp;quot\;1&amp;quot\;:5\,&amp;qu
 ot\;2&amp;quot\;:&amp;quot\;dd/mm&amp;quot\;\,&amp;quot\;3&amp;quot\;:1}&quot;&gt;17/05&lt;/td&gt;\n&lt;td data
 -sheets-value=&quot;{&amp;quot\;1&amp;quot\;:3\,&amp;quot\;3&amp;quot\;:44699}&quot; data-sheets-num
 berformat=&quot;{&amp;quot\;1&amp;quot\;:5\,&amp;quot\;2&amp;quot\;:&amp;quot\;dd/mm&amp;quot\;\,&amp;quot\
 ;3&amp;quot\;:1}&quot; data-sheets-formula=&quot;=R[0]C[-1]+R[0]C[1]&quot;&gt;18/05&lt;/td&gt;\n&lt;/tr&gt;\
 n&lt;tr&gt;\n&lt;td data-sheets-value=&quot;{&amp;quot\;1&amp;quot\;:2\,&amp;quot\;2&amp;quot\;:&amp;quot\;R
 eporte de Cierre&amp;quot\;}&quot;&gt;Reporte de Cierre&lt;/td&gt;\n&lt;td data-sheets-value=&quot;{
 &amp;quot\;1&amp;quot\;:2\,&amp;quot\;2&amp;quot\;:&amp;quot\;&amp;Aacute\;rea de Marketing&amp;quot\;
 }&quot;&gt;&amp;Aacute\;rea de Marketing&lt;/td&gt;\n&lt;td data-sheets-value=&quot;{&amp;quot\;1&amp;quot\;
 :3\,&amp;quot\;3&amp;quot\;:44699}&quot; data-sheets-numberformat=&quot;{&amp;quot\;1&amp;quot\;:5\,
 &amp;quot\;2&amp;quot\;:&amp;quot\;dd/mm&amp;quot\;\,&amp;quot\;3&amp;quot\;:1}&quot;&gt;18/05&lt;/td&gt;\n&lt;td d
 ata-sheets-value=&quot;{&amp;quot\;1&amp;quot\;:3\,&amp;quot\;3&amp;quot\;:44702}&quot; data-sheets-
 numberformat=&quot;{&amp;quot\;1&amp;quot\;:5\,&amp;quot\;2&amp;quot\;:&amp;quot\;dd/mm&amp;quot\;\,&amp;qu
 ot\;3&amp;quot\;:1}&quot; data-sheets-formula=&quot;=R[0]C[-1]+R[0]C[1]&quot;&gt;21/05&lt;/td&gt;\n&lt;/t
 r&gt;\n&lt;/tbody&gt;\n&lt;/table&gt;
END:VEVENT
END:VCALENDAR

