BEGIN:VCALENDAR
VERSION:2.0
PRODID:IEEE vTools.Events//EN
CALSCALE:GREGORIAN
BEGIN:VTIMEZONE
TZID:America/Bogota
BEGIN:DAYLIGHT
DTSTART:20380118T221407
TZOFFSETFROM:-0500
TZOFFSETTO:-0500
RRULE:FREQ=YEARLY;BYDAY=3MO;BYMONTH=1
TZNAME:-05
END:DAYLIGHT
BEGIN:STANDARD
DTSTART:19930206T230000
TZOFFSETFROM:-0400
TZOFFSETTO:-0500
RRULE:FREQ=YEARLY;BYDAY=1SA;BYMONTH=2
TZNAME:-05
END:STANDARD
END:VTIMEZONE
BEGIN:VEVENT
DTSTAMP:20220516T180906Z
UID:E069C0D2-613D-4936-8E14-BF98413B8CCF
DTSTART;TZID=America/Bogota:20220513T173000
DTEND;TZID=America/Bogota:20220513T193000
DESCRIPTION:Presentar organización para Inauguración formal del 27 de may
 o.\n\nVirtual: https://events.vtools.ieee.org/m/314547
LOCATION:Virtual: https://events.vtools.ieee.org/m/314547
ORGANIZER:mayra.diaz.10@ieee.org
SEQUENCE:1
SUMMARY:SB Meeting #2 of May 
URL;VALUE=URI:https://events.vtools.ieee.org/m/314547
X-ALT-DESC:Description: &lt;br /&gt;&lt;p&gt;Presentar organizaci&amp;oacute\;n para Inaugu
 raci&amp;oacute\;n formal del 27 de mayo.&lt;/p&gt;
END:VEVENT
END:VCALENDAR

