BEGIN:VCALENDAR
VERSION:2.0
PRODID:IEEE vTools.Events//EN
CALSCALE:GREGORIAN
BEGIN:VTIMEZONE
TZID:Asia/Tokyo
BEGIN:STANDARD
DTSTART:19510909T000000
TZOFFSETFROM:+1000
TZOFFSETTO:+0900
TZNAME:JST
END:STANDARD
END:VTIMEZONE
BEGIN:VEVENT
DTSTAMP:20220621T081322Z
UID:C141DC92-F9A1-4887-A75F-DBA56BC06014
DTSTART;TZID=Asia/Tokyo:20220614T150000
DTEND;TZID=Asia/Tokyo:20220614T170000
DESCRIPTION:LMAG-Tokyo&#39;s Evening Salon Extended on “Space tourism is now 
 going to start: What should we do in Japan?”\n&quot;\nAt 15:00 ~ 17:00 on Jun
 e. 14\, 2022 sponsored by TPC and LMAG of Tokyo Section.\n\nLecturer: Dr. 
 Tadashi Takano\n\nCo-sponsored by: IEEE Tokyo Section\, TPC\n\nSpeaker(s):
  Dr. Tadashi Takano\, \n\nAgenda: \nTalk: Current Status of SiC Power Devi
 ces\n\nAfter a talk from Dr. Takano\, free discussions follow.\n\nSpace to
 urism is now going to start this year by Virgin Galactic. Blue Origin foll
 ows next. Their style is to reach the height about 100 km and return\, so 
 that it is much safer than revolving around the earth. The passengers can 
 enjoy acceleration in the ascending phase\, gravity-free environment at th
 e top\, and views of space and the earth in vacuum through the windows.\n\
 nFrom technical points of view\, a manned space ship should be reused with
  great safety. For passengers\, cloths should be specially designed\, and 
 communication system may be required. Japan can contribute to these items 
 using strong technologies. The speaker would like to share the present sta
 tus with participants\, and discuss what to do in the future.\n\n3-5-8 Shi
 bakoen\, Minato-ku\, Tokyo\, Tokyo\, Japan\, 105-0011\, Virtual: https://e
 vents.vtools.ieee.org/m/314605
LOCATION:3-5-8 Shibakoen\, Minato-ku\, Tokyo\, Tokyo\, Japan\, 105-0011\, V
 irtual: https://events.vtools.ieee.org/m/314605
ORGANIZER:naohisa@kmd.keio.ac.jp
SEQUENCE:3
SUMMARY:LMAG-Tokyo Evening Salon Extended (5th) 
URL;VALUE=URI:https://events.vtools.ieee.org/m/314605
X-ALT-DESC:Description: &lt;br /&gt;&lt;div&gt;&lt;span lang=&quot;EN-US&quot;&gt;&lt;span lang=&quot;EN-US&quot;&gt;LM
 AG-Tokyo&#39;s Evening Salon Extended on &amp;ldquo\;Space tourism is now going to
  start: What should we do in Japan?&amp;rdquo\;&lt;br /&gt;&lt;/span&gt;&lt;/span&gt;&lt;span lang=
 &quot;EN-US&quot;&gt;&quot;&amp;nbsp\;&lt;/span&gt;&lt;/div&gt;\n&lt;div&gt;&lt;span lang=&quot;EN-US&quot;&gt; At 15:00 ~ 17:00 o
 n June. 14\, 2022&amp;nbsp\;&lt;/span&gt;sponsored by TPC and LMAG of Tokyo Section.
 &lt;/div&gt;\n&lt;div&gt;&amp;nbsp\;&lt;/div&gt;\n&lt;div&gt;&lt;span lang=&quot;EN-US&quot;&gt;Lecturer: &amp;nbsp\;Dr. T
 adashi Takano&amp;nbsp\;&lt;/span&gt;&lt;/div&gt;\n&lt;div&gt;\n&lt;p&gt;&amp;nbsp\;&lt;/p&gt;\n&lt;/div&gt;\n&lt;div&gt;&amp;nb
 sp\;&lt;/div&gt;\n&lt;p&gt;&amp;nbsp\;&lt;/p&gt;&lt;br /&gt;&lt;br /&gt;Agenda: &lt;br /&gt;&lt;p&gt;Talk: Current Statu
 s of SiC Power Devices&lt;/p&gt;\n&lt;p&gt;After a talk from Dr. Takano\, free discuss
 ions follow.&amp;nbsp\;&lt;/p&gt;\n&lt;p&gt;Space tourism is now going to start this year 
 by Virgin Galactic. Blue Origin follows next. Their style is to reach the 
 height about 100 km and return\, so that it is much safer than revolving a
 round the earth. The passengers can enjoy acceleration in the ascending ph
 ase\, gravity-free environment at the top\, and views of space and the ear
 th in vacuum through the windows.&lt;/p&gt;\n&lt;p&gt;&amp;nbsp\;From technical points of 
 view\, a manned space ship should be reused with great safety. For passeng
 ers\, cloths should be specially designed\, and communication system may b
 e required. Japan can contribute to these items using strong technologies.
  The speaker would like to share the present status with participants\, an
 d discuss what to do in the future.&lt;/p&gt;\n&lt;p&gt;&amp;nbsp\;&lt;/p&gt;
END:VEVENT
END:VCALENDAR

