BEGIN:VCALENDAR
VERSION:2.0
PRODID:IEEE vTools.Events//EN
CALSCALE:GREGORIAN
BEGIN:VTIMEZONE
TZID:America/New_York
BEGIN:DAYLIGHT
DTSTART:20220313T030000
TZOFFSETFROM:-0500
TZOFFSETTO:-0400
RRULE:FREQ=YEARLY;BYDAY=2SU;BYMONTH=3
TZNAME:EDT
END:DAYLIGHT
BEGIN:STANDARD
DTSTART:20221106T010000
TZOFFSETFROM:-0400
TZOFFSETTO:-0500
RRULE:FREQ=YEARLY;BYDAY=1SU;BYMONTH=11
TZNAME:EST
END:STANDARD
END:VTIMEZONE
BEGIN:VEVENT
DTSTAMP:20220524T094849Z
UID:3F013B80-8CB2-40A1-BDAF-BF0FEC567BD8
DTSTART;TZID=America/New_York:20220519T120000
DTEND;TZID=America/New_York:20220519T130000
DESCRIPTION:This presentation will provide a brief overview and technology 
 update to show how advances in modern\nsemiconductor devices have led to h
 igher ratings and more flexible HVDC and FACTs Systems (SVC\, STATCOM\,\nT
 CSC etc.) We will try and show how pressure to develop higher power semico
 nductors for other industries such as\ntraction drives\, VFDs\, and otter 
 industrial settings\, and how these market pressures have allowed the R&amp;D 
 and\ndevelopment and applications experiments to really push for advances 
 in both the Line Commutated (LCC) and\nVoltage Source (VSC) applications.\
 n\nSpeaker(s): Mark Reynolds\, \n\nVirtual: https://events.vtools.ieee.org
 /m/314732
LOCATION:Virtual: https://events.vtools.ieee.org/m/314732
ORGANIZER:ayhyusein825@gmail.com
SEQUENCE:3
SUMMARY:The Interesting Synergy between High Power Electronics Evolution an
 d the Current Developments in HVDC and FACTs 
URL;VALUE=URI:https://events.vtools.ieee.org/m/314732
X-ALT-DESC:Description: &lt;br /&gt;&lt;p&gt;This presentation will provide a brief ove
 rview and technology update to show how advances in modern&amp;nbsp\;&lt;br /&gt;sem
 iconductor devices have led to higher ratings and more flexible HVDC and F
 ACTs Systems (SVC\, STATCOM\,&amp;nbsp\;&lt;br /&gt;TCSC etc.) We will try and show 
 how pressure to develop higher power semiconductors for other industries s
 uch as&amp;nbsp\;&lt;br /&gt;traction drives\, VFDs\, and otter industrial settings\
 , and how these market pressures have allowed the R&amp;amp\;D and&amp;nbsp\;&lt;br /
 &gt;development and applications experiments to really push for advances in b
 oth the Line Commutated (LCC) and&amp;nbsp\;&lt;br /&gt;Voltage Source (VSC) applica
 tions.&amp;nbsp\;&lt;/p&gt;
END:VEVENT
END:VCALENDAR

