BEGIN:VCALENDAR
VERSION:2.0
PRODID:IEEE vTools.Events//EN
CALSCALE:GREGORIAN
BEGIN:VTIMEZONE
TZID:Asia/Kolkata
BEGIN:STANDARD
DTSTART:19451014T230000
TZOFFSETFROM:+0630
TZOFFSETTO:+0530
TZNAME:IST
END:STANDARD
END:VTIMEZONE
BEGIN:VEVENT
DTSTAMP:20220518T073547Z
UID:20DF47D8-1828-44A1-8497-A98644B9887D
DTSTART;TZID=Asia/Kolkata:20220502T113000
DTEND;TZID=Asia/Kolkata:20220502T133000
DESCRIPTION:RIT-TBI (Incubation Center) launched an Homoeo Herbal Vitalizer
  product .This product is a startup of Mr. Sparsh S. Pradhan B.Tech(CSE) T
 hird Year Student\,of RIT\, Roorkee.This success of Sparsh has been an imp
 ortant contribution of RIT.Roorkee.It is the result of constant mentoring 
 support of RIT-TBI that a good student of today is going to become a succe
 ssful entrepreneur. During the launch\, all the faculty members and all th
 e students present in the program gave good wishes for Future. The doors o
 f the RIT\, Roorkee are always open to every student\, faculty and anyone 
 who wants to do something new in their life. Today’s Aim of RIT is not o
 nly to provide a good quality of education but also to contribute in makin
 g India a self-reliant India.The result of these tireless efforts is that 
 today we are going to give another startup to India.\n\nCo-sponsored by: R
 IT R&amp;D Cell\n\nSpeaker(s): Sparsh S Pradhan\, \n\nAgenda: \nLAUNCH OF A HO
 MOEO HERBAL VITALIZER PRODUCT BY RIT TBI INCUBATION CENTRE.\n\nBldg: Roork
 ee Institute of Technology\, Roorkee Institute of Technology\, 8 km \, Deh
 radun Road \, Puhana \, Roorkee\, Roorkee\, Uttaranchal\, India\, 247667
LOCATION:Bldg: Roorkee Institute of Technology\, Roorkee Institute of Techn
 ology\, 8 km \, Dehradun Road \, Puhana \, Roorkee\, Roorkee\, Uttaranchal
 \, India\, 247667
ORGANIZER:researchcell@ritroorkee.com
SEQUENCE:2
SUMMARY:STARTUPS TALK ON LAUNCH OF A HOMOEO HERBAL VITALIZER PRODUCT
URL;VALUE=URI:https://events.vtools.ieee.org/m/314856
X-ALT-DESC:Description: &lt;br /&gt;&lt;p&gt;RIT-TBI (Incubation Center) launched an Ho
 moeo Herbal Vitalizer product .This product is a startup of Mr. Sparsh S. 
 Pradhan B.Tech(CSE) Third Year Student\,of RIT\, Roorkee.This success of S
 parsh has been an important contribution of RIT.Roorkee.It is the result o
 f constant mentoring support of RIT-TBI that a good student of today is go
 ing to become a successful entrepreneur. During the launch\, all the facul
 ty members and all the students present in the program gave good wishes fo
 r Future. The doors of the RIT\, Roorkee are always open to every student\
 , faculty and anyone who wants to do something new in their life. Today&amp;rs
 quo\;s Aim of RIT is not only to provide a good quality of education but a
 lso to contribute in making India a self-reliant India.The result of these
  tireless efforts is that today we are going to give another startup to In
 dia.&lt;/p&gt;\n&lt;p&gt;&amp;nbsp\;&lt;/p&gt;&lt;br /&gt;&lt;br /&gt;Agenda: &lt;br /&gt;&lt;p&gt;&amp;nbsp\;LAUNCH OF A HO
 MOEO HERBAL VITALIZER PRODUCT BY RIT TBI INCUBATION CENTRE.&lt;/p&gt;
END:VEVENT
END:VCALENDAR

