BEGIN:VCALENDAR
VERSION:2.0
PRODID:IEEE vTools.Events//EN
CALSCALE:GREGORIAN
BEGIN:VTIMEZONE
TZID:America/Sao_Paulo
BEGIN:DAYLIGHT
DTSTART:20380119T001407
TZOFFSETFROM:-0300
TZOFFSETTO:-0300
RRULE:FREQ=YEARLY;BYDAY=3TU;BYMONTH=1
TZNAME:-03
END:DAYLIGHT
BEGIN:STANDARD
DTSTART:20190216T230000
TZOFFSETFROM:-0200
TZOFFSETTO:-0300
RRULE:FREQ=YEARLY;BYDAY=3SA;BYMONTH=2
TZNAME:-03
END:STANDARD
END:VTIMEZONE
BEGIN:VEVENT
DTSTAMP:20220528T002433Z
UID:D2DEBF07-C6FA-4D86-957D-5A3359C7663A
DTSTART;TZID=America/Sao_Paulo:20220527T160000
DTEND;TZID=America/Sao_Paulo:20220527T170000
DESCRIPTION:Nesta palestra conversaremos sobre Machine Learning na prática
 . A ideia é dar uma pequena introdução ao tema e tentar mostrar resulta
 dos práticos com uma rápida seção de demonstração live de alguns dos
  algoritmos e problemas. Os exemplos mostrados ficarão disponíveis e qua
 lquer um poderá executar e testar na sua própria casa.\n\nSpeaker(s): Al
 lan de Medeiros Martins \, \n\nVirtual: https://events.vtools.ieee.org/m/3
 15070
LOCATION:Virtual: https://events.vtools.ieee.org/m/315070
ORGANIZER:danielchaves@ieee.org
SEQUENCE:9
SUMMARY:Machine Learning Na Prática
URL;VALUE=URI:https://events.vtools.ieee.org/m/315070
X-ALT-DESC:Description: &lt;br /&gt;&lt;p&gt;&lt;span data-sheets-value=&quot;{&amp;quot\;1&amp;quot\;:
 2\,&amp;quot\;2&amp;quot\;:&amp;quot\;Nesta palestra conversaremos sobre Machine &amp;bull
 \; Learning na pr&amp;aacute\;tica. A ideia &amp;eacute\; dar uma pequena introdu&amp;
 ccedil\;&amp;atilde\;o ao tema e tentar mostrar resultados pr&amp;aacute\;ticos co
 m uma r&amp;aacute\;pida se&amp;ccedil\;&amp;atilde\;o de demonstra&amp;ccedil\;&amp;atilde\;o
  live de alguns dos algoritmos e problemas. Os exemplos mostrados ficar&amp;at
 ilde\;o dispon&amp;iacute\;veis e qualquer um poder&amp;aacute\; executar e testar
  na sua pr&amp;oacute\;pria casa. &amp;quot\;}&quot; data-sheets-userformat=&quot;{&amp;quot\;2&amp;
 quot\;:513\,&amp;quot\;3&amp;quot\;:{&amp;quot\;1&amp;quot\;:0}\,&amp;quot\;12&amp;quot\;:0}&quot;&gt;Nest
 a palestra conversaremos sobre Machine Learning na pr&amp;aacute\;tica. A idei
 a &amp;eacute\; dar uma pequena introdu&amp;ccedil\;&amp;atilde\;o ao tema e tentar mo
 strar resultados pr&amp;aacute\;ticos com uma r&amp;aacute\;pida se&amp;ccedil\;&amp;atild
 e\;o de demonstra&amp;ccedil\;&amp;atilde\;o live de alguns dos algoritmos e probl
 emas. Os exemplos mostrados ficar&amp;atilde\;o dispon&amp;iacute\;veis e qualquer
  um poder&amp;aacute\; executar e testar na sua pr&amp;oacute\;pria casa. &lt;/span&gt;&lt;
 /p&gt;
END:VEVENT
END:VCALENDAR

