BEGIN:VCALENDAR
VERSION:2.0
PRODID:IEEE vTools.Events//EN
CALSCALE:GREGORIAN
BEGIN:VTIMEZONE
TZID:US/Eastern
BEGIN:DAYLIGHT
DTSTART:20220313T030000
TZOFFSETFROM:-0500
TZOFFSETTO:-0400
RRULE:FREQ=YEARLY;BYDAY=2SU;BYMONTH=3
TZNAME:EDT
END:DAYLIGHT
BEGIN:STANDARD
DTSTART:20221106T010000
TZOFFSETFROM:-0400
TZOFFSETTO:-0500
RRULE:FREQ=YEARLY;BYDAY=1SU;BYMONTH=11
TZNAME:EST
END:STANDARD
END:VTIMEZONE
BEGIN:VEVENT
DTSTAMP:20220620T141712Z
UID:8475FA4B-C80B-40D0-94DA-4A0FB6ECE9D9
DTSTART;TZID=US/Eastern:20220612T103000
DTEND;TZID=US/Eastern:20220612T170000
DESCRIPTION:The [2022 Joint Conference on Electrostatics](http://www.electr
 ostatics.org/jointconferenceonelectrostatics.html)\,\nJune 12-15\, 2022 sp
 onsored by:\n* the Electrostatics Society of America (ESA)\,\n* the IEEE I
 AS Electrostatic Processes Committee (EPC)\,\n* the Institute of Electrost
 atics Japan (IEJ)\,\n* la Société Française d&#39;Electrostatique (SFE)\, a
 nd\n* the Electrostatics Committee\nof the Chinese Physical Society (EC-CP
 S)\n\nare pleased to announce our Tutorial Program\nscheduled for Sunday J
 une 12\, 2022.\n\n2022 Joint Conference on Electrostatics Tutorial Program
 \n\nAGENDA\n\n10:30 AM – 12:00 PM [Electrostatic Instruments and Measure
 ments](https://events.vtools.ieee.org/m/315250)\nby Prof. Mark Horenstein\
 , Boston University\, US and\nProf. Maciej Noras\, University of North Car
 olina at Charlotte\, US\n\n12:00 PM – 1:30 PM Lunch (on your own)\n\n1:3
 0 PM – 3:00 PM [Electrostatic Processes and Technologies](https://events
 .vtools.ieee.org/m/315248)\nby Kelly Robinson\, PE\, PhD\, Electrostatic A
 nswers\, US\n\n3:30 PM – 5:00 PM [Breakdown\, Gas Discharges and Plasmas
 ](https://events.vtools.ieee.org/m/315253)\nby Prof. Shesha Jayaram\, Univ
 ersity of Waterloo\, Canada\nand Prof. Akira Mizuno\, Toyohashi University
  of Technology\, Japan\n\n6:00 PM – 8:00 PM Conference Welcome Reception
  and Registration\n\n*PDH Credit approved (check back for updates)\n\nSpea
 ker(s): Prof. Maciej Noras\, General Chair\, \n\nAgenda: \nJoin us for our
  in-person conference or participate remotely - Don’t miss this great op
 portunity to meet and network with people from around the world to learn m
 ore about electrostatic technologies and recent advances.\n\nRegistration\
 n\nTutorial Registration:\n\n- $25 for all 3 tutorials\n\n*PDH Credit appr
 oved (check back for updates)\n\nHilton Charlotte University Place\, 8629 
 JM Keynes Drive\, Charlotte\, North Carolina\, United States\, 28262\, Vir
 tual: https://events.vtools.ieee.org/m/315247
LOCATION:Hilton Charlotte University Place\, 8629 JM Keynes Drive\, Charlot
 te\, North Carolina\, United States\, 28262\, Virtual: https://events.vtoo
 ls.ieee.org/m/315247
ORGANIZER:Kelly.Robinson@ElectrostaticAnswers.com
SEQUENCE:13
SUMMARY:2022 Joint Conference on Electrostatics Tutorial Program
URL;VALUE=URI:https://events.vtools.ieee.org/m/315247
X-ALT-DESC:Description: &lt;br /&gt;&lt;p&gt;&lt;span style=&quot;font-size: 12pt\;&quot;&gt;The &lt;stron
 g&gt;&lt;a title=&quot;2022 Joint Conference on Electrostatics&quot; href=&quot;http://www.elec
 trostatics.org/jointconferenceonelectrostatics.html&quot; target=&quot;_blank&quot; rel=&quot;
 noopener&quot;&gt;2022 Joint Conference on Electrostatics&lt;/a&gt;\,&lt;/strong&gt; &lt;br /&gt;Jun
 e 12-15\, 2022 sponsored by:&lt;br /&gt;&lt;/span&gt;&lt;span style=&quot;font-size: 12pt\;&quot;&gt;*
  the Electrostatics Society of America (ESA)\,&lt;br /&gt;&lt;/span&gt;&lt;span style=&quot;fo
 nt-size: 12pt\;&quot;&gt;* the IEEE IAS Electrostatic Processes Committee (EPC)\,&lt;
 br /&gt;* the Institute of Electrostatics Japan (IEJ)\,&amp;nbsp\;&lt;br /&gt;* la Soci
 &amp;eacute\;t&amp;eacute\; Fran&amp;ccedil\;aise d&#39;Electrostatique (SFE)\, and&lt;br /&gt;*
  the Electrostatics Committee &lt;br /&gt;&amp;nbsp\; &amp;nbsp\; &amp;nbsp\;of the Chinese 
 Physical Society (EC-CPS)&lt;/span&gt;&lt;/p&gt;\n&lt;p&gt;&lt;span style=&quot;font-size: 12pt\;&quot;&gt;a
 re pleased to announce our Tutorial Program &lt;br /&gt;&lt;/span&gt;&lt;span style=&quot;font
 -size: 12pt\;&quot;&gt;scheduled for Sunday June 12\, 2022. &lt;/span&gt;&lt;/p&gt;\n&lt;p&gt;&lt;stron
 g&gt;&lt;span style=&quot;font-size: 12pt\;&quot;&gt;2022 Joint Conference on Electrostatics 
 Tutorial Program&lt;/span&gt;&lt;/strong&gt;&lt;/p&gt;\n&lt;p&gt;&lt;strong&gt;&lt;span style=&quot;font-size: 1
 2pt\;&quot;&gt;AGENDA&lt;/span&gt;&lt;/strong&gt;&lt;/p&gt;\n&lt;p&gt;&lt;span style=&quot;font-family: arial\;&quot;&gt;&lt;
 strong&gt;10:30 AM &amp;ndash\; 12:00 PM&amp;nbsp\; &lt;a href=&quot;https://events.vtools.ie
 ee.org/m/315250&quot; target=&quot;_blank&quot; rel=&quot;noopener&quot;&gt;Electrostatic Instruments 
 and Measurements&lt;/a&gt;&lt;br /&gt;&lt;/strong&gt;&amp;nbsp\; &amp;nbsp\; &amp;nbsp\; &amp;nbsp\; &amp;nbsp\;
  &amp;nbsp\; &amp;nbsp\; &amp;nbsp\; &amp;nbsp\; &amp;nbsp\; &amp;nbsp\; &amp;nbsp\; &amp;nbsp\; &amp;nbsp\; &amp;
 nbsp\; &amp;nbsp\; &amp;nbsp\; &amp;nbsp\; &amp;nbsp\; by Prof. Mark Horenstein\, Boston U
 niversity\, US and&lt;br /&gt;&amp;nbsp\; &amp;nbsp\; &amp;nbsp\; &amp;nbsp\; &amp;nbsp\; &amp;nbsp\; &amp;n
 bsp\; &amp;nbsp\; &amp;nbsp\; &amp;nbsp\; &amp;nbsp\; &amp;nbsp\; &amp;nbsp\; &amp;nbsp\; &amp;nbsp\; &amp;nbs
 p\; &amp;nbsp\; &amp;nbsp\; &amp;nbsp\; Prof. Maciej Noras\, University of North Carol
 ina at Charlotte\, US&lt;/span&gt;&lt;/p&gt;\n&lt;p&gt;&lt;span style=&quot;font-family: arial\;&quot;&gt;&lt;s
 trong&gt;12:00 PM &amp;ndash\;&amp;nbsp\; 1:30 PM Lunch (on your own)&lt;/strong&gt;&lt;/span&gt;
 &lt;/p&gt;\n&lt;p&gt;&lt;span style=&quot;font-family: arial\;&quot;&gt;&lt;strong&gt;&amp;nbsp\; 1:30 PM &amp;ndash
 \;&amp;nbsp\; 3:00 PM &lt;a href=&quot;https://events.vtools.ieee.org/m/315248&quot; target
 =&quot;_blank&quot; rel=&quot;noopener&quot;&gt;Electrostatic Processes and Technologies&lt;/a&gt;&lt;br /
 &gt;&lt;/strong&gt;&amp;nbsp\; &amp;nbsp\; &amp;nbsp\; &amp;nbsp\; &amp;nbsp\; &amp;nbsp\; &amp;nbsp\; &amp;nbsp\; 
 &amp;nbsp\; &amp;nbsp\; &amp;nbsp\; &amp;nbsp\; &amp;nbsp\; &amp;nbsp\; &amp;nbsp\; &amp;nbsp\; &amp;nbsp\; &amp;n
 bsp\; by Kelly Robinson\, PE\, PhD\, Electrostatic Answers\, US&lt;/span&gt;&lt;/p&gt;
 \n&lt;p&gt;&lt;span style=&quot;font-family: arial\;&quot;&gt;&lt;strong&gt;&amp;nbsp\; 3:30 PM &amp;ndash\; 5
 :00 PM &lt;a href=&quot;https://events.vtools.ieee.org/m/315253&quot; target=&quot;_blank&quot; r
 el=&quot;noopener&quot;&gt;Breakdown\, Gas Discharges and Plasmas&lt;/a&gt;&lt;br /&gt;&lt;/strong&gt;&amp;nb
 sp\; &amp;nbsp\; &amp;nbsp\; &amp;nbsp\; &amp;nbsp\; &amp;nbsp\; &amp;nbsp\; &amp;nbsp\; &amp;nbsp\; &amp;nbsp
 \; &amp;nbsp\; &amp;nbsp\; &amp;nbsp\; &amp;nbsp\; &amp;nbsp\; &amp;nbsp\; &amp;nbsp\; &amp;nbsp\;by Prof.
  Shesha Jayaram\, University of Waterloo\, Canada&lt;br /&gt;&amp;nbsp\; &amp;nbsp\; &amp;nb
 sp\; &amp;nbsp\; &amp;nbsp\; &amp;nbsp\; &amp;nbsp\; &amp;nbsp\; &amp;nbsp\; &amp;nbsp\; &amp;nbsp\; &amp;nbsp
 \; &amp;nbsp\; &amp;nbsp\; &amp;nbsp\; &amp;nbsp\; &amp;nbsp\; &amp;nbsp\;and Prof. Akira Mizuno\,
  Toyohashi University of Technology\, Japan&lt;/span&gt;&lt;/p&gt;\n&lt;p&gt;&lt;span style=&quot;fo
 nt-family: arial\;&quot;&gt;&lt;strong&gt;&amp;nbsp\; 6:00 PM &amp;ndash\; 8:00 PM Conference We
 lcome Reception and Registration&lt;/strong&gt;&lt;/span&gt;&lt;/p&gt;\n&lt;p&gt;&lt;span style=&quot;font
 -family: arial\;&quot;&gt;&lt;strong&gt;*PDH Credit approved (check back for updates)&lt;/s
 trong&gt;&lt;/span&gt;&lt;/p&gt;&lt;br /&gt;&lt;br /&gt;Agenda: &lt;br /&gt;&lt;p&gt;&lt;span style=&quot;font-size: 12pt
 \;&quot;&gt;&lt;strong&gt;Join us for our in-person conference or participate remotely&lt;/
 strong&gt; - Don&amp;rsquo\;t miss this great opportunity to meet and network wit
 h people from around the world to learn more about electrostatic technolog
 ies and recent advances.&amp;nbsp\;&lt;/span&gt;&lt;/p&gt;\n&lt;p&gt;&lt;span style=&quot;text-decoratio
 n: underline\;&quot;&gt;&lt;span style=&quot;font-size: 14pt\; color: #3366ff\;&quot;&gt;&lt;strong&gt;R
 egistration&lt;/strong&gt;&lt;/span&gt;&lt;/span&gt;&lt;/p&gt;\n&lt;p&gt;&lt;strong&gt;&lt;span style=&quot;font-size:
  medium\;&quot;&gt;Tutorial Registration:&lt;/span&gt;&lt;/strong&gt;&lt;/p&gt;\n&lt;ul&gt;\n&lt;li&gt;&lt;span sty
 le=&quot;font-size: medium\;&quot;&gt;$25 for all 3 tutorials&lt;/span&gt;&lt;/li&gt;\n&lt;/ul&gt;\n&lt;p&gt;&lt;s
 pan style=&quot;font-family: arial\;&quot;&gt;&lt;strong&gt;*PDH Credit approved (check back 
 for updates)&lt;/strong&gt;&lt;/span&gt;&lt;/p&gt;
END:VEVENT
END:VCALENDAR

