BEGIN:VCALENDAR
VERSION:2.0
PRODID:IEEE vTools.Events//EN
CALSCALE:GREGORIAN
BEGIN:VTIMEZONE
TZID:America/Santiago
BEGIN:DAYLIGHT
DTSTART:20220911T010000
TZOFFSETFROM:-0400
TZOFFSETTO:-0300
RRULE:FREQ=YEARLY;BYDAY=2SU;BYMONTH=9
TZNAME:-03
END:DAYLIGHT
BEGIN:STANDARD
DTSTART:20220402T230000
TZOFFSETFROM:-0300
TZOFFSETTO:-0400
RRULE:FREQ=YEARLY;BYDAY=1SA;BYMONTH=4
TZNAME:-04
END:STANDARD
END:VTIMEZONE
BEGIN:VEVENT
DTSTAMP:20220615T192312Z
UID:E4525A57-46A1-43E1-8124-910A6E053CF2
DTSTART;TZID=America/Santiago:20220608T113000
DTEND;TZID=America/Santiago:20220608T130000
DESCRIPTION:La IEEE Computer Society Chile\, en conjunto con el Supply Chai
 n Council Chile\, la Escuela de Informática y Telecomunicaciones y el Cen
 tro de Innovación en Transporte y Logística de la Universidad Diego Port
 ales invitan a una charla del ciclo CITYLOG Presenta.\n\nCITYLOG Presenta 
 (2022-II)\n\nTítulo: Omnicanalidad\n\nExpone: Mauricio Vásquez\, Ingenie
 ro Civil Industrial (PUC)\, con experiencia profesional como Gerente de Fu
 llfilment (BlueExpress)\, Gerente Supply Chain (Sparta) y Gerente de Opera
 ciones (MTS). (LinkedIn: https://www.linkedin.com/in/maurovasquez/)\n\nRes
 umen:\n\nOmnicanalidad: Una mejora de 2 dígitos en la última línea de l
 os retailers.\nUna mirada al porqué la omnicanalidad se ha transformado e
 n una prioridad para los retailers\, basada en los procesos de negocio que
  se habilitan y sus impactos esperados.\nIdentificación de los desafíos 
 del negocio\, tecnológicos\, las oportunidades\, y las barreras organizac
 ionales que normalmente se encuentran.\n\nFecha: 8 de junio\, 11:30 horas.
 \n\nLugar: Modo híbrido en Sala de Titulación (sala 305)\, Facultad de I
 ngeniería y Ciencias\, Universidad Diego Portales\, Av. Ejército Liberta
 dor 441\, Santiago y por Zoom.\n\nFormulario de inscripción: https://form
 s.gle/ZtQ5p33yPEMWD2Rt6\n\nCo-sponsored by: Centro de Innovación en Logí
 stica y Transporte y Escuela de Informática y Telecomunicaciones\, Univer
 sidad Diego Portales\n\nSpeaker(s): Mauricio Vásquez\, Ingeniero Civil In
 dustrial (PUC)\, \n\nRoom: 305\, Bldg: Ejército\, Facultad de Ingeniería
  y Ciencias\, Universidad Diego Portales\, Av. Ejército Libertador 441\, 
 Santiago\, Region Metropolitana\, Chile\, Virtual: https://events.vtools.i
 eee.org/m/315364
LOCATION:Room: 305\, Bldg: Ejército\, Facultad de Ingeniería y Ciencias\,
  Universidad Diego Portales\, Av. Ejército Libertador 441\, Santiago\, Re
 gion Metropolitana\, Chile\, Virtual: https://events.vtools.ieee.org/m/315
 364
ORGANIZER:karol.suchan@ieee.org
SEQUENCE:4
SUMMARY:Omnicanalidad
URL;VALUE=URI:https://events.vtools.ieee.org/m/315364
X-ALT-DESC:Description: &lt;br /&gt;&lt;p&gt;La IEEE Computer Society Chile\, en conjun
 to con el Supply Chain Council Chile\, la Escuela de Inform&amp;aacute\;tica y
  Telecomunicaciones y el Centro de Innovaci&amp;oacute\;n en Transporte y Log&amp;
 iacute\;stica de la Universidad Diego Portales invitan a una charla del ci
 clo CITYLOG Presenta.&lt;/p&gt;\n&lt;p&gt;&lt;strong&gt;CITYLOG Presenta (2022-II)&lt;/strong&gt;&lt;
 /p&gt;\n&lt;p&gt;&lt;strong&gt;T&amp;iacute\;tulo:&lt;/strong&gt; Omnicanalidad&lt;/p&gt;\n&lt;p&gt;&lt;strong&gt;Exp
 one:&lt;/strong&gt; Mauricio V&amp;aacute\;squez\, Ingeniero Civil Industrial (PUC)\
 , con experiencia profesional como Gerente de Fullfilment (BlueExpress)\, 
 Gerente Supply Chain (Sparta) y Gerente de Operaciones (MTS). (LinkedIn: &lt;
 a title=&quot;https://www.linkedin.com/in/maurovasquez/&quot; href=&quot;https://www.link
 edin.com/in/maurovasquez/&quot;&gt;https://www.linkedin.com/in/maurovasquez/&lt;/a&gt;)&lt;
 /p&gt;\n&lt;p&gt;&lt;strong&gt;Resumen:&lt;/strong&gt;&lt;/p&gt;\n&lt;p&gt;Omnicanalidad: Una mejora de 2 d
 &amp;iacute\;gitos en la &amp;uacute\;ltima l&amp;iacute\;nea de los retailers.&lt;br /&gt;U
 na mirada al porqu&amp;eacute\; la omnicanalidad se ha transformado en una pri
 oridad para los retailers\, basada en los procesos de negocio que se habil
 itan y sus impactos esperados.&lt;br /&gt;Identificaci&amp;oacute\;n de los desaf&amp;ia
 cute\;os del negocio\, tecnol&amp;oacute\;gicos\, las oportunidades\, y las ba
 rreras organizacionales que normalmente se encuentran.&lt;/p&gt;\n&lt;p&gt;&lt;strong&gt;Fec
 ha:&lt;/strong&gt; 8 de junio\, 11:30 horas.&lt;/p&gt;\n&lt;p&gt;&lt;strong&gt;Lugar:&lt;/strong&gt; Mod
 o h&amp;iacute\;brido en Sala de Titulaci&amp;oacute\;n (sala 305)\, Facultad de I
 ngenier&amp;iacute\;a y Ciencias\, Universidad Diego Portales\, Av. Ej&amp;eacute\
 ;rcito Libertador 441\, Santiago y por Zoom.&lt;/p&gt;\n&lt;p&gt;&lt;strong&gt;Formulario de
  inscripci&amp;oacute\;n:&lt;/strong&gt; &lt;a title=&quot;https://forms.gle/ZtQ5p33yPEMWD2R
 t6&quot; href=&quot;https://forms.gle/ZtQ5p33yPEMWD2Rt6&quot;&gt;https://forms.gle/ZtQ5p33yP
 EMWD2Rt6&lt;/a&gt;&lt;/p&gt;
END:VEVENT
END:VCALENDAR

