BEGIN:VCALENDAR
VERSION:2.0
PRODID:IEEE vTools.Events//EN
CALSCALE:GREGORIAN
BEGIN:VTIMEZONE
TZID:Asia/Kolkata
BEGIN:STANDARD
DTSTART:19451014T230000
TZOFFSETFROM:+0630
TZOFFSETTO:+0530
TZNAME:IST
END:STANDARD
END:VTIMEZONE
BEGIN:VEVENT
DTSTAMP:20220530T090253Z
UID:F145AD35-DDA6-4B56-A64C-A6535CB08273
DTSTART;TZID=Asia/Kolkata:20220408T094700
DTEND;TZID=Asia/Kolkata:20220408T134400
DESCRIPTION:Inaugural event started with classical dance by Sri Harshitha f
 ollowed by lightning lamp. And then chief guests were invited on the Dias.
 \n\nPrincipal sir Dr. J. Praveen gave brief introduction about IEEE and IE
 EE GRIET SBs and their different activities. And then we called upon Mr. S
 rinivas Jasti\, IEEE Hyd. Section chair to give brief introduction about I
 EEE Hyd. Section and guided us in conducting various events. Then Mr. Ranj
 it Pohanekar\, HOD in sales and services in HPS company\, shared his exper
 iences in electrical domain. Then Mr. JVR Ravindra\, IEEE Hyd. Section IES
  Vice Chair addressed students about collaborating with all branch student
 s and coordinate each other to provide more efficient results for upcoming
  challenges. And he told that IEEE is the platform where we can connect wi
 th different types of students. Then Dr. A. Kavitha\, IEEE Hyd. Section CI
 S Secretary told about her experience in IEEE and benefits of being IEEE C
 IS member. Then Mr. Sai Prashant\, IEEE Hyd. Section SAC member talked abo
 ut benefits of IEEE and how IEEE helps students in publishing research pap
 ers. And to make audience more interactive he questioned some students abo
 ut IEEE. Then Mr. Pranay Kashyap\, IEEE Hyd. Section IES Member talked abo
 ut IES and how to explore IES website and benefits of being IES members. T
 hen we launched our respective logos. The chairs of respective student bra
 nches introduced their SB members and briefed about upcoming events from t
 heir respective SBs. At last\, the event got to an end with Dr. Phaneendra
  Babu\, IEEE GRIET branch counselor by giving vote of thanks.\n\nAgenda: \
 nThe following speakers gave their valuable inputs to the IEEE student mem
 bers\n\n-  Srinivas Jasti\nIEEE HYD. SECTION CHAIR - Interim\n-  Ranjit Po
 hanekar\nHOD\, SERVIVE &amp; SALES\, HPS\n-  JVR Ravindra\nIEEE HYD SEC IES VI
 CE CHAIR\n-  P. Chandrasekhar\nIEEE HYD SEC CAS CHAIR - interim\n-  A. Kav
 itha\nIEEE HYD SEC CIS SECRETARY - interim\n-  Sai Prasanth\nIEEE HYD SEC 
 SAC MEMBER - guest\n\nMr. Pranay Kashyap\nIEEE HYD SEC IES MEMBER\n\nHyder
 abad \, Andhra Pradesh\, India
LOCATION:Hyderabad \, Andhra Pradesh\, India
ORGANIZER:bobbaphani@gmail.com
SEQUENCE:1
SUMMARY:Innaguration of IEEE GRIET IES\, CAS and CIS SB Chapters 
URL;VALUE=URI:https://events.vtools.ieee.org/m/315783
X-ALT-DESC:Description: &lt;br /&gt;&lt;table width=&quot;657&quot;&gt;\n&lt;tbody&gt;\n&lt;tr&gt;\n&lt;td width
 =&quot;480&quot;&gt;\n&lt;p&gt;Inaugural event started with classical dance by Sri Harshitha 
 followed by lightning lamp. And then chief guests were invited on the Dias
 .&lt;/p&gt;\n&lt;p&gt;Principal sir Dr. J. Praveen gave brief introduction about IEEE 
 and IEEE GRIET SBs and their different activities. And then we called upon
  Mr. Srinivas Jasti\, IEEE Hyd. Section chair to give brief introduction a
 bout IEEE Hyd. Section and guided us in conducting various events. Then Mr
 . Ranjit Pohanekar\, HOD in sales and services in HPS company\, shared his
  experiences in electrical domain.&amp;nbsp\; Then Mr. JVR Ravindra\, IEEE Hyd
 . Section IES Vice Chair addressed students about collaborating with all b
 ranch students and coordinate each other to provide more efficient results
  for upcoming challenges. And he told that IEEE is the platform where we c
 an connect with different types of students. Then Dr. A. Kavitha\, IEEE Hy
 d. Section CIS Secretary told about her experience in IEEE and benefits of
  being IEEE CIS member. Then Mr. Sai Prashant\, IEEE Hyd. Section SAC memb
 er talked about benefits of IEEE and how IEEE helps students in publishing
  research papers. And to make audience more interactive he questioned some
  students about IEEE. Then Mr. Pranay Kashyap\, IEEE Hyd. Section IES Memb
 er talked about IES and how to explore IES website and benefits of being I
 ES members. Then we launched our respective logos. The chairs of respectiv
 e student branches introduced their SB members and briefed about upcoming 
 events from their respective SBs. At last\, the event got to an end with D
 r. Phaneendra Babu\, IEEE GRIET branch counselor by giving vote of thanks.
 &lt;/p&gt;\n&lt;/td&gt;\n&lt;/tr&gt;\n&lt;/tbody&gt;\n&lt;/table&gt;&lt;br /&gt;&lt;br /&gt;Agenda: &lt;br /&gt;&lt;p&gt;The fol
 lowing speakers gave their valuable inputs to the IEEE student members&lt;/p&gt;
 \n&lt;ol&gt;\n&lt;li&gt;&lt;strong&gt; Srinivas Jasti&lt;/strong&gt;&lt;br /&gt;IEEE HYD. SECTION CHAIR 
 - Interim&amp;nbsp\;&lt;/li&gt;\n&lt;li&gt;&lt;strong&gt; Ranjit Pohanekar&amp;nbsp\;&lt;br /&gt;&lt;/strong&gt;
  HOD\, SERVIVE &amp;amp\; SALES\, HPS&lt;/li&gt;\n&lt;li&gt;&lt;strong&gt; JVR Ravindra&lt;br /&gt;&lt;/s
 trong&gt; IEEE HYD SEC IES VICE CHAIR&amp;nbsp\;&amp;nbsp\;&lt;/li&gt;\n&lt;li&gt;&lt;strong&gt; P. Cha
 ndrasekhar&lt;br /&gt;&lt;/strong&gt; IEEE HYD SEC CAS CHAIR - interim&lt;/li&gt;\n&lt;li&gt;&lt;stro
 ng&gt; A. Kavitha&lt;br /&gt;&lt;/strong&gt; IEEE HYD SEC CIS SECRETARY - interim&amp;nbsp\;&lt;
 /li&gt;\n&lt;li&gt;&lt;strong&gt; Sai Prasanth&lt;br /&gt;&lt;/strong&gt; IEEE HYD SEC SAC MEMBER - g
 uest&amp;nbsp\;&lt;/li&gt;\n&lt;/ol&gt;\n&lt;p&gt;&lt;strong&gt;Mr. Pranay Kashyap&lt;br /&gt;&lt;/strong&gt;&amp;nbsp
 \; IEEE HYD SEC IES MEMBER&lt;/p&gt;
END:VEVENT
END:VCALENDAR

